BEGIN:VCALENDAR
VERSION:2.0
PRODID:-//ちひろ Official Website ～金子みすゞの心を歌う～  CHIHIRO Official Website - MISUZU KANEKO- - ECPv6.15.11//NONSGML v1.0//EN
CALSCALE:GREGORIAN
METHOD:PUBLISH
X-WR-CALNAME:ちひろ Official Website ～金子みすゞの心を歌う～  CHIHIRO Official Website - MISUZU KANEKO-
X-ORIGINAL-URL:https://chihirosound.com
X-WR-CALDESC:ちひろ Official Website ～金子みすゞの心を歌う～  CHIHIRO Official Website - MISUZU KANEKO- のイベント
REFRESH-INTERVAL;VALUE=DURATION:PT1H
X-Robots-Tag:noindex
X-PUBLISHED-TTL:PT1H
BEGIN:VTIMEZONE
TZID:Asia/Tokyo
BEGIN:STANDARD
TZOFFSETFROM:+0900
TZOFFSETTO:+0900
TZNAME:JST
DTSTART:20250101T000000
END:STANDARD
END:VTIMEZONE
BEGIN:VEVENT
DTSTART;TZID=Asia/Tokyo:20260225T110000
DTEND;TZID=Asia/Tokyo:20260225T113000
DTSTAMP:20260420T014738
CREATED:20251113T014048Z
LAST-MODIFIED:20251113T014048Z
UID:23944-1772017200-1772019000@chihirosound.com
SUMMARY:Radio「みすゞさんと明るいほうへ」
DESCRIPTION:💐Radio・ちひろレギュラー全国放送番組💐\n金子みすゞの詩の朗読・みすゞヒストリー・放送各地のおススメの〇〇・リスナーメッセージ等 \nちひろがお届けする ❤ 30分番組です♪ \n  \n●番組名：　『みすゞさんと明るいほうへ』　　番組ホームページはこちら \n●パーソナリティ：　ちひろ \n  \n●レギュラー放送時間：　 \n☆毎週水曜日 11：00～／FM-NANAKO、FM AQUA、COME ON！FM、しゅうなんFM \n　　　　　　 11：30～／FMはつかいち　　 \n☆毎週土曜日 朝9：00～／FMわっしょい \n★毎週日曜日 朝5：25～／全国放送（全国のコミュニティFM） \n☆毎週月曜日 20：30～／ULTRA FM \n　　　　　　 21：30～／KOCOラジ＜郡山コミュニティ放送＞　 \n  \n●再放送：　FM-NANAKO／毎週土曜日 15：00～　　FM AQUA／毎週日曜日 11：00～ \n  \n●周波数：　JCBA（全国のコミュニティFM） \n●インターネットで聴く：　※全国どこでもインターネットでラジオが聴けるページです。 \n■JCBAインターネットサイマルラジオで聴く \n  \n中国地区の「COME ON! FM」  or  「しゅうなんFM」　の　「LISTEN♪」　をクリックしてください♪ \n■COME ON! FMをインターネットで聴く \n■FMはつかいちをインターネットで聴く \n■FMわっしょいをインターネットで聴く \n■ULTRA FMをインターネットで聴く \n  \n■サイマルラジオで聴く \n東北地区の「郡山コミュニティ放送」　の　「放送を聴く」　をクリックしてください♪ \n■KOCOラジ＜郡山コミュニティ放送＞をインターネットで聴く \n  \n●リクエスト＆メッセージ🎵：　番組フォーマット　or　misuzufm.0407@gmail.com \n 
URL:https://chihirosound.com/event/23944
CATEGORIES:オススメ,ラジオ
END:VEVENT
BEGIN:VEVENT
DTSTART;TZID=Asia/Tokyo:20260225T110000
DTEND;TZID=Asia/Tokyo:20260225T114500
DTSTAMP:20260420T014738
CREATED:20251113T022558Z
LAST-MODIFIED:20260210T052629Z
UID:23962-1772017200-1772019900@chihirosound.com
SUMMARY:Concert〔山口県〕
DESCRIPTION:【Title】ちひろコンサート \n●と　き：　2月25日（水） \n●ところ：　長門市立仙崎小学校 体育館（山口県長門市仙崎1230） \n※会場の地図はこちら \n●時　間：　11：00～11：45 \n●対　象：　児童、教職員、保護者、地域の方どなたでもOK \n●入場料：　無料 \n●主　催：　長門市立仙崎小学校
URL:https://chihirosound.com/event/23962
LOCATION:長門市立仙崎小学校\, 山口県長門市仙崎新屋敷町１２３７\, 長門市\, 山口県\, 7594106\, 日本
CATEGORIES:コンサート
END:VEVENT
END:VCALENDAR