BEGIN:VCALENDAR
VERSION:2.0
PRODID:-//ちひろ Official Website ～金子みすゞの心を歌う～  CHIHIRO Official Website - MISUZU KANEKO- - ECPv6.15.11//NONSGML v1.0//EN
CALSCALE:GREGORIAN
METHOD:PUBLISH
X-ORIGINAL-URL:https://chihirosound.com
X-WR-CALDESC:ちひろ Official Website ～金子みすゞの心を歌う～  CHIHIRO Official Website - MISUZU KANEKO- のイベント
REFRESH-INTERVAL;VALUE=DURATION:PT1H
X-Robots-Tag:noindex
X-PUBLISHED-TTL:PT1H
BEGIN:VTIMEZONE
TZID:Asia/Tokyo
BEGIN:STANDARD
TZOFFSETFROM:+0900
TZOFFSETTO:+0900
TZNAME:JST
DTSTART:20250101T000000
END:STANDARD
END:VTIMEZONE
BEGIN:VEVENT
DTSTART;TZID=Asia/Tokyo:20260221T133000
DTEND;TZID=Asia/Tokyo:20260221T194000
DTSTAMP:20260420T014731
CREATED:20260211T081136Z
LAST-MODIFIED:20260211T081403Z
UID:24578-1771680600-1771702800@chihirosound.com
SUMMARY:Stage【東京都渋谷区】
DESCRIPTION:【Title】SAKANA & JAPAN FESTIVAL2026\n魚ジャパンフェス  in 代々木公園　ちひろコンサート \n【同時開催】ふくしまスイーツフェスティバル\n  \n●と　き：　2月21日（土） \n●ところ：　代々木公園（東京都渋谷区代々木神園町2-1） \n※会場の地図はこちら \n●時　間：　10：00～18：00 ※雨天決行・荒天中止 \n　　　  　 　13：30～／ちひろステージ（野外ステージ） \n　　　　   　19：10～／ちひろステージ（けやきステージ） \n  \n　　※詳しい出演スケジュールはこちら \n●対　象：　どなたでもOK \n●入場料：　無料 \n●主　催：　SAKANA&JAPAN FESTIVAL実行委員会　／　発見！ふくしまお魚まつり実行委員会 \n●後　援：　水産庁　／　復興庁、経済産業省、福島県 \nPDFはこちら \n \n \n \n \n \n \n 
URL:https://chihirosound.com/event/24578
LOCATION:代々木公園\, 東京都渋谷区代々木神園町２−１\, 渋谷区\, 東京都\, 151-0052\, 日本
CATEGORIES:オススメ,コンサート
ATTACH;FMTTYPE=image/jpeg:https://chihirosound.com/wp-content/uploads/2026/02/92d99e78536b661680048e99ce1fe120.jpg
END:VEVENT
END:VCALENDAR