BEGIN:VCALENDAR
VERSION:2.0
PRODID:-//ちひろ Official Website ～金子みすゞの心を歌う～  CHIHIRO Official Website - MISUZU KANEKO- - ECPv6.15.11//NONSGML v1.0//EN
CALSCALE:GREGORIAN
METHOD:PUBLISH
X-WR-CALNAME:ちひろ Official Website ～金子みすゞの心を歌う～  CHIHIRO Official Website - MISUZU KANEKO-
X-ORIGINAL-URL:https://chihirosound.com
X-WR-CALDESC:ちひろ Official Website ～金子みすゞの心を歌う～  CHIHIRO Official Website - MISUZU KANEKO- のイベント
REFRESH-INTERVAL;VALUE=DURATION:PT1H
X-Robots-Tag:noindex
X-PUBLISHED-TTL:PT1H
BEGIN:VTIMEZONE
TZID:Asia/Tokyo
BEGIN:STANDARD
TZOFFSETFROM:+0900
TZOFFSETTO:+0900
TZNAME:JST
DTSTART:20250101T000000
END:STANDARD
END:VTIMEZONE
BEGIN:VEVENT
DTSTART;TZID=Asia/Tokyo:20260220T103500
DTEND;TZID=Asia/Tokyo:20260220T112000
DTSTAMP:20260420T014738
CREATED:20260210T051117Z
LAST-MODIFIED:20260216T031253Z
UID:24566-1771583700-1771586400@chihirosound.com
SUMMARY:Concert〔東京都大田区〕
DESCRIPTION:【Title】公開講座「金子みすゞの心とともに」ちひろ～世界一優しいメッセージ～\n  \nと　き：　2月20日（金） \nところ：　大田区立多摩川小学校 体育館（東京都大田区矢口3丁目26-25） \n※会場の地図はこちら \n時　間：　10：35～11：20 \n対　象：　児童5、6年生、保護者、教職員、地域の方 \n主　催：　大田区立多摩川小学校
URL:https://chihirosound.com/event/24566
LOCATION:大田区立多摩川小学校\, 東京都大田区矢口３丁目２６−２５\, 大田区\, 東京都\, 146-0093\, Japan
CATEGORIES:コンサート
END:VEVENT
END:VCALENDAR