BEGIN:VCALENDAR
VERSION:2.0
PRODID:-//ちひろ Official Website ～金子みすゞの心を歌う～  CHIHIRO Official Website - MISUZU KANEKO- - ECPv6.15.11//NONSGML v1.0//EN
CALSCALE:GREGORIAN
METHOD:PUBLISH
X-ORIGINAL-URL:https://chihirosound.com
X-WR-CALDESC:ちひろ Official Website ～金子みすゞの心を歌う～  CHIHIRO Official Website - MISUZU KANEKO- のイベント
REFRESH-INTERVAL;VALUE=DURATION:PT1H
X-Robots-Tag:noindex
X-PUBLISHED-TTL:PT1H
BEGIN:VTIMEZONE
TZID:Asia/Tokyo
BEGIN:STANDARD
TZOFFSETFROM:+0900
TZOFFSETTO:+0900
TZNAME:JST
DTSTART:20250101T000000
END:STANDARD
END:VTIMEZONE
BEGIN:VEVENT
DTSTART;TZID=Asia/Tokyo:20260127T160000
DTEND;TZID=Asia/Tokyo:20260127T170000
DTSTAMP:20260420T032016
CREATED:20260109T044717Z
LAST-MODIFIED:20260126T074627Z
UID:24234-1769529600-1769533200@chihirosound.com
SUMMARY:Radio〔全国26局ネット〕
DESCRIPTION:【Title】ニッポン放送「あなたにハッピーメロディ」ちひろ 電話出演！\n●と　き：　1月27日（火） \n●時　間：　16：00～17：00の間の10分番組 \n●ラジオ局：　ニッポン放送 \n●放送受信エリア：　 \n青森放送 　　　16:35～ \nIBC岩手放送      16:50～ \n秋田放送 　　　16:20～ \n山形放送  　　 16:50～ \nラジオ福島 　　16:50～ \n新潟放送 　　　16:50～ \n信越放送㈱ 　　16:50～ \n山梨放送 　　　16:40～ \n北日本放送㈱ 　16:50～ \n北陸放送㈱ 　　16:35～ \n福井放送㈱ 　　16:50～ \n静岡放送㈱ 　　16:50～ \n和歌山放送 　　16:50～ \n山陰放送 　　　16:45～ \nRSK山陽放送 　16:50～ \n山口放送 　　　16:50～ \n四国放送 　　　16:50～ \n西日本放送 　　16:50～ \n南海放送 　　　16:20～ \n高知放送 　　　16:50～ \n長崎放送 　　　16:30～ \n熊本放送 　　　16:50～ \n大分放送 　　　16:15～ \n宮崎放送 　　　16:40～ \n南日本放送　　 16:35～ \nラジオ沖縄 　　16:45～ \nradikoに対応している局では、リアルタイムの他に、放送後1週間聴き直しも可能です！ \nradikoで聴かれた方は、シェア機能で、ぜひお友達にも勧めてくださいね！ \n●radiko：　こちらから \nパソコン・スマートフォン・タブレットなどで、全国どこでもお聴きいただけるサービスです。
URL:https://chihirosound.com/event/24234
CATEGORIES:オススメ,ラジオ
END:VEVENT
END:VCALENDAR