BEGIN:VCALENDAR
VERSION:2.0
PRODID:-//ちひろ Official Website ～金子みすゞの心を歌う～  CHIHIRO Official Website - MISUZU KANEKO- - ECPv6.15.11//NONSGML v1.0//EN
CALSCALE:GREGORIAN
METHOD:PUBLISH
X-ORIGINAL-URL:https://chihirosound.com
X-WR-CALDESC:ちひろ Official Website ～金子みすゞの心を歌う～  CHIHIRO Official Website - MISUZU KANEKO- のイベント
REFRESH-INTERVAL;VALUE=DURATION:PT1H
X-Robots-Tag:noindex
X-PUBLISHED-TTL:PT1H
BEGIN:VTIMEZONE
TZID:Asia/Tokyo
BEGIN:STANDARD
TZOFFSETFROM:+0900
TZOFFSETTO:+0900
TZNAME:JST
DTSTART:20250101T000000
END:STANDARD
END:VTIMEZONE
BEGIN:VEVENT
DTSTART;TZID=Asia/Tokyo:20260114T040000
DTEND;TZID=Asia/Tokyo:20260114T050000
DTSTAMP:20260420T032015
CREATED:20260113T023209Z
LAST-MODIFIED:20260113T023249Z
UID:24280-1768363200-1768366800@chihirosound.com
SUMMARY:NHK「ラジオ深夜便」
DESCRIPTION:【Title】NHK「ラジオ深夜便」\n2025年10月17日（金）に中国5県で放送されたNHK「中国！ちゅーもく！ラジオYAMAGUTIC」が \n全国放送のNHK「ラジオ深夜便」で放送されます。 \n  \n岩国市出身の作家・宇野千代 特集！芥川賞作家・綿矢りさ さんをゲストに迎えお届け！ \n宇野千代は2026年秋のNHK連続テレビ小説「ブラッサム」のモデルです！ \n  \n●と　き：　1月14日（水） \n●時　間：　午前4：00台 \n●ラジオ局：　NHKラジオ第1 \n●番　組：　ラジオ深夜便 \n  \n●放送受信エリア：　全国 \n  \n●インターネットラジオ：　全国でお聴きいただけます！　　らじる★らじる \nパソコン・スマートフォン・タブレットなどで、全国どこでもお聴きいただけるサービスです。 \n  \n【聴取方法】＜スマートフォン・タブレットの場合は、まずアプリ（無料）をダウンロードしてください＞ \n■らじる★らじる にアクセス　→　ラジオ第1（R1） をクリック　→　放送局を選択　→　広島 \n※詳しくはこちら \n  \n●出　演：　NHK  長野亮 アナウンサー、ちひろ　 \n●ゲスト：　綿矢りさ さん（小説家・芥川賞作家）
URL:https://chihirosound.com/event/24280
CATEGORIES:NHK,オススメ,ラジオ
END:VEVENT
BEGIN:VEVENT
DTSTART;TZID=Asia/Tokyo:20260114T110000
DTEND;TZID=Asia/Tokyo:20260114T113000
DTSTAMP:20260420T032015
CREATED:20251111T065538Z
LAST-MODIFIED:20251111T065538Z
UID:23917-1768388400-1768390200@chihirosound.com
SUMMARY:Radio「みすゞさんと明るいほうへ」
DESCRIPTION:💐Radio・ちひろレギュラー全国放送番組💐\n金子みすゞの詩の朗読・みすゞヒストリー・放送各地のおススメの〇〇・リスナーメッセージ等 \nちひろがお届けする ❤ 30分番組です♪ \n  \n●番組名：　『みすゞさんと明るいほうへ』　　番組ホームページはこちら \n●パーソナリティ：　ちひろ \n  \n●レギュラー放送時間：　 \n☆毎週水曜日 11：00～／FM-NANAKO、FM AQUA、COME ON！FM、しゅうなんFM \n　　　　　　 11：30～／FMはつかいち　　 \n☆毎週土曜日 朝9：00～／FMわっしょい \n★毎週日曜日 朝5：25～／全国放送（全国のコミュニティFM） \n☆毎週月曜日 20：30～／ULTRA FM \n　　　　　　 21：30～／KOCOラジ＜郡山コミュニティ放送＞　 \n  \n●再放送：　FM-NANAKO／毎週土曜日 15：00～　　FM AQUA／毎週日曜日 11：00～ \n  \n●周波数：　JCBA（全国のコミュニティFM） \n●インターネットで聴く：　※全国どこでもインターネットでラジオが聴けるページです。 \n■JCBAインターネットサイマルラジオで聴く \n  \n中国地区の「COME ON! FM」  or  「しゅうなんFM」　の　「LISTEN♪」　をクリックしてください♪ \n■COME ON! FMをインターネットで聴く \n■FMはつかいちをインターネットで聴く \n■FMわっしょいをインターネットで聴く \n■ULTRA FMをインターネットで聴く \n  \n■サイマルラジオで聴く \n東北地区の「郡山コミュニティ放送」　の　「放送を聴く」　をクリックしてください♪ \n■KOCOラジ＜郡山コミュニティ放送＞をインターネットで聴く \n  \n●リクエスト＆メッセージ🎵：　番組フォーマット　or　misuzufm.0407@gmail.com \n 
URL:https://chihirosound.com/event/23917
CATEGORIES:オススメ,ラジオ
END:VEVENT
BEGIN:VEVENT
DTSTART;TZID=Asia/Tokyo:20260114T181500
DTEND;TZID=Asia/Tokyo:20260114T183500
DTSTAMP:20260420T032015
CREATED:20260113T023100Z
LAST-MODIFIED:20260113T023100Z
UID:24283-1768414500-1768415700@chihirosound.com
SUMMARY:Radio〔福島県〕
DESCRIPTION:【Title】ULTRA FM（福島県須賀川市）ちひろ 電話ゲスト出演\n●と　き：　1月14日（水） \n●時　間：　18：15～18：35 \n●ラジオ局：　ULTRA FM \n●番　組：　『サンセットRADIO』 \n●パーソナリティ：　浅野 敦子 さん \n●周波数：　86.8MHz \n●放送エリア：　須賀川市及び周辺エリア \n●インターネットで聴く：　サイマルラジオ \n※全国どこでもインターネットでラジオが聴けるページです。 \n●リクエスト＆メッセージ：　メールはこちら　　F A X ＜0248-63-7003＞
URL:https://chihirosound.com/event/24283
CATEGORIES:オススメ,ラジオ
END:VEVENT
END:VCALENDAR