BEGIN:VCALENDAR
VERSION:2.0
PRODID:-//ちひろ Official Website ～金子みすゞの心を歌う～  CHIHIRO Official Website - MISUZU KANEKO- - ECPv6.15.11//NONSGML v1.0//EN
CALSCALE:GREGORIAN
METHOD:PUBLISH
X-WR-CALNAME:ちひろ Official Website ～金子みすゞの心を歌う～  CHIHIRO Official Website - MISUZU KANEKO-
X-ORIGINAL-URL:https://chihirosound.com
X-WR-CALDESC:ちひろ Official Website ～金子みすゞの心を歌う～  CHIHIRO Official Website - MISUZU KANEKO- のイベント
REFRESH-INTERVAL;VALUE=DURATION:PT1H
X-Robots-Tag:noindex
X-PUBLISHED-TTL:PT1H
BEGIN:VTIMEZONE
TZID:Asia/Tokyo
BEGIN:STANDARD
TZOFFSETFROM:+0900
TZOFFSETTO:+0900
TZNAME:JST
DTSTART:20240101T000000
END:STANDARD
END:VTIMEZONE
BEGIN:VEVENT
DTSTART;TZID=Asia/Tokyo:20251217T050000
DTEND;TZID=Asia/Tokyo:20251217T053000
DTSTAMP:20260420T062015
CREATED:20251203T081117Z
LAST-MODIFIED:20251203T081117Z
UID:23997-1765947600-1765949400@chihirosound.com
SUMMARY:BS-TV〔全国放送〕
DESCRIPTION:【Title】BS日テレ『令和歌謡塾』ちひろ出演！\n  \n●と　き：　12月17日（水） \n●時　間：　朝5：00～5：30 \n●放送局：　BS日テレ \n●番組名：　『令和歌謡塾』 \n●番組MC：　彩青さん　望月琉叶さん \n●放送エリア：　全国放送（BS日テレ） \n●発売記念コメント映像：　こちらから \n＊歌い手直伝の「歌唱ワンポイントレッスン」もありますので、ぜひご覧ください♪
URL:https://chihirosound.com/event/23997
CATEGORIES:オススメ,テレビ
END:VEVENT
BEGIN:VEVENT
DTSTART;TZID=Asia/Tokyo:20251217T110000
DTEND;TZID=Asia/Tokyo:20251217T113000
DTSTAMP:20260420T062015
CREATED:20250702T052402Z
LAST-MODIFIED:20250702T052402Z
UID:23073-1765969200-1765971000@chihirosound.com
SUMMARY:Radio「みすゞさんと明るいほうへ」
DESCRIPTION:💐Radio・ちひろレギュラー全国放送番組💐\n金子みすゞの詩の朗読・みすゞヒストリー・放送各地のおススメの〇〇・リスナーメッセージ等 \nちひろがお届けする ❤ 30分番組です♪ \n  \n●番組名：　『みすゞさんと明るいほうへ』　　番組ホームページはこちら \n●パーソナリティ：　ちひろ \n  \n●レギュラー放送時間：　 \n☆毎週水曜日 11：00～／FM-NANAKO、FM AQUA、COME ON！FM、しゅうなんFM \n　　　　　　 11：30～／FMはつかいち　　13：00～／FMスマイルウエ～ブ \n☆毎週土曜日 朝9：00～／FMわっしょい \n★毎週日曜日 朝5：25～／全国放送（全国のコミュニティFM） \n☆毎週月曜日 20：30～／ULTRA FM \n　　　　　　 21：30～／KOCOラジ＜郡山コミュニティ放送＞　 \n  \n●再放送：　FM-NANAKO／毎週土曜日 15：00～　　FM AQUA／毎週日曜日 11：00～ \n  \n●周波数：　JCBA（全国のコミュニティFM） \n●インターネットで聴く：　※全国どこでもインターネットでラジオが聴けるページです。 \n■JCBAインターネットサイマルラジオで聴く \n  \n中国地区の「COME ON! FM」  or  「しゅうなんFM」　の　「LISTEN♪」　をクリックしてください♪ \n■COME ON! FMをインターネットで聴く \n■FMはつかいちをインターネットで聴く \n■FMスマイルウエ～ブをインターネットで聴く \n■FMわっしょいをインターネットで聴く \n■ULTRA FMをインターネットで聴く \n  \n■サイマルラジオで聴く \n東北地区の「郡山コミュニティ放送」　の　「放送を聴く」　をクリックしてください♪ \n■KOCOラジ＜郡山コミュニティ放送＞をインターネットで聴く \n  \n●リクエスト＆メッセージ🎵：　番組フォーマット　or　misuzufm.0407@gmail.com \n 
URL:https://chihirosound.com/event/23073
CATEGORIES:オススメ,ラジオ
END:VEVENT
BEGIN:VEVENT
DTSTART;TZID=Asia/Tokyo:20251217T183000
DTEND;TZID=Asia/Tokyo:20251217T195000
DTSTAMP:20260420T062015
CREATED:20250809T074956Z
LAST-MODIFIED:20251111T054314Z
UID:23221-1765996200-1766001000@chihirosound.com
SUMMARY:Concert〔福岡県〕
DESCRIPTION:【Title】「川崎町人権講演会」ちひろ人権コンサート\nみんなちがって、みんないい。 ～金子みすゞの心とともに～ \n  \n●と　き：　12月17日（水） \n●ところ：　川崎町勤労青少年ホール（福岡県田川郡川崎町田原772-1）\n※地図はこちら \n●時　間：　開場／17：30　開演／18：00　ちひろコンサート／18：30 \n●対　象：　どなたでもOK \n●入場料：　無料 \n●手話通訳：　あり \n●託　児：　あり \n  \n●主　催：　川崎町　川崎町教育委員会　川崎町人権・同和教育推進協議会 \n●お問い合わせ：　人権推進課（隣保館内）　TEL　0947-73-3277 \n  \nPDFはこちら
URL:https://chihirosound.com/event/23221
LOCATION:川崎町勤労青少年ホール\, 福岡県田川郡川崎町田原772-1\, 田川郡川崎町\, 福岡県\, 827-0004\, Japan
CATEGORIES:オススメ,コンサート
ATTACH;FMTTYPE=image/jpeg:https://chihirosound.com/wp-content/uploads/2025/08/738a8ce97e33d2e2a79092f9191eaef3.jpg
END:VEVENT
END:VCALENDAR