BEGIN:VCALENDAR
VERSION:2.0
PRODID:-//ちひろ Official Website ～金子みすゞの心を歌う～  CHIHIRO Official Website - MISUZU KANEKO- - ECPv6.15.11//NONSGML v1.0//EN
CALSCALE:GREGORIAN
METHOD:PUBLISH
X-ORIGINAL-URL:https://chihirosound.com
X-WR-CALDESC:ちひろ Official Website ～金子みすゞの心を歌う～  CHIHIRO Official Website - MISUZU KANEKO- のイベント
REFRESH-INTERVAL;VALUE=DURATION:PT1H
X-Robots-Tag:noindex
X-PUBLISHED-TTL:PT1H
BEGIN:VTIMEZONE
TZID:Asia/Tokyo
BEGIN:STANDARD
TZOFFSETFROM:+0900
TZOFFSETTO:+0900
TZNAME:JST
DTSTART:20240101T000000
END:STANDARD
END:VTIMEZONE
BEGIN:VEVENT
DTSTART;TZID=Asia/Tokyo:20251211T140000
DTEND;TZID=Asia/Tokyo:20251211T153000
DTSTAMP:20260420T062009
CREATED:20251205T002002Z
LAST-MODIFIED:20251205T002002Z
UID:24004-1765461600-1765467000@chihirosound.com
SUMMARY:講座〔広島県〕
DESCRIPTION:【Title】企業研修会 ちひろ講座 \n●と　き：　12月11日（木） \n●ところ：　広島県 \n●時　間：　14：00～ \n●対　象：　関係者のみ
URL:https://chihirosound.com/event/24004
CATEGORIES:講演
END:VEVENT
END:VCALENDAR