BEGIN:VCALENDAR
VERSION:2.0
PRODID:-//ちひろ Official Website ～金子みすゞの心を歌う～  CHIHIRO Official Website - MISUZU KANEKO- - ECPv6.15.11//NONSGML v1.0//EN
CALSCALE:GREGORIAN
METHOD:PUBLISH
X-WR-CALNAME:ちひろ Official Website ～金子みすゞの心を歌う～  CHIHIRO Official Website - MISUZU KANEKO-
X-ORIGINAL-URL:https://chihirosound.com
X-WR-CALDESC:ちひろ Official Website ～金子みすゞの心を歌う～  CHIHIRO Official Website - MISUZU KANEKO- のイベント
REFRESH-INTERVAL;VALUE=DURATION:PT1H
X-Robots-Tag:noindex
X-PUBLISHED-TTL:PT1H
BEGIN:VTIMEZONE
TZID:Asia/Tokyo
BEGIN:STANDARD
TZOFFSETFROM:+0900
TZOFFSETTO:+0900
TZNAME:JST
DTSTART:20240101T000000
END:STANDARD
END:VTIMEZONE
BEGIN:VEVENT
DTSTART;TZID=Asia/Tokyo:20251206T132500
DTEND;TZID=Asia/Tokyo:20251206T143500
DTSTAMP:20260420T062015
CREATED:20250809T074522Z
LAST-MODIFIED:20251205T145128Z
UID:23214-1765027500-1765031700@chihirosound.com
SUMMARY:Concert〔徳島県〕
DESCRIPTION:【Title】第52回 徳島市人権教育・啓発研究集会 \nちひろコンサート  みんなちがって、みんないい。～金子みすゞの心とともに～ \n●と　き：　12月6日（土） \n●ところ：　ふれあい健康館（徳島市生涯福祉センタ―）<徳島県徳島市沖浜東２丁目１６番地> \n※会場の地図はこちら \n●時　間：　13:25～14:35 \n●対　象：　関係者、一般の方 \n●入場料：　無料 \nPDFはこちら \n \n 
URL:https://chihirosound.com/event/23214
LOCATION:ふれあい健康館\, 徳島県徳島市沖浜東２丁目１６−１６\, 徳島市\, 徳島県\, 770-8053\, Japan
CATEGORIES:オススメ,コンサート
ATTACH;FMTTYPE=image/jpeg:https://chihirosound.com/wp-content/uploads/2025/08/4d33aeeaa6adf71aef06a9cd023950ab-scaled.jpg
END:VEVENT
END:VCALENDAR