BEGIN:VCALENDAR
VERSION:2.0
PRODID:-//ちひろ Official Website ～金子みすゞの心を歌う～  CHIHIRO Official Website - MISUZU KANEKO- - ECPv6.15.11//NONSGML v1.0//EN
CALSCALE:GREGORIAN
METHOD:PUBLISH
X-WR-CALNAME:ちひろ Official Website ～金子みすゞの心を歌う～  CHIHIRO Official Website - MISUZU KANEKO-
X-ORIGINAL-URL:https://chihirosound.com
X-WR-CALDESC:ちひろ Official Website ～金子みすゞの心を歌う～  CHIHIRO Official Website - MISUZU KANEKO- のイベント
REFRESH-INTERVAL;VALUE=DURATION:PT1H
X-Robots-Tag:noindex
X-PUBLISHED-TTL:PT1H
BEGIN:VTIMEZONE
TZID:Asia/Tokyo
BEGIN:STANDARD
TZOFFSETFROM:+0900
TZOFFSETTO:+0900
TZNAME:JST
DTSTART:20240101T000000
END:STANDARD
END:VTIMEZONE
BEGIN:VEVENT
DTSTART;TZID=Asia/Tokyo:20251126T110000
DTEND;TZID=Asia/Tokyo:20251126T113000
DTSTAMP:20260420T073950
CREATED:20250702T052121Z
LAST-MODIFIED:20250702T052121Z
UID:23067-1764154800-1764156600@chihirosound.com
SUMMARY:Radio「みすゞさんと明るいほうへ」
DESCRIPTION:💐Radio・ちひろレギュラー全国放送番組💐\n金子みすゞの詩の朗読・みすゞヒストリー・放送各地のおススメの〇〇・リスナーメッセージ等 \nちひろがお届けする ❤ 30分番組です♪ \n  \n●番組名：　『みすゞさんと明るいほうへ』　　番組ホームページはこちら \n●パーソナリティ：　ちひろ \n  \n●レギュラー放送時間：　 \n☆毎週水曜日 11：00～／FM-NANAKO、FM AQUA、COME ON！FM、しゅうなんFM \n　　　　　　 11：30～／FMはつかいち　　13：00～／FMスマイルウエ～ブ \n☆毎週土曜日 朝9：00～／FMわっしょい \n★毎週日曜日 朝5：25～／全国放送（全国のコミュニティFM） \n☆毎週月曜日 20：30～／ULTRA FM \n　　　　　　 21：30～／KOCOラジ＜郡山コミュニティ放送＞　 \n  \n●再放送：　FM-NANAKO／毎週土曜日 15：00～　　FM AQUA／毎週日曜日 11：00～ \n  \n●周波数：　JCBA（全国のコミュニティFM） \n●インターネットで聴く：　※全国どこでもインターネットでラジオが聴けるページです。 \n■JCBAインターネットサイマルラジオで聴く \n  \n中国地区の「COME ON! FM」  or  「しゅうなんFM」　の　「LISTEN♪」　をクリックしてください♪ \n■COME ON! FMをインターネットで聴く \n■FMはつかいちをインターネットで聴く \n■FMスマイルウエ～ブをインターネットで聴く \n■FMわっしょいをインターネットで聴く \n■ULTRA FMをインターネットで聴く \n  \n■サイマルラジオで聴く \n東北地区の「郡山コミュニティ放送」　の　「放送を聴く」　をクリックしてください♪ \n■KOCOラジ＜郡山コミュニティ放送＞をインターネットで聴く \n  \n●リクエスト＆メッセージ🎵：　番組フォーマット　or　misuzufm.0407@gmail.com \n 
URL:https://chihirosound.com/event/23067
CATEGORIES:オススメ,ラジオ
END:VEVENT
BEGIN:VEVENT
DTSTART;TZID=Asia/Tokyo:20251126T180000
DTEND;TZID=Asia/Tokyo:20251126T210000
DTSTAMP:20260420T073950
CREATED:20250905T022108Z
LAST-MODIFIED:20250928T155742Z
UID:23376-1764180000-1764190800@chihirosound.com
SUMMARY:NEW ALBUM Release Concert〔東京都渋谷区〕
DESCRIPTION:【Title】NEWアルバム「Misuzu Songs -金子みすゞのうたがきこえる-」発売記念\nちひろコンサート  \n●と　き：　11月26日（水） \n●ところ：　ミュージックレストラン ラドンナHarajuku \n※会場の地図はこちら \n●時　間：　18：00／OPEN＆ORDER　　19：30／START \n  \n●スペシャルゲスト：　西本 明 \n  \n●Price：　5\,000円（税込）　※1ドリンク・お食事は別途要ご注文となります \n●席　種：　全席当日指定（入場時にご案内します） \n●お申込み・ご予約：　 \n◆株式会社ベルミューズ（083-920-4277）　 \nメールでのご予約はこちら \n◆ラドンナHarajuku（03-5775-6775　※受付時間 15：00～21：00） \n24時間ネット受付 \n※お申込みは上記どちらでも可能・当日清算/ 当日券はございませんのでご注意くださいませ \n●お申込み締切り：　11月22日（土） \n●主　催：　株式会社ベルミューズ \n●後　援：　日本コロムビア株式会社 \n●協　力：　金子みすゞ記念館、NPO法人金子みすゞ顕彰会、JULA出版局 \n●お問合せ：　株式会社ベルミューズ（083-920-4277） \nPDFはこちら
URL:https://chihirosound.com/event/23376
LOCATION:ラドンナ 原宿\, 東京都渋谷区神宮前４丁目２８−２１ B１\, 渋谷区\, 東京都\, 150-0001\, 日本
CATEGORIES:オススメ,コンサート
ATTACH;FMTTYPE=image/png:https://chihirosound.com/wp-content/uploads/2025/09/1.png
END:VEVENT
END:VCALENDAR