BEGIN:VCALENDAR
VERSION:2.0
PRODID:-//ちひろ Official Website ～金子みすゞの心を歌う～  CHIHIRO Official Website - MISUZU KANEKO- - ECPv6.15.11//NONSGML v1.0//EN
CALSCALE:GREGORIAN
METHOD:PUBLISH
X-WR-CALNAME:ちひろ Official Website ～金子みすゞの心を歌う～  CHIHIRO Official Website - MISUZU KANEKO-
X-ORIGINAL-URL:https://chihirosound.com
X-WR-CALDESC:ちひろ Official Website ～金子みすゞの心を歌う～  CHIHIRO Official Website - MISUZU KANEKO- のイベント
REFRESH-INTERVAL;VALUE=DURATION:PT1H
X-Robots-Tag:noindex
X-PUBLISHED-TTL:PT1H
BEGIN:VTIMEZONE
TZID:Asia/Tokyo
BEGIN:STANDARD
TZOFFSETFROM:+0900
TZOFFSETTO:+0900
TZNAME:JST
DTSTART:20240101T000000
END:STANDARD
END:VTIMEZONE
BEGIN:VEVENT
DTSTART;TZID=Asia/Tokyo:20251125T104000
DTEND;TZID=Asia/Tokyo:20251125T121000
DTSTAMP:20260420T073950
CREATED:20250809T074339Z
LAST-MODIFIED:20251030T073003Z
UID:23212-1764067200-1764072600@chihirosound.com
SUMMARY:Concert〔岐阜県〕
DESCRIPTION:【Title】ちひろコンサート  \nみんなちがって、みんないい。～金子みすゞのまなざし～　\n●と　き：　11月25日（火） \n●ところ：　岐阜聖徳学園大学 岐阜キャンパス（岐阜県 岐阜市） \n●時　間：　10：40～12：10 \n●対　象：　関係者のみ \n  \n 
URL:https://chihirosound.com/event/23212
CATEGORIES:コンサート
END:VEVENT
END:VCALENDAR