BEGIN:VCALENDAR
VERSION:2.0
PRODID:-//ちひろ Official Website ～金子みすゞの心を歌う～  CHIHIRO Official Website - MISUZU KANEKO- - ECPv6.15.11//NONSGML v1.0//EN
CALSCALE:GREGORIAN
METHOD:PUBLISH
X-ORIGINAL-URL:https://chihirosound.com
X-WR-CALDESC:ちひろ Official Website ～金子みすゞの心を歌う～  CHIHIRO Official Website - MISUZU KANEKO- のイベント
REFRESH-INTERVAL;VALUE=DURATION:PT1H
X-Robots-Tag:noindex
X-PUBLISHED-TTL:PT1H
BEGIN:VTIMEZONE
TZID:Asia/Tokyo
BEGIN:STANDARD
TZOFFSETFROM:+0900
TZOFFSETTO:+0900
TZNAME:JST
DTSTART:20240101T000000
END:STANDARD
END:VTIMEZONE
BEGIN:VEVENT
DTSTART;TZID=Asia/Tokyo:20251121T134000
DTEND;TZID=Asia/Tokyo:20251121T144000
DTSTAMP:20260420T074012
CREATED:20250809T074207Z
LAST-MODIFIED:20251031T010639Z
UID:23210-1763732400-1763736000@chihirosound.com
SUMMARY:Concert〔山口県〕
DESCRIPTION:【Title】「人権教育講演会」ちひろコンサート\nと　き：　11月21日（金） \nところ：　周南市立富田中学校 体育館（山口県周南市富田新町2丁目2-5） \n※会場の地図はこちら \n時　間：　13：40～14：40 \n対　象：　生徒、保護者、教職員、地域の方どなたでもOK \n主　催：　周南市立富田中学校
URL:https://chihirosound.com/event/23210
LOCATION:周南市立富田中学校\, 山口県周南市富田新町２丁目２−５\, 周南市\, 山口県\, 746-0039\, Japan
CATEGORIES:コンサート
END:VEVENT
END:VCALENDAR