BEGIN:VCALENDAR
VERSION:2.0
PRODID:-//ちひろ Official Website ～金子みすゞの心を歌う～  CHIHIRO Official Website - MISUZU KANEKO- - ECPv6.15.11//NONSGML v1.0//EN
CALSCALE:GREGORIAN
METHOD:PUBLISH
X-ORIGINAL-URL:https://chihirosound.com
X-WR-CALDESC:ちひろ Official Website ～金子みすゞの心を歌う～  CHIHIRO Official Website - MISUZU KANEKO- のイベント
REFRESH-INTERVAL;VALUE=DURATION:PT1H
X-Robots-Tag:noindex
X-PUBLISHED-TTL:PT1H
BEGIN:VTIMEZONE
TZID:Asia/Tokyo
BEGIN:STANDARD
TZOFFSETFROM:+0900
TZOFFSETTO:+0900
TZNAME:JST
DTSTART:20240101T000000
END:STANDARD
END:VTIMEZONE
BEGIN:VEVENT
DTSTART;TZID=Asia/Tokyo:20251108T140000
DTEND;TZID=Asia/Tokyo:20251108T151500
DTSTAMP:20260420T074015
CREATED:20250317T061748Z
LAST-MODIFIED:20251031T005812Z
UID:22289-1762610400-1762614900@chihirosound.com
SUMMARY:Concert〔広島県〕
DESCRIPTION:【Title】「秋のコンサート」ひとときを咲く \n●と　き：　11月8日（土） \n●ところ：　浄土真宗本願寺派 西福寺 本堂（広島県東広島市黒瀬町楢原68） \n※会場の地図はこちら \n●時　間：　開場／13：00　　開演／14：00 \n●対　象：　どなたでもお参りいただけます \n●入　場：　無料ですが、お供え・御法礼をお願いいたします \n●主　催：　西福寺淑徳仏教婦人会 \n●お問合せ：　西福寺（電話／0823-82-2071） \nPDFはこちら
URL:https://chihirosound.com/event/22289
LOCATION:西福寺\, 山口県岩国市岩国２丁目６−３２\, 岩国市\, 山口県\, 741-0062\, Japan
CATEGORIES:オススメ,コンサート
ATTACH;FMTTYPE=image/jpeg:https://chihirosound.com/wp-content/uploads/2025/03/3da04231dcc42d973b2e77c732e70cb4-scaled.jpg
END:VEVENT
END:VCALENDAR