BEGIN:VCALENDAR
VERSION:2.0
PRODID:-//ちひろ Official Website ～金子みすゞの心を歌う～  CHIHIRO Official Website - MISUZU KANEKO- - ECPv6.15.11//NONSGML v1.0//EN
CALSCALE:GREGORIAN
METHOD:PUBLISH
X-WR-CALNAME:ちひろ Official Website ～金子みすゞの心を歌う～  CHIHIRO Official Website - MISUZU KANEKO-
X-ORIGINAL-URL:https://chihirosound.com
X-WR-CALDESC:ちひろ Official Website ～金子みすゞの心を歌う～  CHIHIRO Official Website - MISUZU KANEKO- のイベント
REFRESH-INTERVAL;VALUE=DURATION:PT1H
X-Robots-Tag:noindex
X-PUBLISHED-TTL:PT1H
BEGIN:VTIMEZONE
TZID:Asia/Tokyo
BEGIN:STANDARD
TZOFFSETFROM:+0900
TZOFFSETTO:+0900
TZNAME:JST
DTSTART:20240101T000000
END:STANDARD
END:VTIMEZONE
BEGIN:VEVENT
DTSTART;TZID=Asia/Tokyo:20251104T090000
DTEND;TZID=Asia/Tokyo:20251104T151000
DTSTAMP:20260420T073952
CREATED:20251031T121909Z
LAST-MODIFIED:20251031T122402Z
UID:23779-1762246800-1762269000@chihirosound.com
SUMMARY:Concert〔鹿児島県〕
DESCRIPTION:【Title】「信行寺秋季永代経  堂内コンサート」ちひろコンサート\nと　き：　11月4日（火） \nところ：　信行寺 本堂（鹿児島県南九州市川辺町高田1984） \n※会場の地図はこちら \n時　間：　午前の部／9：00～　　午後の部/14：00～ \n対　象：　門信徒、地域の方々 \n主　催：　信行寺
URL:https://chihirosound.com/event/23779
LOCATION:信行寺\, 鹿児島県南九州市川辺町高田１９８４\, 南九州市\, 鹿児島県\, 897-0223\, Japan
CATEGORIES:コンサート
END:VEVENT
END:VCALENDAR