BEGIN:VCALENDAR
VERSION:2.0
PRODID:-//ちひろ Official Website ～金子みすゞの心を歌う～  CHIHIRO Official Website - MISUZU KANEKO- - ECPv6.15.11//NONSGML v1.0//EN
CALSCALE:GREGORIAN
METHOD:PUBLISH
X-ORIGINAL-URL:https://chihirosound.com
X-WR-CALDESC:ちひろ Official Website ～金子みすゞの心を歌う～  CHIHIRO Official Website - MISUZU KANEKO- のイベント
REFRESH-INTERVAL;VALUE=DURATION:PT1H
X-Robots-Tag:noindex
X-PUBLISHED-TTL:PT1H
BEGIN:VTIMEZONE
TZID:Asia/Tokyo
BEGIN:STANDARD
TZOFFSETFROM:+0900
TZOFFSETTO:+0900
TZNAME:JST
DTSTART:20240101T000000
END:STANDARD
END:VTIMEZONE
BEGIN:VEVENT
DTSTART;TZID=Asia/Tokyo:20251025T133000
DTEND;TZID=Asia/Tokyo:20251025T140000
DTSTAMP:20260420T090351
CREATED:20251023T065116Z
LAST-MODIFIED:20251023T065116Z
UID:23684-1761399000-1761400800@chihirosound.com
SUMMARY:Concert〔山口県〕
DESCRIPTION:【Title】懇親会・ちひろコンサート \nと　き：　10月25日（土） \nところ：　山口グランドホテル 2F レディアンスホール（山口県山口市） \n時　間：　13：30～ \n対　象：　関係者のみ \n主　催：　山口市内の企業
URL:https://chihirosound.com/event/23684
CATEGORIES:コンサート
END:VEVENT
END:VCALENDAR