BEGIN:VCALENDAR
VERSION:2.0
PRODID:-//ちひろ Official Website ～金子みすゞの心を歌う～  CHIHIRO Official Website - MISUZU KANEKO- - ECPv6.15.11//NONSGML v1.0//EN
CALSCALE:GREGORIAN
METHOD:PUBLISH
X-WR-CALNAME:ちひろ Official Website ～金子みすゞの心を歌う～  CHIHIRO Official Website - MISUZU KANEKO-
X-ORIGINAL-URL:https://chihirosound.com
X-WR-CALDESC:ちひろ Official Website ～金子みすゞの心を歌う～  CHIHIRO Official Website - MISUZU KANEKO- のイベント
REFRESH-INTERVAL;VALUE=DURATION:PT1H
X-Robots-Tag:noindex
X-PUBLISHED-TTL:PT1H
BEGIN:VTIMEZONE
TZID:Asia/Tokyo
BEGIN:STANDARD
TZOFFSETFROM:+0900
TZOFFSETTO:+0900
TZNAME:JST
DTSTART:20240101T000000
END:STANDARD
END:VTIMEZONE
BEGIN:VEVENT
DTSTART;TZID=Asia/Tokyo:20251009T180000
DTEND;TZID=Asia/Tokyo:20251009T181000
DTSTAMP:20260420T090353
CREATED:20251016T150246Z
LAST-MODIFIED:20251016T150246Z
UID:23653-1760032800-1760033400@chihirosound.com
SUMMARY:Radio〔福島県〕
DESCRIPTION:【Title】rfcラジオ福島に ちひろゲスト出演＜２週目＞\n  \n●と　き：　10月9日（木） \n●時　間：　午後6：00頃～ \n●ラジオ局：　rfcラジオ福島 \n●番　組：　ORANGE TIME \n●放送エリア：　福島県内 及び受信エリア \n●周波数：　　こちら \n●リクエスト＆メッセージ：　E-mail：1600@rfc.jp \n●rajiko.jp パソコン・スマホで：　こちら　※福島県外の方は radiko プレミアム でお聴きいただけます♪
URL:https://chihirosound.com/event/23653
CATEGORIES:ラジオ
END:VEVENT
END:VCALENDAR