BEGIN:VCALENDAR
VERSION:2.0
PRODID:-//ちひろ Official Website ～金子みすゞの心を歌う～  CHIHIRO Official Website - MISUZU KANEKO- - ECPv6.15.11//NONSGML v1.0//EN
CALSCALE:GREGORIAN
METHOD:PUBLISH
X-ORIGINAL-URL:https://chihirosound.com
X-WR-CALDESC:ちひろ Official Website ～金子みすゞの心を歌う～  CHIHIRO Official Website - MISUZU KANEKO- のイベント
REFRESH-INTERVAL;VALUE=DURATION:PT1H
X-Robots-Tag:noindex
X-PUBLISHED-TTL:PT1H
BEGIN:VTIMEZONE
TZID:Asia/Tokyo
BEGIN:STANDARD
TZOFFSETFROM:+0900
TZOFFSETTO:+0900
TZNAME:JST
DTSTART:20240101T000000
END:STANDARD
END:VTIMEZONE
BEGIN:VEVENT
DTSTART;TZID=Asia/Tokyo:20250920T100000
DTEND;TZID=Asia/Tokyo:20250920T130000
DTSTAMP:20260420T102411
CREATED:20250809T065840Z
LAST-MODIFIED:20250903T052409Z
UID:23198-1758362400-1758373200@chihirosound.com
SUMMARY:Concert〔山口県〕
DESCRIPTION:【Title】ちひろコンサート \n  \nと　き：　9月20日（土） \nところ：　山口県山口市徳地 \n時　間：　午前10：00～13：00 \n対　象：　徳地地域の方のみ \n主　催：　
URL:https://chihirosound.com/event/23198
CATEGORIES:オススメ,コンサート
END:VEVENT
END:VCALENDAR