BEGIN:VCALENDAR
VERSION:2.0
PRODID:-//ちひろ Official Website ～金子みすゞの心を歌う～  CHIHIRO Official Website - MISUZU KANEKO- - ECPv6.15.11//NONSGML v1.0//EN
CALSCALE:GREGORIAN
METHOD:PUBLISH
X-ORIGINAL-URL:https://chihirosound.com
X-WR-CALDESC:ちひろ Official Website ～金子みすゞの心を歌う～  CHIHIRO Official Website - MISUZU KANEKO- のイベント
REFRESH-INTERVAL;VALUE=DURATION:PT1H
X-Robots-Tag:noindex
X-PUBLISHED-TTL:PT1H
BEGIN:VTIMEZONE
TZID:Asia/Tokyo
BEGIN:STANDARD
TZOFFSETFROM:+0900
TZOFFSETTO:+0900
TZNAME:JST
DTSTART:20240101T000000
END:STANDARD
END:VTIMEZONE
BEGIN:VEVENT
DTSTART;VALUE=DATE:20250803
DTEND;VALUE=DATE:20250804
DTSTAMP:20260420T114551
CREATED:20250526T022804Z
LAST-MODIFIED:20250530T095809Z
UID:22729-1754179200-1754265599@chihirosound.com
SUMMARY:舞台〔山口県周南市〕
DESCRIPTION:【Title】舞台「あゝ大津島　碧き海」 周南公演\n  \n●と　き：　8月3日（日） \n●ところ：　 周南市文化会館（山口県周南市徳山5854-41） \n※会場の地図はこちら \n●時　間：  12：00 開場 ／ 13：00 開演　　　　　　 \n●対　象：　一般 \n●チケット発売日：　5月30日（金）　販売開始 \n●チケット取り扱い：　ローソンチケット【 Lコード　61747 】／チケットぴあ【 Pコード　534-529 】 \nプレイガイド \n　　〔周南市〕周南市文化会館／演奏堂／まちのポート \n　　〔下松市〕スターピアくだまつ \n　　〔防府市〕アスピラート \n　　〔山口市〕山口井筒屋／株式会社ベルミューズ（083-920-4277） \n●チケット種類：　前売／ 4\,000円 ・  学生(大学生以下)／1\,000円 \n◆車椅子でご来場のお客様は必ず購入時にお知らせください \n◆未就学児のご入場はご遠慮ください \n◆学生料金をご利用の際は、学生証等確認できるものをお持ちください \n●座　種：　全席自由席 \n  \n周南市戦後80年事業特設サイト・あゝ大津島 碧き海 はこちら \n  \n●プロデューサー：　若林 哲行 \n●主　催：　周南市 \n●共　催：　周南市文化振興財団 \n●後　援：　回天顕彰会、周南観光コンベンション協会 \n●お問合せ：　周南市文化会館（電話／0834-22-8787） \n●企画・制作：若林哲行プロデュース \nPDFはこちら
URL:https://chihirosound.com/event/22729
LOCATION:周南市文化会館\, 山口県周南市徳山公園区５８５４−４１\, 周南市\, 山口県\, 745-0851\, 日本
CATEGORIES:オススメ,舞台
ATTACH;FMTTYPE=image/jpeg:https://chihirosound.com/wp-content/uploads/2025/05/d2a014cd21a56400607ab4eccecc352e-scaled.jpg
END:VEVENT
BEGIN:VEVENT
DTSTART;TZID=Asia/Tokyo:20250803T050000
DTEND;TZID=Asia/Tokyo:20250803T053000
DTSTAMP:20260420T114551
CREATED:20241205T042119Z
LAST-MODIFIED:20250306T053936Z
UID:21250-1754197200-1754199000@chihirosound.com
SUMMARY:全国放送Radio「みすゞさんと明るいほうへ」
DESCRIPTION:💐Radio・ちひろレギュラー全国放送番組💐\n金子みすゞの詩の朗読・みすゞヒストリー・放送各地のおススメの〇〇・リスナーメッセージ等 \nちひろがお届けする ❤ 30分番組です♪ \n  \n●番組名：　『みすゞさんと明るいほうへ』　　番組ホームページはこちら \n●パーソナリティ：　ちひろ \n  \n●レギュラー放送時間：　 \n☆毎週水曜日 11：00～／FM-NANAKO、FM AQUA、COME ON！FM、しゅうなんFM \n　　　　　　 11：30～／FMはつかいち　　13：00～／FMスマイルウエ～ブ \n☆毎週土曜日 朝9：00～／FMわっしょい \n★毎週日曜日 朝5：00～／全国放送（全国のコミュニティFM） \n☆毎週月曜日 20：30～／ULTRA FM \n　　　　　　 21：30～／KOCOラジ＜郡山コミュニティ放送＞　 \n  \n●再放送：　FM-NANAKO／毎週土曜日 15：00～　　FM AQUA／毎週日曜日 11：00～ \n  \n●周波数：　JCBA（全国のコミュニティFM） \n●インターネットで聴く：　※全国どこでもインターネットでラジオが聴けるページです。 \n■JCBAインターネットサイマルラジオで聴く \n  \n中国地区の「COME ON! FM」  or  「しゅうなんFM」　の　「LISTEN♪」　をクリックしてください♪ \n■COME ON! FMをインターネットで聴く \n■FMはつかいちをインターネットで聴く \n■FMスマイルウエ～ブをインターネットで聴く \n■FMわっしょいをインターネットで聴く \n■ULTRA FMをインターネットで聴く \n  \n■サイマルラジオで聴く \n東北地区の「郡山コミュニティ放送」　の　「放送を聴く」　をクリックしてください♪ \n■KOCOラジ＜郡山コミュニティ放送＞をインターネットで聴く \n  \n●リクエスト＆メッセージ🎵：　番組フォーマット　or　misuzufm.0407@gmail.com \n 
URL:https://chihirosound.com/event/21250
CATEGORIES:オススメ,ラジオ
END:VEVENT
BEGIN:VEVENT
DTSTART;TZID=Asia/Tokyo:20250803T143000
DTEND;TZID=Asia/Tokyo:20250803T150000
DTSTAMP:20260420T114551
CREATED:20240930T025802Z
LAST-MODIFIED:20241205T022145Z
UID:20552-1754231400-1754233200@chihirosound.com
SUMMARY:KRYラジオ「ちひろとみすゞTime」
DESCRIPTION:♠♣♥♦毎週日曜日放送のちひろレギュラー番組♠♣♥♦\n金子みすゞの詩・名言コーナー・コンサート情報など、内容盛り沢山の30分です♪ \n  \n●毎週日曜日：　14：30～ \n●パーソナリティ：　ちひろ \n  \n●ちひろとみすゞTime：　ホームページはこちら \n●周波数一覧 -KRY山口放送-：　こちら \n●パソコン・スマホでKRYラジオが聴ける：　radiko.jp \n  \n●ご意見・ご感想はこちら \nメール：cmt@kry.co.jp\nＦＡＸ：0834-32-9000\nハガキ：〒745-8686　山口放送「ちひろとみすゞTime」係 \nメッセージフォームはこちらから
URL:https://chihirosound.com/event/20552
CATEGORIES:オススメ,ラジオ
END:VEVENT
END:VCALENDAR