BEGIN:VCALENDAR
VERSION:2.0
PRODID:-//ちひろ Official Website ～金子みすゞの心を歌う～  CHIHIRO Official Website - MISUZU KANEKO- - ECPv6.15.11//NONSGML v1.0//EN
CALSCALE:GREGORIAN
METHOD:PUBLISH
X-ORIGINAL-URL:https://chihirosound.com
X-WR-CALDESC:ちひろ Official Website ～金子みすゞの心を歌う～  CHIHIRO Official Website - MISUZU KANEKO- のイベント
REFRESH-INTERVAL;VALUE=DURATION:PT1H
X-Robots-Tag:noindex
X-PUBLISHED-TTL:PT1H
BEGIN:VTIMEZONE
TZID:Asia/Tokyo
BEGIN:STANDARD
TZOFFSETFROM:+0900
TZOFFSETTO:+0900
TZNAME:JST
DTSTART:20240101T000000
END:STANDARD
END:VTIMEZONE
BEGIN:VEVENT
DTSTART;TZID=Asia/Tokyo:20250708T091000
DTEND;TZID=Asia/Tokyo:20250708T092500
DTSTAMP:20260420T131840
CREATED:20250606T062118Z
LAST-MODIFIED:20250606T062259Z
UID:22865-1751965800-1751966700@chihirosound.com
SUMMARY:Radio〔山口県〕
DESCRIPTION:【Title】KRYラジオ『KRY Morning Up』に ちひろスタジオ生出演！\n●と　き：　7月8日（火） \n●時　間：　朝  9：10頃～ \n●ラジオ局：　KRYラジオ \n●番　組：　『KRY Morning Up』 \n●パーソナリティ：　田中 泰平 さん　青木 京子 さん \n  \n●メッセージ：　こちら \n●周波数：　こちら \n●放送エリア：　山口県内 \n●インターネットで聴く：　radiko.jp \n※全国どこでもインターネットでラジオが聴けるページです。 \n山口県外の方は有料会員「ラジコプレミアム」でお聴きいただけます♪ \n 
URL:https://chihirosound.com/event/22865
CATEGORIES:オススメ,ラジオ
END:VEVENT
END:VCALENDAR