BEGIN:VCALENDAR
VERSION:2.0
PRODID:-//ちひろ Official Website ～金子みすゞの心を歌う～  CHIHIRO Official Website - MISUZU KANEKO- - ECPv6.15.11//NONSGML v1.0//EN
CALSCALE:GREGORIAN
METHOD:PUBLISH
X-ORIGINAL-URL:https://chihirosound.com
X-WR-CALDESC:ちひろ Official Website ～金子みすゞの心を歌う～  CHIHIRO Official Website - MISUZU KANEKO- のイベント
REFRESH-INTERVAL;VALUE=DURATION:PT1H
X-Robots-Tag:noindex
X-PUBLISHED-TTL:PT1H
BEGIN:VTIMEZONE
TZID:Asia/Tokyo
BEGIN:STANDARD
TZOFFSETFROM:+0900
TZOFFSETTO:+0900
TZNAME:JST
DTSTART:20240101T000000
END:STANDARD
END:VTIMEZONE
BEGIN:VEVENT
DTSTART;TZID=Asia/Tokyo:20250617T130700
DTEND;TZID=Asia/Tokyo:20250617T133000
DTSTAMP:20260420T163152
CREATED:20250606T060654Z
LAST-MODIFIED:20250606T060654Z
UID:22859-1750165620-1750167000@chihirosound.com
SUMMARY:Radio〔山口県〕
DESCRIPTION:【Title】しゅうなんFM「ラリー･ボイスJam784」に ちひろ ゲスト出演！\n舞台「あゝ大津島 碧き海」についてお話いたします♪ \n  \n●と　き：　6月17日（火） \n●時　間：　13：07頃～ \n●ラジオ局：　しゅうなんFM \n●番　組：　ラリー･ボイスJam784 \n●パーソナリティ：　岡村 尚子 さん \n  \n●メールやリクエスト：　studio@fms784.co.jp　FAX：0833-48-3031 \n●放送受信エリア：　周南市・下松市のほぼ全域、光市の一部 \n●インターネットラジオ：　サイマルラジオで聴く♪ \nパソコン・スマートフォン・タブレットなどで、全国どこでもお聴きいただけるサービスです。 \n 
URL:https://chihirosound.com/event/22859
CATEGORIES:オススメ,ラジオ
ORGANIZER;CN="%E3%81%97%E3%82%85%E3%81%86%E3%81%AA%E3%82%93FM":MAILTO:info@fms784.co.jp
END:VEVENT
END:VCALENDAR