BEGIN:VCALENDAR
VERSION:2.0
PRODID:-//ちひろ Official Website ～金子みすゞの心を歌う～  CHIHIRO Official Website - MISUZU KANEKO- - ECPv6.15.11//NONSGML v1.0//EN
CALSCALE:GREGORIAN
METHOD:PUBLISH
X-WR-CALNAME:ちひろ Official Website ～金子みすゞの心を歌う～  CHIHIRO Official Website - MISUZU KANEKO-
X-ORIGINAL-URL:https://chihirosound.com
X-WR-CALDESC:ちひろ Official Website ～金子みすゞの心を歌う～  CHIHIRO Official Website - MISUZU KANEKO- のイベント
REFRESH-INTERVAL;VALUE=DURATION:PT1H
X-Robots-Tag:noindex
X-PUBLISHED-TTL:PT1H
BEGIN:VTIMEZONE
TZID:Asia/Tokyo
BEGIN:STANDARD
TZOFFSETFROM:+0900
TZOFFSETTO:+0900
TZNAME:JST
DTSTART:20240101T000000
END:STANDARD
END:VTIMEZONE
BEGIN:VEVENT
DTSTART;TZID=Asia/Tokyo:20250529T091000
DTEND;TZID=Asia/Tokyo:20250529T092500
DTSTAMP:20260420T180541
CREATED:20250501T042922Z
LAST-MODIFIED:20250501T232645Z
UID:22508-1748509800-1748510700@chihirosound.com
SUMMARY:Radio〔山口県〕
DESCRIPTION:【Title】KRYラジオ『KRY Morning Up』に ちひろスタジオ生出演　\n●と　き：　5月29日（木） \n●時　間：　午前  9：10頃～ \n●ラジオ局：　KRYラジオ \n●番　組：　『KRY Morning Up』 \n●パーソナリティ：　高橋裕さん　武藤ひさこ さん \n●メッセージ：　こちら \n●周波数：　こちら \n●放送エリア：　山口県内 \n●インターネットで聴く：　radiko.jp \n※全国どこでもインターネットでラジオが聴けるページです。 \n山口県外の方は有料会員「ラジコプレミアム」でお聴きいただけます♪ \n 
URL:https://chihirosound.com/event/22508
CATEGORIES:オススメ,ラジオ
ORGANIZER;CN="%E3%82%A8%E3%83%95%E3%82%A8%E3%83%A0%E5%B1%B1%E5%8F%A3":MAILTO:http://www.fmy.co.jp/message.html
END:VEVENT
END:VCALENDAR