BEGIN:VCALENDAR
VERSION:2.0
PRODID:-//ちひろ Official Website ～金子みすゞの心を歌う～  CHIHIRO Official Website - MISUZU KANEKO- - ECPv6.15.11//NONSGML v1.0//EN
CALSCALE:GREGORIAN
METHOD:PUBLISH
X-ORIGINAL-URL:https://chihirosound.com
X-WR-CALDESC:ちひろ Official Website ～金子みすゞの心を歌う～  CHIHIRO Official Website - MISUZU KANEKO- のイベント
REFRESH-INTERVAL;VALUE=DURATION:PT1H
X-Robots-Tag:noindex
X-PUBLISHED-TTL:PT1H
BEGIN:VTIMEZONE
TZID:Asia/Tokyo
BEGIN:STANDARD
TZOFFSETFROM:+0900
TZOFFSETTO:+0900
TZNAME:JST
DTSTART:20240101T000000
END:STANDARD
END:VTIMEZONE
BEGIN:VEVENT
DTSTART;TZID=Asia/Tokyo:20250515T115000
DTEND;TZID=Asia/Tokyo:20250515T122000
DTSTAMP:20260420T180538
CREATED:20241227T053501Z
LAST-MODIFIED:20250421T083529Z
UID:21463-1747309800-1747311600@chihirosound.com
SUMMARY:卓話〔山口県〕
DESCRIPTION:【Title】国際ソロプチミスト防府 例会 ちひろ卓話\nと　き：　5月15日（木） \nところ：　防府グランドホテル （山口県防府市駅南町15-20） \n時　間：　11：50～ \n対　象：　関係者のみ \n主　催：　国際ソロプチミスト防府
URL:https://chihirosound.com/event/21463
CATEGORIES:講演
END:VEVENT
END:VCALENDAR