BEGIN:VCALENDAR
VERSION:2.0
PRODID:-//ちひろ Official Website ～金子みすゞの心を歌う～  CHIHIRO Official Website - MISUZU KANEKO- - ECPv6.15.11//NONSGML v1.0//EN
CALSCALE:GREGORIAN
METHOD:PUBLISH
X-WR-CALNAME:ちひろ Official Website ～金子みすゞの心を歌う～  CHIHIRO Official Website - MISUZU KANEKO-
X-ORIGINAL-URL:https://chihirosound.com
X-WR-CALDESC:ちひろ Official Website ～金子みすゞの心を歌う～  CHIHIRO Official Website - MISUZU KANEKO- のイベント
REFRESH-INTERVAL;VALUE=DURATION:PT1H
X-Robots-Tag:noindex
X-PUBLISHED-TTL:PT1H
BEGIN:VTIMEZONE
TZID:Asia/Tokyo
BEGIN:STANDARD
TZOFFSETFROM:+0900
TZOFFSETTO:+0900
TZNAME:JST
DTSTART:20230101T000000
END:STANDARD
END:VTIMEZONE
BEGIN:VEVENT
DTSTART;TZID=Asia/Tokyo:20241214T145000
DTEND;TZID=Asia/Tokyo:20241214T160000
DTSTAMP:20260422T203532
CREATED:20240503T014836Z
LAST-MODIFIED:20241204T033543Z
UID:19579-1734187800-1734192000@chihirosound.com
SUMMARY:Concert〔福岡県〕
DESCRIPTION:【Title】浄土真宗本願寺派築城組 『親鸞聖人御誕生850年 立教開宗800年 慶讃法要』\nちひろコンサート 　ひとときを咲く ～九條武子さまの御心と金子みすゞのまなざし～\n●と　き：　12月14日（土） \n●ところ：　築上町文化会館＜コマーレ＞（福岡県築上郡築上町） \n●時　間：　14：50～16：00 \n●対　象：　関係者のみ \n●主　催：　浄土真宗本願寺派 北豊教区築城組
URL:https://chihirosound.com/event/19579
CATEGORIES:オススメ,コンサート
END:VEVENT
END:VCALENDAR