BEGIN:VCALENDAR
VERSION:2.0
PRODID:-//ちひろ Official Website ～金子みすゞの心を歌う～  CHIHIRO Official Website - MISUZU KANEKO- - ECPv6.15.11//NONSGML v1.0//EN
CALSCALE:GREGORIAN
METHOD:PUBLISH
X-ORIGINAL-URL:https://chihirosound.com
X-WR-CALDESC:ちひろ Official Website ～金子みすゞの心を歌う～  CHIHIRO Official Website - MISUZU KANEKO- のイベント
REFRESH-INTERVAL;VALUE=DURATION:PT1H
X-Robots-Tag:noindex
X-PUBLISHED-TTL:PT1H
BEGIN:VTIMEZONE
TZID:Asia/Tokyo
BEGIN:STANDARD
TZOFFSETFROM:+0900
TZOFFSETTO:+0900
TZNAME:JST
DTSTART:20230101T000000
END:STANDARD
END:VTIMEZONE
BEGIN:VEVENT
DTSTART;TZID=Asia/Tokyo:20241207T130000
DTEND;TZID=Asia/Tokyo:20241207T160000
DTSTAMP:20260422T203531
CREATED:20241018T023938Z
LAST-MODIFIED:20241111T085443Z
UID:20871-1733576400-1733587200@chihirosound.com
SUMMARY:Concert〔岐阜県〕
DESCRIPTION:【Title】「人権・男女共同参画合同研修会　心豊かなまちづくり研修会」\nみんなちがって、みんないい生き方を ～金子みすゞの心とともに～\n●と　き：　12月7日（土） \n●ところ：　輪之内町文化会館アーリオンホール（岐阜県安八郡輪之内町中郷新田1500番地） \n※会場の地図はこちら \n●時　間：　開場／12：30　　開会／13：00 \n  \n●対　象：　どなたでもOK \n●入場料：　無料 \n●手話通訳：　有り \n●託児所：　有り \n●主　催：　輪之内町 \n●お問合せ：　輪之内町役場　総務危機管理課・住民環境課・教育委員会（phone／0584-69-3111） \nPDFはこちら
URL:https://chihirosound.com/event/20871
LOCATION:輪之内町 文化会館\, 岐阜県安八郡輪之内町中郷新田1500番地\, 輪之内町\, 岐阜県\, 503-0212\, 日本
CATEGORIES:オススメ,コンサート
ATTACH;FMTTYPE=image/jpeg:https://chihirosound.com/wp-content/uploads/2024/11/6e07bf286809e87af557dd6708810e15-scaled.jpg
END:VEVENT
END:VCALENDAR