BEGIN:VCALENDAR
VERSION:2.0
PRODID:-//ちひろ Official Website ～金子みすゞの心を歌う～  CHIHIRO Official Website - MISUZU KANEKO- - ECPv6.15.11//NONSGML v1.0//EN
CALSCALE:GREGORIAN
METHOD:PUBLISH
X-WR-CALNAME:ちひろ Official Website ～金子みすゞの心を歌う～  CHIHIRO Official Website - MISUZU KANEKO-
X-ORIGINAL-URL:https://chihirosound.com
X-WR-CALDESC:ちひろ Official Website ～金子みすゞの心を歌う～  CHIHIRO Official Website - MISUZU KANEKO- のイベント
REFRESH-INTERVAL;VALUE=DURATION:PT1H
X-Robots-Tag:noindex
X-PUBLISHED-TTL:PT1H
BEGIN:VTIMEZONE
TZID:Asia/Tokyo
BEGIN:STANDARD
TZOFFSETFROM:+0900
TZOFFSETTO:+0900
TZNAME:JST
DTSTART:20230101T000000
END:STANDARD
END:VTIMEZONE
BEGIN:VEVENT
DTSTART;TZID=Asia/Tokyo:20241206T133000
DTEND;TZID=Asia/Tokyo:20241206T150000
DTSTAMP:20260422T203534
CREATED:20240807T133515Z
LAST-MODIFIED:20241001T062507Z
UID:20069-1733491800-1733497200@chihirosound.com
SUMMARY:Concert〔広島県〕
DESCRIPTION:【Title】「令和6年度 大崎上島町身体障害者福祉協議会 福祉講演会」　あなたらしく、自分らしく\nちひろコンサート～金子みすゞの心とともに～\n\n●と　き：　12月6日（金） \n●ところ：　大崎上島開発総合センター（広島県豊田郡大崎上島町中野2067番地1） \n※会場の地図はこちら \n●時　間：　13：30～15：00 \n●対　象：　参加無料　どなたでもOK \n●お問合せ：　0846-62-1718（安本・岸中） \n●主　催：　大崎上島町身体障害者福祉協議会 \n●後　援：　大崎上島町障がい児者わかばの会、指定障害福祉サービス事業所 ふれあい工房、大崎上島町社会福祉協議会 \nPDFはこちら
URL:https://chihirosound.com/event/20069
LOCATION:大崎上島開発総合センター\, 広島県豊田郡大崎上島町中野2067番地1\, 豊田郡大崎上島町\, 広島県\, 725-0301\, 日本
CATEGORIES:オススメ,コンサート
ATTACH;FMTTYPE=image/jpeg:https://chihirosound.com/wp-content/uploads/2024/08/74815a7defe52715961f407a8e18685c.jpg
END:VEVENT
END:VCALENDAR