BEGIN:VCALENDAR
VERSION:2.0
PRODID:-//ちひろ Official Website ～金子みすゞの心を歌う～  CHIHIRO Official Website - MISUZU KANEKO- - ECPv6.15.11//NONSGML v1.0//EN
CALSCALE:GREGORIAN
METHOD:PUBLISH
X-WR-CALNAME:ちひろ Official Website ～金子みすゞの心を歌う～  CHIHIRO Official Website - MISUZU KANEKO-
X-ORIGINAL-URL:https://chihirosound.com
X-WR-CALDESC:ちひろ Official Website ～金子みすゞの心を歌う～  CHIHIRO Official Website - MISUZU KANEKO- のイベント
REFRESH-INTERVAL;VALUE=DURATION:PT1H
X-Robots-Tag:noindex
X-PUBLISHED-TTL:PT1H
BEGIN:VTIMEZONE
TZID:Asia/Tokyo
BEGIN:STANDARD
TZOFFSETFROM:+0900
TZOFFSETTO:+0900
TZNAME:JST
DTSTART:20230101T000000
END:STANDARD
END:VTIMEZONE
BEGIN:VEVENT
DTSTART;TZID=Asia/Tokyo:20241201T052500
DTEND;TZID=Asia/Tokyo:20241201T055500
DTSTAMP:20260422T203533
CREATED:20240828T064500Z
LAST-MODIFIED:20240828T064500Z
UID:20265-1733030700-1733032500@chihirosound.com
SUMMARY:全国放送Radio「みすゞさんと明るいほうへ」
DESCRIPTION:💐Radio・ちひろレギュラー全国放送番組💐\n金子みすゞの詩の朗読・みすゞヒストリー・放送各地のおススメの〇〇・リスナーメッセージ等 \nちひろがお届けする ❤ 30分番組です♪ \n  \n●番組名：　『みすゞさんと明るいほうへ』　　番組ホームページはこちら \n●パーソナリティ：　ちひろ \n  \n●レギュラー放送時間：　 \n☆毎週水曜日 11：00～／FM-NANAKO、FM AQUA、COME ON！FM、しゅうなんFM \n　　　　　　 11：30～／FMはつかいち　　13：00～／FMスマイルウエ～ブ \n☆毎週土曜日 朝9：00～／FMわっしょい \n★毎週日曜日 朝5：25～／全国放送（全国のコミュニティFM） \n☆毎週月曜日 20：30～／ULTRA FM \n　　　　　　 21：30～／KOCOラジ＜郡山コミュニティ放送＞　 \n  \n●再放送：　FM-NANAKO／毎週土曜日 15：00～　　FM AQUA／毎週日曜日 11：00～ \n  \n●周波数：　JCBA（全国のコミュニティFM） \n●インターネットで聴く：　※全国どこでもインターネットでラジオが聴けるページです。 \n■JCBAインターネットサイマルラジオで聴く \n  \n中国地区の「COME ON! FM」  or  「しゅうなんFM」　の　「LISTEN♪」　をクリックしてください♪ \n■COME ON! FMをインターネットで聴く \n■FMはつかいちをインターネットで聴く \n■FMスマイルウエ～ブをインターネットで聴く \n■FMわっしょいをインターネットで聴く \n■ULTRA FMをインターネットで聴く \n  \n■サイマルラジオで聴く \n東北地区の「郡山コミュニティ放送」　の　「放送を聴く」　をクリックしてください♪ \n■KOCOラジ＜郡山コミュニティ放送＞をインターネットで聴く \n  \n●リクエスト＆メッセージ🎵：　番組フォーマット　or　misuzufm.0407@gmail.com \n 
URL:https://chihirosound.com/event/20265
CATEGORIES:オススメ,ラジオ
END:VEVENT
BEGIN:VEVENT
DTSTART;TZID=Asia/Tokyo:20241201T130000
DTEND;TZID=Asia/Tokyo:20241201T133000
DTSTAMP:20260422T203533
CREATED:20240828T054726Z
LAST-MODIFIED:20241122T075420Z
UID:20230-1733058000-1733059800@chihirosound.com
SUMMARY:【時間変更】KRYラジオ「ちひろとみすゞTime」
DESCRIPTION:本日は「第55回記念 防府読売マラソン大会」放送の為、\n「ちひろとみすゞTime」の放送時間が13：00～に変更となります。何卒ご了承くださいませ。\n♠♣♥♦毎週日曜日放送のちひろレギュラー番組♠♣♥♦\n金子みすゞの詩・名言コーナー・コンサート情報など、内容盛り沢山の30分です♪ \n  \n●この放送回のみ ：　本日13：00～ です \n●パーソナリティ：　ちひろ \n  \n●ちひろとみすゞTime：　ホームページはこちら \n●周波数一覧 -KRY山口放送-：　こちら \n●パソコン・スマホでKRYラジオが聴ける：　radiko.jp \n  \n●ご意見・ご感想はこちら \nメール：cmt@kry.co.jp\nＦＡＸ：0834-32-9000\nハガキ：〒745-8686　山口放送「ちひろとみすゞTime」係 \nメッセージフォームはこちらから
URL:https://chihirosound.com/event/20230
CATEGORIES:オススメ,ラジオ
END:VEVENT
BEGIN:VEVENT
DTSTART;TZID=Asia/Tokyo:20241201T140000
DTEND;TZID=Asia/Tokyo:20241201T154500
DTSTAMP:20260422T203533
CREATED:20240425T022541Z
LAST-MODIFIED:20241111T083653Z
UID:19548-1733061600-1733067900@chihirosound.com
SUMMARY:Concert〔愛知県〕
DESCRIPTION:【Title】豊川市小坂井文化センター  人権講演と音楽会\nちひろトーク&コンサート  みんなちがって、みんないい生き方を～金子みすゞの心とともに～\n●と　き：　12月1日（日） \n●ところ：　豊川市小坂井文化センター  フロイデンホール（愛知県豊川市伊奈町新屋97-2） \n※会場の地図はこちら \n●時　間：　開場／13：30　　開演／14：00 \n●対　象：　どなたでもOK \n●お申込み：　11月30日（土）までにいずれかの方法でお申し込みください \n①豊川市公式LINE \n②webフォームから \n③窓口での申込み　 \n　・小坂井文化センター　・市役所人権生活課（北庁舎2階） \n  \n●入場料：　無料 \n●主　催：　豊川市 \n●お問合せ：　豊川市小坂井文化センター　phone/Fax  0533-78-3586 \nPDFはこちら
URL:https://chihirosound.com/event/19548
LOCATION:豊川市小坂井文化会館フロイデンホール\, 愛知県豊川市伊奈町新屋９７−２ フロイデン ホール\, 豊川市\, 愛知県\, 441-0105\, 日本
CATEGORIES:オススメ,コンサート
ATTACH;FMTTYPE=image/jpeg:https://chihirosound.com/wp-content/uploads/2024/11/3e875012ecf28966e7b35706a0f6ae2c-scaled.jpg
END:VEVENT
END:VCALENDAR