BEGIN:VCALENDAR
VERSION:2.0
PRODID:-//ちひろ Official Website ～金子みすゞの心を歌う～  CHIHIRO Official Website - MISUZU KANEKO- - ECPv6.15.11//NONSGML v1.0//EN
CALSCALE:GREGORIAN
METHOD:PUBLISH
X-WR-CALNAME:ちひろ Official Website ～金子みすゞの心を歌う～  CHIHIRO Official Website - MISUZU KANEKO-
X-ORIGINAL-URL:https://chihirosound.com
X-WR-CALDESC:ちひろ Official Website ～金子みすゞの心を歌う～  CHIHIRO Official Website - MISUZU KANEKO- のイベント
REFRESH-INTERVAL;VALUE=DURATION:PT1H
X-Robots-Tag:noindex
X-PUBLISHED-TTL:PT1H
BEGIN:VTIMEZONE
TZID:Asia/Tokyo
BEGIN:STANDARD
TZOFFSETFROM:+0900
TZOFFSETTO:+0900
TZNAME:JST
DTSTART:20230101T000000
END:STANDARD
END:VTIMEZONE
BEGIN:VEVENT
DTSTART;TZID=Asia/Tokyo:20241110T052500
DTEND;TZID=Asia/Tokyo:20241110T055500
DTSTAMP:20260422T221120
CREATED:20240828T063921Z
LAST-MODIFIED:20240828T063921Z
UID:20259-1731216300-1731218100@chihirosound.com
SUMMARY:全国放送Radio「みすゞさんと明るいほうへ」
DESCRIPTION:💐Radio・ちひろレギュラー全国放送番組💐\n金子みすゞの詩の朗読・みすゞヒストリー・放送各地のおススメの〇〇・リスナーメッセージ等 \nちひろがお届けする ❤ 30分番組です♪ \n  \n●番組名：　『みすゞさんと明るいほうへ』　　番組ホームページはこちら \n●パーソナリティ：　ちひろ \n  \n●レギュラー放送時間：　 \n☆毎週水曜日 11：00～／FM-NANAKO、FM AQUA、COME ON！FM、しゅうなんFM \n　　　　　　 11：30～／FMはつかいち　　13：00～／FMスマイルウエ～ブ \n☆毎週土曜日 朝9：00～／FMわっしょい \n★毎週日曜日 朝5：25～／全国放送（全国のコミュニティFM） \n☆毎週月曜日 20：30～／ULTRA FM \n　　　　　　 21：30～／KOCOラジ＜郡山コミュニティ放送＞　 \n  \n●再放送：　FM-NANAKO／毎週土曜日 15：00～　　FM AQUA／毎週日曜日 11：00～ \n  \n●周波数：　JCBA（全国のコミュニティFM） \n●インターネットで聴く：　※全国どこでもインターネットでラジオが聴けるページです。 \n■JCBAインターネットサイマルラジオで聴く \n  \n中国地区の「COME ON! FM」  or  「しゅうなんFM」　の　「LISTEN♪」　をクリックしてください♪ \n■COME ON! FMをインターネットで聴く \n■FMはつかいちをインターネットで聴く \n■FMスマイルウエ～ブをインターネットで聴く \n■FMわっしょいをインターネットで聴く \n■ULTRA FMをインターネットで聴く \n  \n■サイマルラジオで聴く \n東北地区の「郡山コミュニティ放送」　の　「放送を聴く」　をクリックしてください♪ \n■KOCOラジ＜郡山コミュニティ放送＞をインターネットで聴く \n  \n●リクエスト＆メッセージ🎵：　番組フォーマット　or　misuzufm.0407@gmail.com \n 
URL:https://chihirosound.com/event/20259
CATEGORIES:オススメ,ラジオ
END:VEVENT
BEGIN:VEVENT
DTSTART;TZID=Asia/Tokyo:20241110T105000
DTEND;TZID=Asia/Tokyo:20241110T120000
DTSTAMP:20260422T221120
CREATED:20240807T133253Z
LAST-MODIFIED:20241018T045933Z
UID:20065-1731235800-1731240000@chihirosound.com
SUMMARY:Concert〔山口県〕
DESCRIPTION:【Title】阿東文化祭・交流センターまつり　with　徳佐分校　\n　　　　ちひろコンサート「明るいほうへ～歌がつむぐ心と心～」\n●と　き：　11月10日（日） \n●ところ：　山口県立山口高等学校　徳佐分校（ 山口県山口市阿東徳佐中1033‐1） \n※会場の地図はこちら \n●時　間：　10日（日）午前10：50～12：00／ちひろコンサート \n●対　象：　どなたでもOK \n●主　催：　阿東文化協会・阿東地域交流センター・山口高校徳佐分校　 \n●お問合せ：　阿東文化協会事務局　阿東地域交流センター \n　　　　　　　電話番号／083－956-0116 \n  \nPDFはこちら（表） \nPDFはこちら（裏）
URL:https://chihirosound.com/event/20065
LOCATION:山口県立山口高等学校　徳佐分校\, 山口県山口市阿東徳佐中１０３３−１\, 山口市\, 山口県\, 759-1512\, 日本
CATEGORIES:オススメ,コンサート
ATTACH;FMTTYPE=image/jpeg:https://chihirosound.com/wp-content/uploads/2024/08/d2f5e1735272a26a1c2ce7d0a0d5158f.jpg
END:VEVENT
BEGIN:VEVENT
DTSTART;TZID=Asia/Tokyo:20241110T143000
DTEND;TZID=Asia/Tokyo:20241110T150000
DTSTAMP:20260422T221120
CREATED:20240828T053620Z
LAST-MODIFIED:20241015T014403Z
UID:20214-1731249000-1731250800@chihirosound.com
SUMMARY:KRYラジオ「ちひろとみすゞTime」
DESCRIPTION:♠♣♥♦毎週日曜日放送のちひろレギュラー番組♠♣♥♦\n金子みすゞの詩・名言コーナー・コンサート情報など、内容盛り沢山の30分です♪ \n  \n●毎週日曜日：　14：30～ \n●パーソナリティ：　ちひろ \n  \n●ちひろとみすゞTime：　ホームページはこちら \n●周波数一覧 -KRY山口放送-：　こちら \n●パソコン・スマホでKRYラジオが聴ける：　radiko.jp \n  \n●ご意見・ご感想はこちら \nメール：cmt@kry.co.jp\nＦＡＸ：0834-32-9000\nハガキ：〒745-8686　山口放送「ちひろとみすゞTime」係 \nメッセージフォームはこちらから
URL:https://chihirosound.com/event/20214
CATEGORIES:オススメ,ラジオ
END:VEVENT
END:VCALENDAR