BEGIN:VCALENDAR
VERSION:2.0
PRODID:-//ちひろ Official Website ～金子みすゞの心を歌う～  CHIHIRO Official Website - MISUZU KANEKO- - ECPv6.15.11//NONSGML v1.0//EN
CALSCALE:GREGORIAN
METHOD:PUBLISH
X-ORIGINAL-URL:https://chihirosound.com
X-WR-CALDESC:ちひろ Official Website ～金子みすゞの心を歌う～  CHIHIRO Official Website - MISUZU KANEKO- のイベント
REFRESH-INTERVAL;VALUE=DURATION:PT1H
X-Robots-Tag:noindex
X-PUBLISHED-TTL:PT1H
BEGIN:VTIMEZONE
TZID:Asia/Tokyo
BEGIN:STANDARD
TZOFFSETFROM:+0900
TZOFFSETTO:+0900
TZNAME:JST
DTSTART:20230101T000000
END:STANDARD
END:VTIMEZONE
BEGIN:VEVENT
DTSTART;TZID=Asia/Tokyo:20241022T174500
DTEND;TZID=Asia/Tokyo:20241022T193000
DTSTAMP:20260422T233830
CREATED:20240807T132823Z
LAST-MODIFIED:20241018T022659Z
UID:20057-1729619100-1729625400@chihirosound.com
SUMMARY:Concert〔山口県〕
DESCRIPTION:【Title】「全日本不動産協会 創立50周年記念式典・祝賀会」ちひろミニコンサート\n●と　き：　10月22日（火） \n●ところ：　かめ福オンプレイス（山口県山口市） \n●時　間：　17：45～ \n●対　象：　関係者のみ \n●主　催：　全日本不動産協会山口県本部
URL:https://chihirosound.com/event/20057
CATEGORIES:コンサート
END:VEVENT
END:VCALENDAR