BEGIN:VCALENDAR
VERSION:2.0
PRODID:-//ちひろ Official Website ～金子みすゞの心を歌う～  CHIHIRO Official Website - MISUZU KANEKO- - ECPv6.15.11//NONSGML v1.0//EN
CALSCALE:GREGORIAN
METHOD:PUBLISH
X-WR-CALNAME:ちひろ Official Website ～金子みすゞの心を歌う～  CHIHIRO Official Website - MISUZU KANEKO-
X-ORIGINAL-URL:https://chihirosound.com
X-WR-CALDESC:ちひろ Official Website ～金子みすゞの心を歌う～  CHIHIRO Official Website - MISUZU KANEKO- のイベント
REFRESH-INTERVAL;VALUE=DURATION:PT1H
X-Robots-Tag:noindex
X-PUBLISHED-TTL:PT1H
BEGIN:VTIMEZONE
TZID:Asia/Tokyo
BEGIN:STANDARD
TZOFFSETFROM:+0900
TZOFFSETTO:+0900
TZNAME:JST
DTSTART:20230101T000000
END:STANDARD
END:VTIMEZONE
BEGIN:VEVENT
DTSTART;TZID=Asia/Tokyo:20240208T170000
DTEND;TZID=Asia/Tokyo:20240208T172500
DTSTAMP:20260423T150944
CREATED:20240124T054539Z
LAST-MODIFIED:20240124T054539Z
UID:18455-1707411600-1707413100@chihirosound.com
SUMMARY:Concert〔山口県〕
DESCRIPTION:【Title】「山口県流通センター株式会社設立40周年記念行事」ちひろミニコンサート\n●と　き：　2月8日（木） \n●ところ：　セントコア山口（山口県山口市） \n●時　間：　17：00頃 \n●対　象：　関係者のみ \n●主　催：　山口県流通センター株式会社
URL:https://chihirosound.com/event/18455
CATEGORIES:コンサート
END:VEVENT
END:VCALENDAR