BEGIN:VCALENDAR
VERSION:2.0
PRODID:-//ちひろ Official Website ～金子みすゞの心を歌う～  CHIHIRO Official Website - MISUZU KANEKO- - ECPv6.15.11//NONSGML v1.0//EN
CALSCALE:GREGORIAN
METHOD:PUBLISH
X-ORIGINAL-URL:https://chihirosound.com
X-WR-CALDESC:ちひろ Official Website ～金子みすゞの心を歌う～  CHIHIRO Official Website - MISUZU KANEKO- のイベント
REFRESH-INTERVAL;VALUE=DURATION:PT1H
X-Robots-Tag:noindex
X-PUBLISHED-TTL:PT1H
BEGIN:VTIMEZONE
TZID:Asia/Tokyo
BEGIN:STANDARD
TZOFFSETFROM:+0900
TZOFFSETTO:+0900
TZNAME:JST
DTSTART:20220101T000000
END:STANDARD
END:VTIMEZONE
BEGIN:VEVENT
DTSTART;TZID=Asia/Tokyo:20231204T143000
DTEND;TZID=Asia/Tokyo:20231204T153000
DTSTAMP:20260423T194829
CREATED:20230904T164815Z
LAST-MODIFIED:20231106T012202Z
UID:17287-1701700200-1701703800@chihirosound.com
SUMMARY:Concert〔山口県〕
DESCRIPTION:【Title】「人権講演会」ちひろコンサート\n●と　き：　12月4日（月） \n●ところ：　下関市立菊川中学校 体育館（山口県下関市） \n●時　間：　14：30頃～15：30頃 \n●対　象：　生徒、教職員、関係者のみ \n●主　催：　下関市立菊川中学校
URL:https://chihirosound.com/event/17287
CATEGORIES:コンサート
END:VEVENT
END:VCALENDAR