BEGIN:VCALENDAR
VERSION:2.0
PRODID:-//ちひろ Official Website ～金子みすゞの心を歌う～  CHIHIRO Official Website - MISUZU KANEKO- - ECPv6.15.11//NONSGML v1.0//EN
CALSCALE:GREGORIAN
METHOD:PUBLISH
X-WR-CALNAME:ちひろ Official Website ～金子みすゞの心を歌う～  CHIHIRO Official Website - MISUZU KANEKO-
X-ORIGINAL-URL:https://chihirosound.com
X-WR-CALDESC:ちひろ Official Website ～金子みすゞの心を歌う～  CHIHIRO Official Website - MISUZU KANEKO- のイベント
REFRESH-INTERVAL;VALUE=DURATION:PT1H
X-Robots-Tag:noindex
X-PUBLISHED-TTL:PT1H
BEGIN:VTIMEZONE
TZID:Asia/Tokyo
BEGIN:STANDARD
TZOFFSETFROM:+0900
TZOFFSETTO:+0900
TZNAME:JST
DTSTART:20220101T000000
END:STANDARD
END:VTIMEZONE
BEGIN:VEVENT
DTSTART;TZID=Asia/Tokyo:20230706T180000
DTEND;TZID=Asia/Tokyo:20230706T182000
DTSTAMP:20260424T053407
CREATED:20230803T004639Z
LAST-MODIFIED:20230803T004639Z
UID:16995-1688666400-1688667600@chihirosound.com
SUMMARY:Stage【山口県】
DESCRIPTION:【Title】「令和５年度 中国・四国ブロック老人クラブリーダー研修会」ちひろウェルカムコンサート\n●と　き：　7月6日（木） \n●ところ：　かめ福オンプレイス（山口県山口市） \n●時　間：　18：00～ \n●対　象：　関係者のみ \n●主　催：　公益財団法人 全国老人クラブ連合会、一般財団法人 山口県老人クラブ連合会
URL:https://chihirosound.com/event/16995
CATEGORIES:コンサート
END:VEVENT
END:VCALENDAR