BEGIN:VCALENDAR
VERSION:2.0
PRODID:-//ちひろ Official Website ～金子みすゞの心を歌う～  CHIHIRO Official Website - MISUZU KANEKO- - ECPv6.15.11//NONSGML v1.0//EN
CALSCALE:GREGORIAN
METHOD:PUBLISH
X-ORIGINAL-URL:https://chihirosound.com
X-WR-CALDESC:ちひろ Official Website ～金子みすゞの心を歌う～  CHIHIRO Official Website - MISUZU KANEKO- のイベント
REFRESH-INTERVAL;VALUE=DURATION:PT1H
X-Robots-Tag:noindex
X-PUBLISHED-TTL:PT1H
BEGIN:VTIMEZONE
TZID:Asia/Tokyo
BEGIN:STANDARD
TZOFFSETFROM:+0900
TZOFFSETTO:+0900
TZNAME:JST
DTSTART:20220101T000000
END:STANDARD
END:VTIMEZONE
BEGIN:VEVENT
DTSTART;TZID=Asia/Tokyo:20230624T090000
DTEND;TZID=Asia/Tokyo:20230624T093000
DTSTAMP:20260424T073113
CREATED:20221214T015027Z
LAST-MODIFIED:20221214T015027Z
UID:15109-1687597200-1687599000@chihirosound.com
SUMMARY:Radio〔再放送〕
DESCRIPTION:💐９局Radio放送 ちひろレギュラー番組「みすゞさんと明るいほうへ」💐\n金子みすゞの詩の朗読・ご紹介など、みすゞさんについてたっぷりお届け ❤ 30分番組です♪ \n※毎週水曜日に放送している番組を再放送！ \n  \n●ラジオ局：　 \n・FMわっしょい（防府市） ／ 毎週土曜日　午前9：00～　 \n・FM-NANAKO（萩市） ／ 毎週土曜日　午後3：00～ \n  \n●番　組：　『みすゞさんと明るいほうへ』　　 \n●パーソナリティ：　ちひろ \n●周波数：　FMわっしょい／77.3MHz　　FM-NANAKO／77.5MHz \n●放送エリア：　防府市・萩市を中心としたエリア、周辺受信エリア \n  \n●リクエスト＆メッセージ🎵：　misuzufm.0407@gmail.com \n●レギュラー放送：　 \n・毎週水曜日 午前11：00～ ／ FM-NANAKO（萩市）、FM AQUA（長門市）、COME！ON FM（下関市）、しゅうんなんFM（周南・下松エリア）　 \n・毎週水曜日 午前11：30～ ／FMはつかいち（広島県廿日市市） \n・毎週水曜日 午後1：00～ ／ FMスマイルウエ～ブ（山陽小野田市） \n・毎週水曜日 夜10：00～ ／ KOCOラジ＜郡山コミュニティ放送＞（福島県郡山市）
URL:https://chihirosound.com/event/15109
CATEGORIES:ラジオ
END:VEVENT
BEGIN:VEVENT
DTSTART;TZID=Asia/Tokyo:20230624T140000
DTEND;TZID=Asia/Tokyo:20230624T160000
DTSTAMP:20260424T073113
CREATED:20230113T024323Z
LAST-MODIFIED:20230220T023107Z
UID:15395-1687615200-1687622400@chihirosound.com
SUMMARY:Concert〔千葉県〕
DESCRIPTION:【Title】「第26回 公開仏教文化講演会」ちひろコンサート\n～金子みすゞと仏教のまなざし～\n●と　き：　6月24日（土） \n●ところ：　アミュゼ柏 2階 クリスタルホール（千葉県柏市柏6丁目2-22） \n※会場の地図はこちら \n●時　間：　開場／13：00　開演／14：00～16：00 \n●対　象：　どなたでもOK \n●参加費：　無料 \n●定　員：　先着400名 \n●主　催：　浄土真宗東葛仏教会 \n●後　援：　築地本願寺、東本願寺真宗会館 \n 
URL:https://chihirosound.com/event/15395
LOCATION:アミュゼ柏 クリスタルホール\, 千葉県柏市柏６丁目２−２２\, 柏市\, 千葉県\, 277-0005\, 日本
CATEGORIES:オススメ,コンサート
ATTACH;FMTTYPE=image/jpeg:https://chihirosound.com/wp-content/uploads/2023/02/7ae73397e50ecab9b7733478b858c8a6-scaled.jpg
END:VEVENT
END:VCALENDAR