BEGIN:VCALENDAR
VERSION:2.0
PRODID:-//ちひろ Official Website ～金子みすゞの心を歌う～  CHIHIRO Official Website - MISUZU KANEKO- - ECPv6.15.11//NONSGML v1.0//EN
CALSCALE:GREGORIAN
METHOD:PUBLISH
X-WR-CALNAME:ちひろ Official Website ～金子みすゞの心を歌う～  CHIHIRO Official Website - MISUZU KANEKO-
X-ORIGINAL-URL:https://chihirosound.com
X-WR-CALDESC:ちひろ Official Website ～金子みすゞの心を歌う～  CHIHIRO Official Website - MISUZU KANEKO- のイベント
REFRESH-INTERVAL;VALUE=DURATION:PT1H
X-Robots-Tag:noindex
X-PUBLISHED-TTL:PT1H
BEGIN:VTIMEZONE
TZID:Asia/Tokyo
BEGIN:STANDARD
TZOFFSETFROM:+0900
TZOFFSETTO:+0900
TZNAME:JST
DTSTART:20220101T000000
END:STANDARD
END:VTIMEZONE
BEGIN:VEVENT
DTSTART;TZID=Asia/Tokyo:20230609T130000
DTEND;TZID=Asia/Tokyo:20230609T140000
DTSTAMP:20260424T073115
CREATED:20230528T144504Z
LAST-MODIFIED:20230528T144504Z
UID:16497-1686315600-1686319200@chihirosound.com
SUMMARY:Concert〔山口県〕
DESCRIPTION:【Title】「山口北組仏教婦人会連盟 親鸞聖人御誕生８５０年 立教開宗８００年 慶讃法要記念」ちひろコンサート\n●と　き：　6月9日（金） \n●ところ：　信行寺（山口県山口市） \n●時　間：　13：00～14：00 \n●対　象：　門信徒、関係者の方々 \n●主　催：　山口北組仏教婦人会連盟（浄土真宗本願寺派）
URL:https://chihirosound.com/event/16497
CATEGORIES:コンサート
END:VEVENT
END:VCALENDAR