BEGIN:VCALENDAR
VERSION:2.0
PRODID:-//ちひろ Official Website ～金子みすゞの心を歌う～  CHIHIRO Official Website - MISUZU KANEKO- - ECPv6.15.11//NONSGML v1.0//EN
CALSCALE:GREGORIAN
METHOD:PUBLISH
X-WR-CALNAME:ちひろ Official Website ～金子みすゞの心を歌う～  CHIHIRO Official Website - MISUZU KANEKO-
X-ORIGINAL-URL:https://chihirosound.com
X-WR-CALDESC:ちひろ Official Website ～金子みすゞの心を歌う～  CHIHIRO Official Website - MISUZU KANEKO- のイベント
REFRESH-INTERVAL;VALUE=DURATION:PT1H
X-Robots-Tag:noindex
X-PUBLISHED-TTL:PT1H
BEGIN:VTIMEZONE
TZID:Asia/Tokyo
BEGIN:STANDARD
TZOFFSETFROM:+0900
TZOFFSETTO:+0900
TZNAME:JST
DTSTART:20210101T000000
END:STANDARD
END:VTIMEZONE
BEGIN:VEVENT
DTSTART;TZID=Asia/Tokyo:20221219T200000
DTEND;TZID=Asia/Tokyo:20221219T210000
DTSTAMP:20260426T121630
CREATED:20220921T064647Z
LAST-MODIFIED:20220921T064647Z
UID:14261-1671480000-1671483600@chihirosound.com
SUMMARY:Radio〔再放送〕
DESCRIPTION:💐９局Radio放送 ちひろレギュラー番組「みすゞさんと明るいほうへ」💐\n金子みすゞの詩の朗読・ご紹介など、みすゞさんについてたっぷりお届け ❤ 30分番組です♪ \n※毎週水曜日に放送している番組を再放送！ \n  \n●と　き：　毎週月曜日 \n●ラジオ局：　 \nKOCOラジ＜郡山コミュニティ放送＞（福島県郡山市） ／ 毎週月曜日 20：00～  \nULTRA FM（福島県須賀川市） ／ 毎週月曜日 20：30～ \n  \n●番組詳細：　『みすゞさんと明るいほうへ』 \n●パーソナリティ：　ちひろ \n  \n●周波数：　KOCOラジ／79.1MHz　　ULTRA FM ／ 86.8MHz \n●放送エリア：　郡山市・須賀川市を中心としたエリア、周辺受信エリア \n  \n●リクエスト＆メッセージ🎵：　こちらから \n  \n●レギュラー放送：　 \n・毎週水曜日 11：00～ ／ FM-NANAKO（萩市）、FM AQUA（長門市）、COME！ON FM（下関市）、しゅうんなんFM（周南・下松エリア）　 \n・毎週水曜日 11：30～ ／FMはつかいち（広島県廿日市市） \n・毎週水曜日 13：00～ ／ FMスマイルウエ～ブ（山陽小野田市） \n・毎週土曜日 9：00～ ／ FMわっしょい（防府市） \n・毎週月曜日 20：00～ ／ KOCOラジ＜郡山コミュニティ放送＞（福島県郡山市） \n・毎週月曜日 20：30～ ／ ULTRA FM（福島県須賀川市） \n 
URL:https://chihirosound.com/event/14261
CATEGORIES:ラジオ
END:VEVENT
BEGIN:VEVENT
DTSTART;TZID=Asia/Tokyo:20221218T143000
DTEND;TZID=Asia/Tokyo:20221218T150000
DTSTAMP:20260426T121630
CREATED:20220824T054308Z
LAST-MODIFIED:20220912T065830Z
UID:14064-1671373800-1671375600@chihirosound.com
SUMMARY:KRYラジオ「ちひろDEブレイク」
DESCRIPTION:♠♣♥♦毎週日曜日放送のちひろレギュラー番組♠♣♥♦\nコンサート会場での裏話、ＣＤアルバム制作秘話、名言コーナー、金子みすゞの詩をご紹介など、内容盛り沢山の30分です♪ \n  \n●毎週日曜日：　14：30～ \n●パーソナリティ：　ちひろ、瀬川 嘉 \n  \n●ちひろDEブレイク：　Official Website・ブログ・みすゞ心のメッセージ \n●周波数一覧 -KRY山口放送-：　こちら（AM・FMで聴く） \n●パソコン・スマホでKRYラジオが聴ける：　radiko.jp \n  \n●ご意見・ご感想はこちら \nメール：break@kry.co.jp\nＦＡＸ：0834-32-9000\nハガキ：〒745-8686　山口放送「ちひろDEブレイク」係 \nメッセージフォームはこちらから
URL:https://chihirosound.com/event/14064
CATEGORIES:オススメ,ラジオ
END:VEVENT
BEGIN:VEVENT
DTSTART;TZID=Asia/Tokyo:20221218T110000
DTEND;TZID=Asia/Tokyo:20221218T113000
DTSTAMP:20260426T121630
CREATED:20220824T043710Z
LAST-MODIFIED:20220921T065929Z
UID:13953-1671361200-1671363000@chihirosound.com
SUMMARY:Radio〔再放送〕
DESCRIPTION:💐９局Radio放送 ちひろレギュラー番組「みすゞさんと明るいほうへ」💐\n金子みすゞの詩の朗読・ご紹介など、みすゞさんについてたっぷりお届け ❤ 30分番組です♪ \n※毎週水曜日に放送している番組を再放送！ \n  \n●と　き：　毎週日曜日 \n●時　間：　午前11：00～ \n●ラジオ局：　FM AQUA \n  \n●番組詳細：　『みすゞさんと明るいほうへ』 \n●パーソナリティ：　ちひろ \n  \n●周波数：　FM AQUA／87.8MHz \n●放送エリア：　長門市を中心としたエリア、周辺受信エリア \n  \n●リクエスト＆メッセージ🎵：　FM AQUA／878@fmaqua.jp \n●レギュラー放送：　 \n・毎週水曜日 午前11：00～ ／ FM-NANAKO（萩市）、FM AQUA（長門市）、COME！ON FM（下関市）、しゅうんなんFM（周南・下松エリア）　 \n・毎週水曜日 午前11：30～ ／ FMはつかいち（広島県廿日市市） \n・毎週水曜日 午後1：00～ ／ FMスマイルウエ～ブ（山陽小野田市）　　　 \n・毎週水曜日 夜10：00～ ／ KOCOラジ＜郡山コミュニティ放送＞（福島県郡山市） \n・毎週土曜日 午前9：00～ ／ FMわっしょい（防府市）
URL:https://chihirosound.com/event/13953
CATEGORIES:ラジオ
END:VEVENT
BEGIN:VEVENT
DTSTART;TZID=Asia/Tokyo:20221217T090000
DTEND;TZID=Asia/Tokyo:20221217T093000
DTSTAMP:20260426T121630
CREATED:20220824T051728Z
LAST-MODIFIED:20220921T065909Z
UID:14028-1671267600-1671269400@chihirosound.com
SUMMARY:Radio〔再放送〕
DESCRIPTION:💐９局Radio放送 ちひろレギュラー番組「みすゞさんと明るいほうへ」💐\n金子みすゞの詩の朗読・ご紹介など、みすゞさんについてたっぷりお届け ❤ 30分番組です♪ \n※毎週水曜日に放送している番組を再放送！ \n  \n●ラジオ局：　 \n・FMわっしょい（防府市） ／ 毎週土曜日　午前9：00～　 \n・FM-NANAKO（萩市） ／ 毎週土曜日　午後3：00～ \n  \n●番　組：　『みすゞさんと明るいほうへ』　　 \n●パーソナリティ：　ちひろ \n  \n●周波数：　FMわっしょい／77.3MHz　　FM-NANAKO／77.5MHz \n●放送エリア：　防府市・萩市を中心としたエリア、周辺受信エリア \n  \n●リクエスト＆メッセージ🎵：　misuzufm.0407@gmail.com \n●レギュラー放送：　 \n・毎週水曜日 午前11：00～ ／ FM-NANAKO（萩市）、FM AQUA（長門市）、COME！ON FM（下関市）、しゅうんなんFM（周南・下松エリア）　 \n・毎週水曜日 午前11：30～ ／FMはつかいち（広島県廿日市市） \n・毎週水曜日 午後1：00～ ／ FMスマイルウエ～ブ（山陽小野田市） \n・毎週水曜日 夜10：00～ ／ KOCOラジ＜郡山コミュニティ放送＞（福島県郡山市）
URL:https://chihirosound.com/event/14028
CATEGORIES:ラジオ
END:VEVENT
BEGIN:VEVENT
DTSTART;TZID=Asia/Tokyo:20221216T170500
DTEND;TZID=Asia/Tokyo:20221216T175500
DTSTAMP:20260426T121630
CREATED:20220531T093554Z
LAST-MODIFIED:20221215T024300Z
UID:13325-1671210300-1671213300@chihirosound.com
SUMMARY:NHK「ラジオYAMAGUTIC」
DESCRIPTION:【Title】NHK「中国！ちゅーもく！ラジオYAMAGUTIC」\nテーマ「野球」 第2弾！ \n●と　き：　12月16日（金） \n●時　間：　17：05～17：55 \n●ラジオ局：　NHKラジオ第1 \n●番　組：　ラジオYAMAGUTIC \n  \n●メールやご意見募集：　こちら \n●放送受信エリア：　中国地方5県（山口県、広島県、岡山県、島根県、鳥取県） \n  \n●インターネットラジオ：　全国でお聴きいただけます！　　らじる★らじる \nパソコン・スマートフォン・タブレットなどで、全国どこでもお聴きいただけるサービスです。 \n  \n【聴取方法】＜スマートフォン・タブレットの場合は、まずアプリ（無料）をダウンロードしてください＞ \n■らじる★らじる にアクセス　→　ラジオ第1（R1） をクリック　→　放送局を選択　→　広島 \n※詳しくはこちら \n  \n●出　演：　長野 亮アナウンサー、中田 英二さん、ちひろ \n 
URL:https://chihirosound.com/event/13325
CATEGORIES:オススメ,ラジオ
ORGANIZER;CN="NHK%E5%B1%B1%E5%8F%A3%E6%94%BE%E9%80%81%E5%B1%80":MAILTO:https://www.nhk.or.jp/yamaguchi/contact/form.html
END:VEVENT
BEGIN:VEVENT
DTSTART;TZID=Asia/Tokyo:20221214T110000
DTEND;TZID=Asia/Tokyo:20221214T113000
DTSTAMP:20260426T121630
CREATED:20221214T022752Z
LAST-MODIFIED:20221214T022752Z
UID:15148-1671015600-1671017400@chihirosound.com
SUMMARY:Radio〔再放送〕
DESCRIPTION:💐９局Radio放送 ちひろレギュラー番組「みすゞさんと明るいほうへ」💐\n金子みすゞの詩の朗読・ご紹介など、みすゞさんについてたっぷりお届け ❤ 30分番組です♪ \n※毎週水曜日に放送している番組を再放送！ \n  \n●と　き：　毎週日曜日 \n●時　間：　午前11：00～ \n●ラジオ局：　FM AQUA \n  \n●番組詳細：　『みすゞさんと明るいほうへ』 \n●パーソナリティ：　ちひろ \n  \n●周波数：　FM AQUA／87.8MHz \n●放送エリア：　長門市を中心としたエリア、周辺受信エリア \n  \n●リクエスト＆メッセージ🎵：　FM AQUA／878@fmaqua.jp \n●レギュラー放送：　 \n・毎週水曜日 午前11：00～ ／ FM-NANAKO（萩市）、FM AQUA（長門市）、COME！ON FM（下関市）、しゅうんなんFM（周南・下松エリア）　 \n・毎週水曜日 午前11：30～ ／ FMはつかいち（広島県廿日市市） \n・毎週水曜日 午後1：00～ ／ FMスマイルウエ～ブ（山陽小野田市）　　　 \n・毎週水曜日 夜10：00～ ／ KOCOラジ＜郡山コミュニティ放送＞（福島県郡山市） \n・毎週土曜日 午前9：00～ ／ FMわっしょい（防府市）
URL:https://chihirosound.com/event/15148
CATEGORIES:ラジオ
END:VEVENT
BEGIN:VEVENT
DTSTART;TZID=Asia/Tokyo:20221214T110000
DTEND;TZID=Asia/Tokyo:20221214T113000
DTSTAMP:20260426T121630
CREATED:20220824T050118Z
LAST-MODIFIED:20220921T065844Z
UID:13992-1671015600-1671017400@chihirosound.com
SUMMARY:９局Radio「みすゞさんと明るいほうへ」
DESCRIPTION:💐９局Radio放送・ちひろレギュラー番組💐\n金子みすゞの詩の朗読・ご紹介など、みすゞさんについてたっぷりお届け ❤ 30分番組です♪ \n  \n●番組詳細：　『みすゞさんと明るいほうへ』 \n●パーソナリティ：　ちひろ \n  \n●レギュラー放送時間：　 \n毎週水曜日 午前11：00～／FM-NANAKO、FM AQUA、COME ON！FM、しゅうなんFM \n毎週水曜日 午前11：30～／FMはつかいち \n毎週水曜日 午後1：00～／FMスマイルウエ～ブ \n毎週水曜日 夜10：00～／KOCOラジ＜郡山コミュニティ放送＞ \n毎週土曜日 午前9：00～／FMわっしょい \n  \n●再放送：　FM-NANAKO／毎週土曜日 午後3：00～　　FM AQUA／毎週日曜日午前11：00～ \n  \n●周波数：　 \nFM-NANAKO／77.5MHz　　FM AQUA／87.8MHz　　COME ON！FM／76.4MHz \nしゅうなんFM／78.4MHz　　FMスマイルウエ～ブ／89.7MHz　　FMわっしょい／77.3MHz \nFMはつかいち／76.1MHz　KOCOラジ／79.1MHz \n  \n●インターネットで聴く：　※全国どこでもインターネットでラジオが聴けるページです。 \n  \n■JCBAインターネットサイマルラジオで聴く \n中国地区の「COME ON! FM」  or  「しゅうなんFM」　の　「LISTEN♪」　をクリックしてください♪ \n■COME ON! FMをインターネットで聴く \n■FMはつかいちをインターネットで聴く \n■FMスマイルウエ～ブをインターネットで聴く \n■FMわっしょいをインターネットで聴く（土曜日 午前9:00～） \n  \n■サイマルラジオで聴く \n東北地区の「郡山コミュニティ放送」　の　「放送を聴く」　をクリックしてください♪ \n■KOCOラジ＜郡山コミュニティ放送＞をインターネットで聴く（水曜日 夜10：00～） \n  \n  \n●リクエスト＆メッセージ🎵：　misuzufm.0407@gmail.com \nもしくは　FM-NANAKO／775@haginet.ne.jp　　FM AQUA／878@fmaqua.jp　　COME ON！FM／こちらから　　 \nしゅうなんFM／studio@fms784.co.jp　　　FMスマイルウエ～ブ／こちらから　　　FMわっしょい／こちらから \nFMはつかいち／こちらから　　KOCOラジ＜郡山コミュニティ放送＞／こちらから \n  \n●各局website： \n□FM-NANAKO（萩市） \n□FM AQUA（長門市） \n□COME ON ! FM（下関市内及び山陽小野田市、北九州市門司区・小倉北区の各一部） \n□しゅうなんFM（周南市・下松市、光市の一部） \n□FMはつかいち（広島県廿日市市）※水曜日 午前11：30～ \n□FMスマイルウエ～ブ（山陽小野田市、宇部市・美祢市・下関市の一部地域） ※水曜日 午後1：00～ \n□KOCOラジ（福島県郡山市） ※水曜日 夜10：00～ \n□FMわっしょい（防府市） ※土曜日 午前9：00～
URL:https://chihirosound.com/event/13992
CATEGORIES:オススメ,ラジオ
END:VEVENT
BEGIN:VEVENT
DTSTART;TZID=Asia/Tokyo:20221212T200000
DTEND;TZID=Asia/Tokyo:20221212T210000
DTSTAMP:20260426T121630
CREATED:20220921T064600Z
LAST-MODIFIED:20220921T064600Z
UID:14259-1670875200-1670878800@chihirosound.com
SUMMARY:Radio〔再放送〕
DESCRIPTION:💐９局Radio放送 ちひろレギュラー番組「みすゞさんと明るいほうへ」💐\n金子みすゞの詩の朗読・ご紹介など、みすゞさんについてたっぷりお届け ❤ 30分番組です♪ \n※毎週水曜日に放送している番組を再放送！ \n  \n●と　き：　毎週月曜日 \n●ラジオ局：　 \nKOCOラジ＜郡山コミュニティ放送＞（福島県郡山市） ／ 毎週月曜日 20：00～  \nULTRA FM（福島県須賀川市） ／ 毎週月曜日 20：30～ \n  \n●番組詳細：　『みすゞさんと明るいほうへ』 \n●パーソナリティ：　ちひろ \n  \n●周波数：　KOCOラジ／79.1MHz　　ULTRA FM ／ 86.8MHz \n●放送エリア：　郡山市・須賀川市を中心としたエリア、周辺受信エリア \n  \n●リクエスト＆メッセージ🎵：　こちらから \n  \n●レギュラー放送：　 \n・毎週水曜日 11：00～ ／ FM-NANAKO（萩市）、FM AQUA（長門市）、COME！ON FM（下関市）、しゅうんなんFM（周南・下松エリア）　 \n・毎週水曜日 11：30～ ／FMはつかいち（広島県廿日市市） \n・毎週水曜日 13：00～ ／ FMスマイルウエ～ブ（山陽小野田市） \n・毎週土曜日 9：00～ ／ FMわっしょい（防府市） \n・毎週月曜日 20：00～ ／ KOCOラジ＜郡山コミュニティ放送＞（福島県郡山市） \n・毎週月曜日 20：30～ ／ ULTRA FM（福島県須賀川市） \n 
URL:https://chihirosound.com/event/14259
CATEGORIES:ラジオ
END:VEVENT
BEGIN:VEVENT
DTSTART;TZID=Asia/Tokyo:20221211T143000
DTEND;TZID=Asia/Tokyo:20221211T154500
DTSTAMP:20260426T121630
CREATED:20221010T061258Z
LAST-MODIFIED:20221129T024438Z
UID:14429-1670769000-1670773500@chihirosound.com
SUMMARY:Concert〔長崎県〕
DESCRIPTION:【Title】「令和4年度 地域で考える女・男（ひと・ひと）フォーラムｉｎこながい」ちひろコンサート\nみんなちがって、みんないい生き方を ～金子みすゞの心とともに～\n●と　き：　12月11日（日） \n●ところ：　小長井文化ホール ハートフルホール（長崎県諫早市小長井町小川原浦825） \n※会場の地図はこちら \n●時　間：　開場／13：00頃　　開会／13：30（生涯学習大会）　　ちひろ開演／14：30～15：45 \n  \n●入場料：　無料 \n●対　象：　一般の方どなたでも \n●人　数：　200名 \n●お申込：　不要 \n  \n●主　催：　地域で考える女・男（ひと・ひと）フォーラムｉｎこながい実施委員会、諫早市、諫早市自治会連合会小長井支部、小長井町青少年健全育成会、小長井町内小学校・中学校PTA
URL:https://chihirosound.com/event/14429
LOCATION:小長井文化ホール\, 長崎県諫早市小長井町小川原浦８２５\, 諫早市\, 長崎県\, 859-0165\, 日本
CATEGORIES:オススメ,コンサート
END:VEVENT
BEGIN:VEVENT
DTSTART;TZID=Asia/Tokyo:20221211T143000
DTEND;TZID=Asia/Tokyo:20221211T150000
DTSTAMP:20260426T121630
CREATED:20220824T054158Z
LAST-MODIFIED:20220912T065904Z
UID:14062-1670769000-1670770800@chihirosound.com
SUMMARY:KRYラジオ「ちひろDEブレイク」
DESCRIPTION:♠♣♥♦毎週日曜日放送のちひろレギュラー番組♠♣♥♦\nコンサート会場での裏話、ＣＤアルバム制作秘話、名言コーナー、金子みすゞの詩をご紹介など、内容盛り沢山の30分です♪ \n  \n●毎週日曜日：　14：30～ \n●パーソナリティ：　ちひろ、瀬川 嘉 \n  \n●ちひろDEブレイク：　Official Website・ブログ・みすゞ心のメッセージ \n●周波数一覧 -KRY山口放送-：　こちら（AM・FMで聴く） \n●パソコン・スマホでKRYラジオが聴ける：　radiko.jp \n  \n●ご意見・ご感想はこちら \nメール：break@kry.co.jp\nＦＡＸ：0834-32-9000\nハガキ：〒745-8686　山口放送「ちひろDEブレイク」係 \nメッセージフォームはこちらから
URL:https://chihirosound.com/event/14062
CATEGORIES:オススメ,ラジオ
END:VEVENT
BEGIN:VEVENT
DTSTART;TZID=Asia/Tokyo:20221211T110000
DTEND;TZID=Asia/Tokyo:20221211T113000
DTSTAMP:20260426T121630
CREATED:20220824T043630Z
LAST-MODIFIED:20220921T065823Z
UID:13951-1670756400-1670758200@chihirosound.com
SUMMARY:Radio〔再放送〕
DESCRIPTION:💐９局Radio放送 ちひろレギュラー番組「みすゞさんと明るいほうへ」💐\n金子みすゞの詩の朗読・ご紹介など、みすゞさんについてたっぷりお届け ❤ 30分番組です♪ \n※毎週水曜日に放送している番組を再放送！ \n  \n●と　き：　毎週日曜日 \n●時　間：　午前11：00～ \n●ラジオ局：　FM AQUA \n  \n●番組詳細：　『みすゞさんと明るいほうへ』 \n●パーソナリティ：　ちひろ \n  \n●周波数：　FM AQUA／87.8MHz \n●放送エリア：　長門市を中心としたエリア、周辺受信エリア \n  \n●リクエスト＆メッセージ🎵：　FM AQUA／878@fmaqua.jp \n●レギュラー放送：　 \n・毎週水曜日 午前11：00～ ／ FM-NANAKO（萩市）、FM AQUA（長門市）、COME！ON FM（下関市）、しゅうんなんFM（周南・下松エリア）　 \n・毎週水曜日 午前11：30～ ／ FMはつかいち（広島県廿日市市） \n・毎週水曜日 午後1：00～ ／ FMスマイルウエ～ブ（山陽小野田市）　　　 \n・毎週水曜日 夜10：00～ ／ KOCOラジ＜郡山コミュニティ放送＞（福島県郡山市） \n・毎週土曜日 午前9：00～ ／ FMわっしょい（防府市）
URL:https://chihirosound.com/event/13951
CATEGORIES:ラジオ
END:VEVENT
BEGIN:VEVENT
DTSTART;TZID=Asia/Tokyo:20221210T090000
DTEND;TZID=Asia/Tokyo:20221210T093000
DTSTAMP:20260426T121630
CREATED:20220824T051642Z
LAST-MODIFIED:20220921T065752Z
UID:14026-1670662800-1670664600@chihirosound.com
SUMMARY:Radio〔再放送〕
DESCRIPTION:💐９局Radio放送 ちひろレギュラー番組「みすゞさんと明るいほうへ」💐\n金子みすゞの詩の朗読・ご紹介など、みすゞさんについてたっぷりお届け ❤ 30分番組です♪ \n※毎週水曜日に放送している番組を再放送！ \n  \n●ラジオ局：　 \n・FMわっしょい（防府市） ／ 毎週土曜日　午前9：00～　 \n・FM-NANAKO（萩市） ／ 毎週土曜日　午後3：00～ \n  \n●番　組：　『みすゞさんと明るいほうへ』　　 \n●パーソナリティ：　ちひろ \n  \n●周波数：　FMわっしょい／77.3MHz　　FM-NANAKO／77.5MHz \n●放送エリア：　防府市・萩市を中心としたエリア、周辺受信エリア \n  \n●リクエスト＆メッセージ🎵：　misuzufm.0407@gmail.com \n●レギュラー放送：　 \n・毎週水曜日 午前11：00～ ／ FM-NANAKO（萩市）、FM AQUA（長門市）、COME！ON FM（下関市）、しゅうんなんFM（周南・下松エリア）　 \n・毎週水曜日 午前11：30～ ／FMはつかいち（広島県廿日市市） \n・毎週水曜日 午後1：00～ ／ FMスマイルウエ～ブ（山陽小野田市） \n・毎週水曜日 夜10：00～ ／ KOCOラジ＜郡山コミュニティ放送＞（福島県郡山市）
URL:https://chihirosound.com/event/14026
CATEGORIES:ラジオ
END:VEVENT
BEGIN:VEVENT
DTSTART;TZID=Asia/Tokyo:20221207T110000
DTEND;TZID=Asia/Tokyo:20221207T113000
DTSTAMP:20260426T121630
CREATED:20220824T050031Z
LAST-MODIFIED:20220921T065729Z
UID:13990-1670410800-1670412600@chihirosound.com
SUMMARY:９局Radio「みすゞさんと明るいほうへ」
DESCRIPTION:💐９局Radio放送・ちひろレギュラー番組💐\n金子みすゞの詩の朗読・ご紹介など、みすゞさんについてたっぷりお届け ❤ 30分番組です♪ \n  \n●番組詳細：　『みすゞさんと明るいほうへ』 \n●パーソナリティ：　ちひろ \n  \n●レギュラー放送時間：　 \n毎週水曜日 午前11：00～／FM-NANAKO、FM AQUA、COME ON！FM、しゅうなんFM \n毎週水曜日 午前11：30～／FMはつかいち \n毎週水曜日 午後1：00～／FMスマイルウエ～ブ \n毎週水曜日 夜10：00～／KOCOラジ＜郡山コミュニティ放送＞ \n毎週土曜日 午前9：00～／FMわっしょい \n  \n●再放送：　FM-NANAKO／毎週土曜日 午後3：00～　　FM AQUA／毎週日曜日午前11：00～ \n  \n●周波数：　 \nFM-NANAKO／77.5MHz　　FM AQUA／87.8MHz　　COME ON！FM／76.4MHz \nしゅうなんFM／78.4MHz　　FMスマイルウエ～ブ／89.7MHz　　FMわっしょい／77.3MHz \nFMはつかいち／76.1MHz　KOCOラジ／79.1MHz \n  \n●インターネットで聴く：　※全国どこでもインターネットでラジオが聴けるページです。 \n  \n■JCBAインターネットサイマルラジオで聴く \n中国地区の「COME ON! FM」  or  「しゅうなんFM」　の　「LISTEN♪」　をクリックしてください♪ \n■COME ON! FMをインターネットで聴く \n■FMはつかいちをインターネットで聴く \n■FMスマイルウエ～ブをインターネットで聴く \n■FMわっしょいをインターネットで聴く（土曜日 午前9:00～） \n  \n■サイマルラジオで聴く \n東北地区の「郡山コミュニティ放送」　の　「放送を聴く」　をクリックしてください♪ \n■KOCOラジ＜郡山コミュニティ放送＞をインターネットで聴く（水曜日 夜10：00～） \n  \n  \n●リクエスト＆メッセージ🎵：　misuzufm.0407@gmail.com \nもしくは　FM-NANAKO／775@haginet.ne.jp　　FM AQUA／878@fmaqua.jp　　COME ON！FM／こちらから　　 \nしゅうなんFM／studio@fms784.co.jp　　　FMスマイルウエ～ブ／こちらから　　　FMわっしょい／こちらから \nFMはつかいち／こちらから　　KOCOラジ＜郡山コミュニティ放送＞／こちらから \n  \n●各局website： \n□FM-NANAKO（萩市） \n□FM AQUA（長門市） \n□COME ON ! FM（下関市内及び山陽小野田市、北九州市門司区・小倉北区の各一部） \n□しゅうなんFM（周南市・下松市、光市の一部） \n□FMはつかいち（広島県廿日市市）※水曜日 午前11：30～ \n□FMスマイルウエ～ブ（山陽小野田市、宇部市・美祢市・下関市の一部地域） ※水曜日 午後1：00～ \n□KOCOラジ（福島県郡山市） ※水曜日 夜10：00～ \n□FMわっしょい（防府市） ※土曜日 午前9：00～
URL:https://chihirosound.com/event/13990
CATEGORIES:オススメ,ラジオ
END:VEVENT
BEGIN:VEVENT
DTSTART;TZID=Asia/Tokyo:20221206T131000
DTEND;TZID=Asia/Tokyo:20221206T132500
DTSTAMP:20260426T121630
CREATED:20221201T141720Z
LAST-MODIFIED:20221201T141720Z
UID:14840-1670332200-1670333100@chihirosound.com
SUMMARY:Radio〔長崎県〕
DESCRIPTION:【Title】RAINBOW FM（長崎県諫早市）に電話ゲスト出演！\n●と　き：　12月6日（火） \n●時　間：　13：10頃～ \n●ラジオ局：　RAINBOW FM \n●番　組：　『にじらじステーション』 \n●パーソナリティ：　河野 律子 さん \n  \n●周波数：　77.1 MHz \n●放送エリア：　諫早市及び周辺エリア \n●インターネットで聴く：　こちらから \n●リクエスト＆メッセージ：　メールはこちら　　F A X ＜0248-63-7003＞ \n 
URL:https://chihirosound.com/event/14840
CATEGORIES:オススメ,ラジオ
ORGANIZER;CN="%E3%82%A8%E3%83%95%E3%82%A8%E3%83%A0%E8%AB%AB%E6%97%A9":MAILTO:http://www.771fm.co.jp/inq.html
END:VEVENT
BEGIN:VEVENT
DTSTART;TZID=Asia/Tokyo:20221205T200000
DTEND;TZID=Asia/Tokyo:20221205T210000
DTSTAMP:20260426T121630
CREATED:20220921T064452Z
LAST-MODIFIED:20220921T064452Z
UID:14257-1670270400-1670274000@chihirosound.com
SUMMARY:Radio〔再放送〕
DESCRIPTION:💐９局Radio放送 ちひろレギュラー番組「みすゞさんと明るいほうへ」💐\n金子みすゞの詩の朗読・ご紹介など、みすゞさんについてたっぷりお届け ❤ 30分番組です♪ \n※毎週水曜日に放送している番組を再放送！ \n  \n●と　き：　毎週月曜日 \n●ラジオ局：　 \nKOCOラジ＜郡山コミュニティ放送＞（福島県郡山市） ／ 毎週月曜日 20：00～  \nULTRA FM（福島県須賀川市） ／ 毎週月曜日 20：30～ \n  \n●番組詳細：　『みすゞさんと明るいほうへ』 \n●パーソナリティ：　ちひろ \n  \n●周波数：　KOCOラジ／79.1MHz　　ULTRA FM ／ 86.8MHz \n●放送エリア：　郡山市・須賀川市を中心としたエリア、周辺受信エリア \n  \n●リクエスト＆メッセージ🎵：　こちらから \n  \n●レギュラー放送：　 \n・毎週水曜日 11：00～ ／ FM-NANAKO（萩市）、FM AQUA（長門市）、COME！ON FM（下関市）、しゅうんなんFM（周南・下松エリア）　 \n・毎週水曜日 11：30～ ／FMはつかいち（広島県廿日市市） \n・毎週水曜日 13：00～ ／ FMスマイルウエ～ブ（山陽小野田市） \n・毎週土曜日 9：00～ ／ FMわっしょい（防府市） \n・毎週月曜日 20：00～ ／ KOCOラジ＜郡山コミュニティ放送＞（福島県郡山市） \n・毎週月曜日 20：30～ ／ ULTRA FM（福島県須賀川市） \n 
URL:https://chihirosound.com/event/14257
CATEGORIES:ラジオ
END:VEVENT
BEGIN:VEVENT
DTSTART;TZID=Asia/Tokyo:20221204T130000
DTEND;TZID=Asia/Tokyo:20221204T133000
DTSTAMP:20260426T121630
CREATED:20220824T054100Z
LAST-MODIFIED:20231203T030704Z
UID:14060-1670158800-1670160600@chihirosound.com
SUMMARY:【時間変更】KRYラジオ「ちひろDEブレイク」
DESCRIPTION:本日は「第53回記念 防府読売マラソン大会」放送の為、\n「ちひろDEブレイク」の放送時間が13：00～に変更となります。何卒ご了承くださいませ。\n  \n♠♣♥♦毎週日曜日放送のちひろレギュラー番組♠♣♥♦\nコンサート会場での裏話、ＣＤアルバム制作秘話、名言コーナー、金子みすゞの詩をご紹介など、内容盛り沢山の30分です♪ \n  \n●毎週日曜日：　本日のみ13：00～ \n●パーソナリティ：　ちひろ、瀬川 嘉 \n  \n●ちひろDEブレイク：　Official Website・ブログ・みすゞ心のメッセージ \n●周波数一覧 -KRY山口放送-：　こちら（AM・FMで聴く） \n●パソコン・スマホでKRYラジオが聴ける：　radiko.jp \n  \n●ご意見・ご感想はこちら \nメール：break@kry.co.jp\nＦＡＸ：0834-32-9000\nハガキ：〒745-8686　山口放送「ちひろDEブレイク」係 \nメッセージフォームはこちらから
URL:https://chihirosound.com/event/14060
CATEGORIES:オススメ,ラジオ
END:VEVENT
BEGIN:VEVENT
DTSTART;TZID=Asia/Tokyo:20221204T110000
DTEND;TZID=Asia/Tokyo:20221204T113000
DTSTAMP:20260426T121630
CREATED:20220824T043544Z
LAST-MODIFIED:20220921T065703Z
UID:13949-1670151600-1670153400@chihirosound.com
SUMMARY:Radio〔再放送〕
DESCRIPTION:💐９局Radio放送 ちひろレギュラー番組「みすゞさんと明るいほうへ」💐\n金子みすゞの詩の朗読・ご紹介など、みすゞさんについてたっぷりお届け ❤ 30分番組です♪ \n※毎週水曜日に放送している番組を再放送！ \n  \n●と　き：　毎週日曜日 \n●時　間：　午前11：00～ \n●ラジオ局：　FM AQUA \n  \n●番組詳細：　『みすゞさんと明るいほうへ』 \n●パーソナリティ：　ちひろ \n  \n●周波数：　FM AQUA／87.8MHz \n●放送エリア：　長門市を中心としたエリア、周辺受信エリア \n  \n●リクエスト＆メッセージ🎵：　FM AQUA／878@fmaqua.jp \n●レギュラー放送：　 \n・毎週水曜日 午前11：00～ ／ FM-NANAKO（萩市）、FM AQUA（長門市）、COME！ON FM（下関市）、しゅうんなんFM（周南・下松エリア）　 \n・毎週水曜日 午前11：30～ ／ FMはつかいち（広島県廿日市市） \n・毎週水曜日 午後1：00～ ／ FMスマイルウエ～ブ（山陽小野田市）　　　 \n・毎週水曜日 夜10：00～ ／ KOCOラジ＜郡山コミュニティ放送＞（福島県郡山市） \n・毎週土曜日 午前9：00～ ／ FMわっしょい（防府市）
URL:https://chihirosound.com/event/13949
CATEGORIES:ラジオ
END:VEVENT
BEGIN:VEVENT
DTSTART;TZID=Asia/Tokyo:20221203T090000
DTEND;TZID=Asia/Tokyo:20221203T093000
DTSTAMP:20260426T121630
CREATED:20220824T051548Z
LAST-MODIFIED:20220921T065639Z
UID:14024-1670058000-1670059800@chihirosound.com
SUMMARY:Radio〔再放送〕
DESCRIPTION:💐９局Radio放送 ちひろレギュラー番組「みすゞさんと明るいほうへ」💐\n金子みすゞの詩の朗読・ご紹介など、みすゞさんについてたっぷりお届け ❤ 30分番組です♪ \n※毎週水曜日に放送している番組を再放送！ \n  \n●ラジオ局：　 \n・FMわっしょい（防府市） ／ 毎週土曜日　午前9：00～　 \n・FM-NANAKO（萩市） ／ 毎週土曜日　午後3：00～ \n  \n●番　組：　『みすゞさんと明るいほうへ』　　 \n●パーソナリティ：　ちひろ \n  \n●周波数：　FMわっしょい／77.3MHz　　FM-NANAKO／77.5MHz \n●放送エリア：　防府市・萩市を中心としたエリア、周辺受信エリア \n  \n●リクエスト＆メッセージ🎵：　misuzufm.0407@gmail.com \n●レギュラー放送：　 \n・毎週水曜日 午前11：00～ ／ FM-NANAKO（萩市）、FM AQUA（長門市）、COME！ON FM（下関市）、しゅうんなんFM（周南・下松エリア）　 \n・毎週水曜日 午前11：30～ ／FMはつかいち（広島県廿日市市） \n・毎週水曜日 午後1：00～ ／ FMスマイルウエ～ブ（山陽小野田市） \n・毎週水曜日 夜10：00～ ／ KOCOラジ＜郡山コミュニティ放送＞（福島県郡山市）
URL:https://chihirosound.com/event/14024
CATEGORIES:ラジオ
END:VEVENT
BEGIN:VEVENT
DTSTART;TZID=Asia/Tokyo:20221130T110000
DTEND;TZID=Asia/Tokyo:20221130T113000
DTSTAMP:20260426T121630
CREATED:20220824T045943Z
LAST-MODIFIED:20220921T065547Z
UID:13988-1669806000-1669807800@chihirosound.com
SUMMARY:９局Radio「みすゞさんと明るいほうへ」
DESCRIPTION:💐９局Radio放送・ちひろレギュラー番組💐\n金子みすゞの詩の朗読・ご紹介など、みすゞさんについてたっぷりお届け ❤ 30分番組です♪ \n  \n●番組詳細：　『みすゞさんと明るいほうへ』 \n●パーソナリティ：　ちひろ \n  \n●レギュラー放送時間：　 \n毎週水曜日 午前11：00～／FM-NANAKO、FM AQUA、COME ON！FM、しゅうなんFM \n毎週水曜日 午前11：30～／FMはつかいち \n毎週水曜日 午後1：00～／FMスマイルウエ～ブ \n毎週水曜日 夜10：00～／KOCOラジ＜郡山コミュニティ放送＞ \n毎週土曜日 午前9：00～／FMわっしょい \n  \n●再放送：　FM-NANAKO／毎週土曜日 午後3：00～　　FM AQUA／毎週日曜日午前11：00～ \n  \n●周波数：　 \nFM-NANAKO／77.5MHz　　FM AQUA／87.8MHz　　COME ON！FM／76.4MHz \nしゅうなんFM／78.4MHz　　FMスマイルウエ～ブ／89.7MHz　　FMわっしょい／77.3MHz \nFMはつかいち／76.1MHz　KOCOラジ／79.1MHz \n  \n●インターネットで聴く：　※全国どこでもインターネットでラジオが聴けるページです。 \n  \n■JCBAインターネットサイマルラジオで聴く \n中国地区の「COME ON! FM」  or  「しゅうなんFM」　の　「LISTEN♪」　をクリックしてください♪ \n■COME ON! FMをインターネットで聴く \n■FMはつかいちをインターネットで聴く \n■FMスマイルウエ～ブをインターネットで聴く \n■FMわっしょいをインターネットで聴く（土曜日 午前9:00～） \n  \n■サイマルラジオで聴く \n東北地区の「郡山コミュニティ放送」　の　「放送を聴く」　をクリックしてください♪ \n■KOCOラジ＜郡山コミュニティ放送＞をインターネットで聴く（水曜日 夜10：00～） \n  \n  \n●リクエスト＆メッセージ🎵：　misuzufm.0407@gmail.com \nもしくは　FM-NANAKO／775@haginet.ne.jp　　FM AQUA／878@fmaqua.jp　　COME ON！FM／こちらから　　 \nしゅうなんFM／studio@fms784.co.jp　　　FMスマイルウエ～ブ／こちらから　　　FMわっしょい／こちらから \nFMはつかいち／こちらから　　KOCOラジ＜郡山コミュニティ放送＞／こちらから \n  \n●各局website： \n□FM-NANAKO（萩市） \n□FM AQUA（長門市） \n□COME ON ! FM（下関市内及び山陽小野田市、北九州市門司区・小倉北区の各一部） \n□しゅうなんFM（周南市・下松市、光市の一部） \n□FMはつかいち（広島県廿日市市）※水曜日 午前11：30～ \n□FMスマイルウエ～ブ（山陽小野田市、宇部市・美祢市・下関市の一部地域） ※水曜日 午後1：00～ \n□KOCOラジ（福島県郡山市） ※水曜日 夜10：00～ \n□FMわっしょい（防府市） ※土曜日 午前9：00～
URL:https://chihirosound.com/event/13988
CATEGORIES:オススメ,ラジオ
END:VEVENT
BEGIN:VEVENT
DTSTART;TZID=Asia/Tokyo:20221128T200000
DTEND;TZID=Asia/Tokyo:20221128T210000
DTSTAMP:20260426T121630
CREATED:20220921T064145Z
LAST-MODIFIED:20220921T064145Z
UID:14254-1669665600-1669669200@chihirosound.com
SUMMARY:Radio〔再放送〕
DESCRIPTION:💐９局Radio放送 ちひろレギュラー番組「みすゞさんと明るいほうへ」💐\n金子みすゞの詩の朗読・ご紹介など、みすゞさんについてたっぷりお届け ❤ 30分番組です♪ \n※毎週水曜日に放送している番組を再放送！ \n  \n●と　き：　毎週月曜日 \n●ラジオ局：　 \nKOCOラジ＜郡山コミュニティ放送＞（福島県郡山市） ／ 毎週月曜日 20：00～  \nULTRA FM（福島県須賀川市） ／ 毎週月曜日 20：30～ \n  \n●番組詳細：　『みすゞさんと明るいほうへ』 \n●パーソナリティ：　ちひろ \n  \n●周波数：　KOCOラジ／79.1MHz　　ULTRA FM ／ 86.8MHz \n●放送エリア：　郡山市・須賀川市を中心としたエリア、周辺受信エリア \n  \n●リクエスト＆メッセージ🎵：　こちらから \n  \n●レギュラー放送：　 \n・毎週水曜日 11：00～ ／ FM-NANAKO（萩市）、FM AQUA（長門市）、COME！ON FM（下関市）、しゅうんなんFM（周南・下松エリア）　 \n・毎週水曜日 11：30～ ／FMはつかいち（広島県廿日市市） \n・毎週水曜日 13：00～ ／ FMスマイルウエ～ブ（山陽小野田市） \n・毎週土曜日 9：00～ ／ FMわっしょい（防府市） \n・毎週月曜日 20：00～ ／ KOCOラジ＜郡山コミュニティ放送＞（福島県郡山市） \n・毎週月曜日 20：30～ ／ ULTRA FM（福島県須賀川市） \n 
URL:https://chihirosound.com/event/14254
CATEGORIES:ラジオ
END:VEVENT
BEGIN:VEVENT
DTSTART;TZID=Asia/Tokyo:20221127T143000
DTEND;TZID=Asia/Tokyo:20221127T150000
DTSTAMP:20260426T121630
CREATED:20220824T054019Z
LAST-MODIFIED:20220912T070031Z
UID:14058-1669559400-1669561200@chihirosound.com
SUMMARY:KRYラジオ「ちひろDEブレイク」
DESCRIPTION:♠♣♥♦毎週日曜日放送のちひろレギュラー番組♠♣♥♦\nコンサート会場での裏話、ＣＤアルバム制作秘話、名言コーナー、金子みすゞの詩をご紹介など、内容盛り沢山の30分です♪ \n  \n●毎週日曜日：　14：30～ \n●パーソナリティ：　ちひろ、瀬川 嘉 \n  \n●ちひろDEブレイク：　Official Website・ブログ・みすゞ心のメッセージ \n●周波数一覧 -KRY山口放送-：　こちら（AM・FMで聴く） \n●パソコン・スマホでKRYラジオが聴ける：　radiko.jp \n  \n●ご意見・ご感想はこちら \nメール：break@kry.co.jp\nＦＡＸ：0834-32-9000\nハガキ：〒745-8686　山口放送「ちひろDEブレイク」係 \nメッセージフォームはこちらから
URL:https://chihirosound.com/event/14058
CATEGORIES:オススメ,ラジオ
END:VEVENT
BEGIN:VEVENT
DTSTART;TZID=Asia/Tokyo:20221127T110000
DTEND;TZID=Asia/Tokyo:20221127T113000
DTSTAMP:20260426T121630
CREATED:20220824T043443Z
LAST-MODIFIED:20220921T065515Z
UID:13947-1669546800-1669548600@chihirosound.com
SUMMARY:Radio〔再放送〕
DESCRIPTION:💐９局Radio放送 ちひろレギュラー番組「みすゞさんと明るいほうへ」💐\n金子みすゞの詩の朗読・ご紹介など、みすゞさんについてたっぷりお届け ❤ 30分番組です♪ \n※毎週水曜日に放送している番組を再放送！ \n  \n●と　き：　毎週日曜日 \n●時　間：　午前11：00～ \n●ラジオ局：　FM AQUA \n  \n●番組詳細：　『みすゞさんと明るいほうへ』 \n●パーソナリティ：　ちひろ \n  \n●周波数：　FM AQUA／87.8MHz \n●放送エリア：　長門市を中心としたエリア、周辺受信エリア \n  \n●リクエスト＆メッセージ🎵：　FM AQUA／878@fmaqua.jp \n●レギュラー放送：　 \n・毎週水曜日 午前11：00～ ／ FM-NANAKO（萩市）、FM AQUA（長門市）、COME！ON FM（下関市）、しゅうんなんFM（周南・下松エリア）　 \n・毎週水曜日 午前11：30～ ／ FMはつかいち（広島県廿日市市） \n・毎週水曜日 午後1：00～ ／ FMスマイルウエ～ブ（山陽小野田市）　　　 \n・毎週水曜日 夜10：00～ ／ KOCOラジ＜郡山コミュニティ放送＞（福島県郡山市） \n・毎週土曜日 午前9：00～ ／ FMわっしょい（防府市）
URL:https://chihirosound.com/event/13947
CATEGORIES:ラジオ
END:VEVENT
BEGIN:VEVENT
DTSTART;TZID=Asia/Tokyo:20221126T140000
DTEND;TZID=Asia/Tokyo:20221126T144000
DTSTAMP:20260426T121630
CREATED:20220921T075203Z
LAST-MODIFIED:20221009T141224Z
UID:14316-1669471200-1669473600@chihirosound.com
SUMMARY:Concert〔山口県〕
DESCRIPTION:【Title】「第14回 あじすふれあいフェスティバル」ちひろコンサート トーク&コンサート\nみんなちがって、みんないい生き方を ～金子みすゞの心とともに～\n●と　き：　11月26日（土） \n●ところ：　阿知須地域交流センター（あいあい館） 2階 大ホール（山口県山口市阿知須2743番地） \n※会場の地図はこちら \n●時　間：　第1部／13：30　　第2部／ちひろトーク&コンサート　14：00～14：40 \n  \n●入場料：　無料 \n●対　象：　一般（どなたでもOK）、地域、関係者 \n●人　数：　先着申込150名 \n●お申込：　要申込　11月11日（金）までに、お電話・メール・FAX・にてお申込ください。（住所・氏名・電話番号をお申し込み時にお知らせください） \n●お申込先：　阿知須地域交流センター（電話／0836-65-2022　FAX／0836-65-4013　e-mail／ajisu@city.yamaguchi.lg.jp） \n  \n●主　催：　阿知須地区人権教育推進協議会 \n●共　催：　阿知須地域づくり協議会（阿知須カレッジ共催） \nPDFはこちら
URL:https://chihirosound.com/event/14316
LOCATION:阿知須地域交流センター\, 山口県山口市阿知須２７４３\, 山口市\, 山口県\, 754-1292\, 日本
CATEGORIES:オススメ,コンサート
ATTACH;FMTTYPE=image/jpeg:https://chihirosound.com/wp-content/uploads/2022/10/ebce62f9d8ce84e771409399a31d4de6.jpg
ORGANIZER;CN="%E9%98%BF%E7%9F%A5%E9%A0%88%E5%9C%B0%E5%8C%BA%E4%BA%BA%E6%A8%A9%E6%95%99%E8%82%B2%E6%8E%A8%E9%80%B2%E5%8D%94%E8%AD%B0%E4%BC%9A":MAILTO:ajisu@city.yamaguchi.lg.jp
END:VEVENT
BEGIN:VEVENT
DTSTART;TZID=Asia/Tokyo:20221126T090000
DTEND;TZID=Asia/Tokyo:20221126T093000
DTSTAMP:20260426T121630
CREATED:20220824T051442Z
LAST-MODIFIED:20220921T065454Z
UID:14022-1669453200-1669455000@chihirosound.com
SUMMARY:Radio〔再放送〕
DESCRIPTION:💐９局Radio放送 ちひろレギュラー番組「みすゞさんと明るいほうへ」💐\n金子みすゞの詩の朗読・ご紹介など、みすゞさんについてたっぷりお届け ❤ 30分番組です♪ \n※毎週水曜日に放送している番組を再放送！ \n  \n●ラジオ局：　 \n・FMわっしょい（防府市） ／ 毎週土曜日　午前9：00～　 \n・FM-NANAKO（萩市） ／ 毎週土曜日　午後3：00～ \n  \n●番　組：　『みすゞさんと明るいほうへ』　　 \n●パーソナリティ：　ちひろ \n  \n●周波数：　FMわっしょい／77.3MHz　　FM-NANAKO／77.5MHz \n●放送エリア：　防府市・萩市を中心としたエリア、周辺受信エリア \n  \n●リクエスト＆メッセージ🎵：　misuzufm.0407@gmail.com \n●レギュラー放送：　 \n・毎週水曜日 午前11：00～ ／ FM-NANAKO（萩市）、FM AQUA（長門市）、COME！ON FM（下関市）、しゅうんなんFM（周南・下松エリア）　 \n・毎週水曜日 午前11：30～ ／FMはつかいち（広島県廿日市市） \n・毎週水曜日 午後1：00～ ／ FMスマイルウエ～ブ（山陽小野田市） \n・毎週水曜日 夜10：00～ ／ KOCOラジ＜郡山コミュニティ放送＞（福島県郡山市）
URL:https://chihirosound.com/event/14022
CATEGORIES:ラジオ
END:VEVENT
BEGIN:VEVENT
DTSTART;TZID=Asia/Tokyo:20221125T180000
DTEND;TZID=Asia/Tokyo:20221126T160000
DTSTAMP:20260426T121630
CREATED:20221122T151708Z
LAST-MODIFIED:20230403T134224Z
UID:14780-1669399200-1669478400@chihirosound.com
SUMMARY:Cable-TV〔山口県〕
DESCRIPTION:【Title】長門市ケーブルテレビ ほっちゃテレビ\n「ほっちゃNEWSイブニング」にて長門市立仙崎小学校 創立150周年 記念ちひろコンサートの様子が紹介される予定です！\n  \n●と　き：　11月25日（金）夕方6：00／初回放送　～26日（土）午後4：00まで計8回の再放送 \n●時　間：　①夕方6：00～　②午後8：00～　③午後10：00～　④午前0：00～　⑤午前8：00～　⑥午前10：00～　⑦午後2：00　⑧午後4：00 \n※27日（日）は「ほっちゃNEWSウィークリー」でニュースダイジェストで放送されます \n  \n●放送局：　長門市ケーブルテレビ ほっちゃテレビ \n●番　組：　『ほっちゃNEWSイブニング』 \n●概　要：　長門市立仙崎小学校 創立150周年 記念ちひろコンサートについてON AIRされます！ \n●ご視聴方法：　対象エリアの加入者
URL:https://chihirosound.com/event/14780
CATEGORIES:オススメ,テレビ
END:VEVENT
BEGIN:VEVENT
DTSTART;TZID=Asia/Tokyo:20221124T140000
DTEND;TZID=Asia/Tokyo:20221124T150000
DTSTAMP:20260426T121630
CREATED:20220627T030617Z
LAST-MODIFIED:20221117T034052Z
UID:13581-1669298400-1669302000@chihirosound.com
SUMMARY:Concert〔山口県〕
DESCRIPTION:【Title】「山口市立良城小学校 開校150周年記念」ちひろコンサート\n明るいほうへ ～金子みすゞの心とともに～\n●と　き：　11月24日（木） \n●ところ：　山口市立良城小学校 体育館（山口県山口市吉敷佐畑3丁目3-3） \n※会場の地図はこちら \n●時　間：　13：30／開場　　14：00／開演　　15：00／終演 \n●対　象：　児童、教職員、保護者・地域の方 \n●主　催：　山口市立良城小学校 開校150周年記念実行委員会 \n 
URL:https://chihirosound.com/event/13581
LOCATION:山口市立良城小学校\, 山口県山口市吉敷佐畑３丁目３−３\, 山口市\, 山口県\, 753-0816\, 日本
CATEGORIES:オススメ,コンサート
END:VEVENT
BEGIN:VEVENT
DTSTART;TZID=Asia/Tokyo:20221123T110000
DTEND;TZID=Asia/Tokyo:20221123T113000
DTSTAMP:20260426T121630
CREATED:20220824T045847Z
LAST-MODIFIED:20220921T065429Z
UID:13986-1669201200-1669203000@chihirosound.com
SUMMARY:９局Radio「みすゞさんと明るいほうへ」
DESCRIPTION:💐９局Radio放送・ちひろレギュラー番組💐\n金子みすゞの詩の朗読・ご紹介など、みすゞさんについてたっぷりお届け ❤ 30分番組です♪ \n  \n●番組詳細：　『みすゞさんと明るいほうへ』 \n●パーソナリティ：　ちひろ \n  \n●レギュラー放送時間：　 \n毎週水曜日 午前11：00～／FM-NANAKO、FM AQUA、COME ON！FM、しゅうなんFM \n毎週水曜日 午前11：30～／FMはつかいち \n毎週水曜日 午後1：00～／FMスマイルウエ～ブ \n毎週水曜日 夜10：00～／KOCOラジ＜郡山コミュニティ放送＞ \n毎週土曜日 午前9：00～／FMわっしょい \n  \n●再放送：　FM-NANAKO／毎週土曜日 午後3：00～　　FM AQUA／毎週日曜日午前11：00～ \n  \n●周波数：　 \nFM-NANAKO／77.5MHz　　FM AQUA／87.8MHz　　COME ON！FM／76.4MHz \nしゅうなんFM／78.4MHz　　FMスマイルウエ～ブ／89.7MHz　　FMわっしょい／77.3MHz \nFMはつかいち／76.1MHz　KOCOラジ／79.1MHz \n  \n●インターネットで聴く：　※全国どこでもインターネットでラジオが聴けるページです。 \n  \n■JCBAインターネットサイマルラジオで聴く \n中国地区の「COME ON! FM」  or  「しゅうなんFM」　の　「LISTEN♪」　をクリックしてください♪ \n■COME ON! FMをインターネットで聴く \n■FMはつかいちをインターネットで聴く \n■FMスマイルウエ～ブをインターネットで聴く \n■FMわっしょいをインターネットで聴く（土曜日 午前9:00～） \n  \n■サイマルラジオで聴く \n東北地区の「郡山コミュニティ放送」　の　「放送を聴く」　をクリックしてください♪ \n■KOCOラジ＜郡山コミュニティ放送＞をインターネットで聴く（水曜日 夜10：00～） \n  \n  \n●リクエスト＆メッセージ🎵：　misuzufm.0407@gmail.com \nもしくは　FM-NANAKO／775@haginet.ne.jp　　FM AQUA／878@fmaqua.jp　　COME ON！FM／こちらから　　 \nしゅうなんFM／studio@fms784.co.jp　　　FMスマイルウエ～ブ／こちらから　　　FMわっしょい／こちらから \nFMはつかいち／こちらから　　KOCOラジ＜郡山コミュニティ放送＞／こちらから \n  \n●各局website： \n□FM-NANAKO（萩市） \n□FM AQUA（長門市） \n□COME ON ! FM（下関市内及び山陽小野田市、北九州市門司区・小倉北区の各一部） \n□しゅうなんFM（周南市・下松市、光市の一部） \n□FMはつかいち（広島県廿日市市）※水曜日 午前11：30～ \n□FMスマイルウエ～ブ（山陽小野田市、宇部市・美祢市・下関市の一部地域） ※水曜日 午後1：00～ \n□KOCOラジ（福島県郡山市） ※水曜日 夜10：00～ \n□FMわっしょい（防府市） ※土曜日 午前9：00～
URL:https://chihirosound.com/event/13986
CATEGORIES:オススメ,ラジオ
END:VEVENT
BEGIN:VEVENT
DTSTART;TZID=Asia/Tokyo:20221121T200000
DTEND;TZID=Asia/Tokyo:20221121T210000
DTSTAMP:20260426T121630
CREATED:20220921T064108Z
LAST-MODIFIED:20220921T064108Z
UID:14252-1669060800-1669064400@chihirosound.com
SUMMARY:Radio〔再放送〕
DESCRIPTION:💐９局Radio放送 ちひろレギュラー番組「みすゞさんと明るいほうへ」💐\n金子みすゞの詩の朗読・ご紹介など、みすゞさんについてたっぷりお届け ❤ 30分番組です♪ \n※毎週水曜日に放送している番組を再放送！ \n  \n●と　き：　毎週月曜日 \n●ラジオ局：　 \nKOCOラジ＜郡山コミュニティ放送＞（福島県郡山市） ／ 毎週月曜日 20：00～  \nULTRA FM（福島県須賀川市） ／ 毎週月曜日 20：30～ \n  \n●番組詳細：　『みすゞさんと明るいほうへ』 \n●パーソナリティ：　ちひろ \n  \n●周波数：　KOCOラジ／79.1MHz　　ULTRA FM ／ 86.8MHz \n●放送エリア：　郡山市・須賀川市を中心としたエリア、周辺受信エリア \n  \n●リクエスト＆メッセージ🎵：　こちらから \n  \n●レギュラー放送：　 \n・毎週水曜日 11：00～ ／ FM-NANAKO（萩市）、FM AQUA（長門市）、COME！ON FM（下関市）、しゅうんなんFM（周南・下松エリア）　 \n・毎週水曜日 11：30～ ／FMはつかいち（広島県廿日市市） \n・毎週水曜日 13：00～ ／ FMスマイルウエ～ブ（山陽小野田市） \n・毎週土曜日 9：00～ ／ FMわっしょい（防府市） \n・毎週月曜日 20：00～ ／ KOCOラジ＜郡山コミュニティ放送＞（福島県郡山市） \n・毎週月曜日 20：30～ ／ ULTRA FM（福島県須賀川市） \n 
URL:https://chihirosound.com/event/14252
CATEGORIES:ラジオ
END:VEVENT
BEGIN:VEVENT
DTSTART;TZID=Asia/Tokyo:20221120T143000
DTEND;TZID=Asia/Tokyo:20221120T150000
DTSTAMP:20260426T121630
CREATED:20220824T053939Z
LAST-MODIFIED:20220912T070110Z
UID:14056-1668954600-1668956400@chihirosound.com
SUMMARY:KRYラジオ「ちひろDEブレイク」
DESCRIPTION:♠♣♥♦毎週日曜日放送のちひろレギュラー番組♠♣♥♦\nコンサート会場での裏話、ＣＤアルバム制作秘話、名言コーナー、金子みすゞの詩をご紹介など、内容盛り沢山の30分です♪ \n  \n●毎週日曜日：　14：30～ \n●パーソナリティ：　ちひろ、瀬川 嘉 \n  \n●ちひろDEブレイク：　Official Website・ブログ・みすゞ心のメッセージ \n●周波数一覧 -KRY山口放送-：　こちら（AM・FMで聴く） \n●パソコン・スマホでKRYラジオが聴ける：　radiko.jp \n  \n●ご意見・ご感想はこちら \nメール：break@kry.co.jp\nＦＡＸ：0834-32-9000\nハガキ：〒745-8686　山口放送「ちひろDEブレイク」係 \nメッセージフォームはこちらから
URL:https://chihirosound.com/event/14056
CATEGORIES:オススメ,ラジオ
END:VEVENT
BEGIN:VEVENT
DTSTART;TZID=Asia/Tokyo:20221120T110000
DTEND;TZID=Asia/Tokyo:20221120T113000
DTSTAMP:20260426T121630
CREATED:20220824T043352Z
LAST-MODIFIED:20220921T065335Z
UID:13945-1668942000-1668943800@chihirosound.com
SUMMARY:Radio〔再放送〕
DESCRIPTION:💐９局Radio放送 ちひろレギュラー番組「みすゞさんと明るいほうへ」💐\n金子みすゞの詩の朗読・ご紹介など、みすゞさんについてたっぷりお届け ❤ 30分番組です♪ \n※毎週水曜日に放送している番組を再放送！ \n  \n●と　き：　毎週日曜日 \n●時　間：　午前11：00～ \n●ラジオ局：　FM AQUA \n  \n●番組詳細：　『みすゞさんと明るいほうへ』 \n●パーソナリティ：　ちひろ \n  \n●周波数：　FM AQUA／87.8MHz \n●放送エリア：　長門市を中心としたエリア、周辺受信エリア \n  \n●リクエスト＆メッセージ🎵：　FM AQUA／878@fmaqua.jp \n●レギュラー放送：　 \n・毎週水曜日 午前11：00～ ／ FM-NANAKO（萩市）、FM AQUA（長門市）、COME！ON FM（下関市）、しゅうんなんFM（周南・下松エリア）　 \n・毎週水曜日 午前11：30～ ／ FMはつかいち（広島県廿日市市） \n・毎週水曜日 午後1：00～ ／ FMスマイルウエ～ブ（山陽小野田市）　　　 \n・毎週水曜日 夜10：00～ ／ KOCOラジ＜郡山コミュニティ放送＞（福島県郡山市） \n・毎週土曜日 午前9：00～ ／ FMわっしょい（防府市）
URL:https://chihirosound.com/event/13945
CATEGORIES:ラジオ
END:VEVENT
END:VCALENDAR