BEGIN:VCALENDAR
VERSION:2.0
PRODID:-//ちひろ Official Website ～金子みすゞの心を歌う～  CHIHIRO Official Website - MISUZU KANEKO- - ECPv6.15.11//NONSGML v1.0//EN
CALSCALE:GREGORIAN
METHOD:PUBLISH
X-WR-CALNAME:ちひろ Official Website ～金子みすゞの心を歌う～  CHIHIRO Official Website - MISUZU KANEKO-
X-ORIGINAL-URL:https://chihirosound.com
X-WR-CALDESC:ちひろ Official Website ～金子みすゞの心を歌う～  CHIHIRO Official Website - MISUZU KANEKO- のイベント
REFRESH-INTERVAL;VALUE=DURATION:PT1H
X-Robots-Tag:noindex
X-PUBLISHED-TTL:PT1H
BEGIN:VTIMEZONE
TZID:Asia/Tokyo
BEGIN:STANDARD
TZOFFSETFROM:+0900
TZOFFSETTO:+0900
TZNAME:JST
DTSTART:20170101T000000
END:STANDARD
END:VTIMEZONE
BEGIN:VEVENT
DTSTART;TZID=Asia/Tokyo:20180101T144500
DTEND;TZID=Asia/Tokyo:20180101T154500
DTSTAMP:20260423T072022
CREATED:20171231T084840Z
LAST-MODIFIED:20171231T084840Z
UID:1688-1514817900-1514821500@chihirosound.com
SUMMARY:RUGBY〔大阪府〕
DESCRIPTION:【Title】「第97回全国高校ラグビーフットボール大会」トーナメント三回戦\n　　　　　福島県立郡山北工業高校ラグビー部　応援＆部歌「一勝驀進」歌唱\n●と　き：　1月1日（月・祝）\n\n●ところ：　東大阪市花園ラグビー場 第2グラウンド（大阪府東大阪市松原南1丁目1-1）\n\n※会場の地図はこちら\n\n●時　間：　午後2：45～\n\n●対戦校：　東福岡高等学校（福岡県代表）\n\n●主　催：　郡山北工業高校ラグビー部OB会\n\n※大会オフィシャルwebsiteはこちら
URL:https://chihirosound.com/event/1688
CATEGORIES:other,オススメ
END:VEVENT
END:VCALENDAR