BEGIN:VCALENDAR
VERSION:2.0
PRODID:-//ちひろ Official Website ～金子みすゞの心を歌う～  CHIHIRO Official Website - MISUZU KANEKO- - ECPv6.15.11//NONSGML v1.0//EN
CALSCALE:GREGORIAN
METHOD:PUBLISH
X-WR-CALNAME:ちひろ Official Website ～金子みすゞの心を歌う～  CHIHIRO Official Website - MISUZU KANEKO-
X-ORIGINAL-URL:https://chihirosound.com
X-WR-CALDESC:ちひろ Official Website ～金子みすゞの心を歌う～  CHIHIRO Official Website - MISUZU KANEKO- のイベント
REFRESH-INTERVAL;VALUE=DURATION:PT1H
X-Robots-Tag:noindex
X-PUBLISHED-TTL:PT1H
BEGIN:VTIMEZONE
TZID:Asia/Tokyo
BEGIN:STANDARD
TZOFFSETFROM:+0900
TZOFFSETTO:+0900
TZNAME:JST
DTSTART:20190101T000000
END:STANDARD
END:VTIMEZONE
BEGIN:VEVENT
DTSTART;TZID=Asia/Tokyo:20200307T190000
DTEND;TZID=Asia/Tokyo:20200307T192000
DTSTAMP:20260420T132605
CREATED:20200226T022427Z
LAST-MODIFIED:20200407T160011Z
UID:7060-1583607600-1583608800@chihirosound.com
SUMMARY:【中止】Stage〔山口県〕
DESCRIPTION:【交流会中止のお知らせ】\n\n新型コロナウィルス感染拡大防止の影響があり交流会は中止となりました。 \n楽しみにして下さっておりました皆様には大変申し訳なく存じますが、何卒ご理解の程よろしくお願い申し上げます。 \n【Title】「第23回みすゞコスモス 交流会」ちひろステージ\n●と　き：　3月7日（土） \n●ところ：　大谷山荘（山口県長門市） \n●時　間：　午後7：00～ \n●対　象：　関係者のみ
URL:https://chihirosound.com/event/7060
CATEGORIES:other,コンサート,その他
END:VEVENT
BEGIN:VEVENT
DTSTART;TZID=Asia/Tokyo:20210121T170000
DTEND;TZID=Asia/Tokyo:20210121T181000
DTSTAMP:20260420T132605
CREATED:20201006T055216Z
LAST-MODIFIED:20201006T055459Z
UID:8620-1611248400-1611252600@chihirosound.com
SUMMARY:リモート講演〔岐阜県〕
DESCRIPTION:【Title】ちひろリモート講演会\n●と　き：　1月21日（木） \n●時　間：　午後5：00～ \n●対　象：　関係者のみ \n●主　催：　幼保連携型認定こども園 まさきこども園＜岐阜県羽島市＞
URL:https://chihirosound.com/event/8620
CATEGORIES:other,講演
END:VEVENT
BEGIN:VEVENT
DTSTART;TZID=Asia/Tokyo:20210309T170000
DTEND;TZID=Asia/Tokyo:20210309T181000
DTSTAMP:20260420T132605
CREATED:20201006T055442Z
LAST-MODIFIED:20210109T152818Z
UID:8622-1615309200-1615313400@chihirosound.com
SUMMARY:リモート講演〔岐阜県〕
DESCRIPTION:【Title】ちひろリモート講演会\n●と　き：　3月9日（火） \n●時　間：　午後5：00～ \n●対　象：　関係者のみ \n●主　催：　幼保連携型認定こども園 まさきこども園＜岐阜県羽島市＞
URL:https://chihirosound.com/event/8622
CATEGORIES:other,講演
END:VEVENT
END:VCALENDAR