BEGIN:VCALENDAR
VERSION:2.0
PRODID:-//ちひろ Official Website ～金子みすゞの心を歌う～  CHIHIRO Official Website - MISUZU KANEKO- - ECPv6.15.11//NONSGML v1.0//EN
CALSCALE:GREGORIAN
METHOD:PUBLISH
X-WR-CALNAME:ちひろ Official Website ～金子みすゞの心を歌う～  CHIHIRO Official Website - MISUZU KANEKO-
X-ORIGINAL-URL:https://chihirosound.com
X-WR-CALDESC:ちひろ Official Website ～金子みすゞの心を歌う～  CHIHIRO Official Website - MISUZU KANEKO- のイベント
REFRESH-INTERVAL;VALUE=DURATION:PT1H
X-Robots-Tag:noindex
X-PUBLISHED-TTL:PT1H
BEGIN:VTIMEZONE
TZID:Asia/Tokyo
BEGIN:STANDARD
TZOFFSETFROM:+0900
TZOFFSETTO:+0900
TZNAME:JST
DTSTART:20230101T000000
END:STANDARD
END:VTIMEZONE
BEGIN:VEVENT
DTSTART;TZID=Asia/Tokyo:20240830T190000
DTEND;TZID=Asia/Tokyo:20240830T230000
DTSTAMP:20260420T114610
CREATED:20240803T070200Z
LAST-MODIFIED:20240803T070200Z
UID:19984-1725044400-1725058800@chihirosound.com
SUMMARY:C-able TV〔山口県〕
DESCRIPTION:【Title】山口ケーブルビジョン「まちかどNEWS ”まちかどPR”」にちひろが出演！\n  \n●と　き：　8月30日（金）19：00／初回放送　～ 　再放送とともに土・日は「週刊ダイジェスト」でも♪ \n●時　間：　①19：00～　②20：00～　③23：00～　等 \n  \n●放送局：　山口ケーブルビジョン \n●番　組：　「まちかどNEWS」 \n●概　要：　「ちひろ 20th Anniversary Dinner Concert 山口公演」についてお知らせいたします！ \n●ご視聴方法：　対象エリアの加入者（山口市・防府市・美祢市・宇部市）
URL:https://chihirosound.com/event/19984
CATEGORIES:オススメ,テレビ
ORGANIZER;CN="%E5%B1%B1%E5%8F%A3%E3%82%B1%E3%83%BC%E3%83%96%E3%83%AB%E3%83%93%E3%82%B8%E3%83%A7%E3%83%B3":MAILTO:news@c-able.co.jp
END:VEVENT
END:VCALENDAR