BEGIN:VCALENDAR
VERSION:2.0
PRODID:-//ちひろ Official Website ～金子みすゞの心を歌う～  CHIHIRO Official Website - MISUZU KANEKO- - ECPv6.15.11//NONSGML v1.0//EN
CALSCALE:GREGORIAN
METHOD:PUBLISH
X-ORIGINAL-URL:https://chihirosound.com
X-WR-CALDESC:ちひろ Official Website ～金子みすゞの心を歌う～  CHIHIRO Official Website - MISUZU KANEKO- のイベント
REFRESH-INTERVAL;VALUE=DURATION:PT1H
X-Robots-Tag:noindex
X-PUBLISHED-TTL:PT1H
BEGIN:VTIMEZONE
TZID:Asia/Tokyo
BEGIN:STANDARD
TZOFFSETFROM:+0900
TZOFFSETTO:+0900
TZNAME:JST
DTSTART:20240101T000000
END:STANDARD
END:VTIMEZONE
BEGIN:VEVENT
DTSTART;TZID=Asia/Tokyo:20250623T180000
DTEND;TZID=Asia/Tokyo:20250630T120000
DTSTAMP:20260420T133325
CREATED:20250620T160031Z
LAST-MODIFIED:20250620T160031Z
UID:22953-1750701600-1751284800@chihirosound.com
SUMMARY:Cable-TV〔山口県〕
DESCRIPTION:【Title】シティーケーブル周南「これくと」にちひろスタジオ出演！\n  \n●と　き：　■6月23日（月）18：00／初回放送　～ 30日（月）12：00までの再放送 \n●時　間：　 \n6月23日（月）　①18：00～　②20：30～　 \n6月24日（火）～29（日）　①7：00～　②12：00～　③18：00～　④20：30～ \n6月30日（月）　①7：00～　②12：00～ \n  \n●放送局：　シティーケーブル周南 \n●番　組：　「これくと」 \n●キャスター：　井上 華織さん \n●概　要：　舞台「あゝ大津島 碧き海」周南公演についてお知らせいたします！ \n●ご視聴方法：　対象エリアの加入者（周南市）
URL:https://chihirosound.com/event/22953
CATEGORIES:オススメ,テレビ
END:VEVENT
BEGIN:VEVENT
DTSTART;TZID=Asia/Tokyo:20250704T165000
DTEND;TZID=Asia/Tokyo:20250704T190000
DTSTAMP:20260420T133325
CREATED:20250606T061519Z
LAST-MODIFIED:20250702T042535Z
UID:22867-1751647800-1751655600@chihirosound.com
SUMMARY:TV〔山口県〕
DESCRIPTION:【Title】tysテレビ山口『mix』ちひろが生出演！\n  \n●と　き：　7月4日（金） \n●時　間：　16：50～19：00 \n●放送局：　tysテレビ山口 \n●番組名：　『mix』 \n●ご意見・メッセージ：　メール：mix@tys.co.jp　FAX：083-923-8840　　LINE公式アカウント：【@tys_mix】 \n●放送エリア：　山口県内と周辺受信エリア \n＊番組の最初から最後まで出演いたしますので、ぜひご覧ください。 \n  \n 
URL:https://chihirosound.com/event/22867
CATEGORIES:オススメ,テレビ
ORGANIZER;CN="tys%E3%83%86%E3%83%AC%E3%83%93%E5%B1%B1%E5%8F%A3":MAILTO:mix@tys.co.jp
END:VEVENT
BEGIN:VEVENT
DTSTART;TZID=Asia/Tokyo:20250707T190000
DTEND;TZID=Asia/Tokyo:20250707T193000
DTSTAMP:20260420T133325
CREATED:20250606T061847Z
LAST-MODIFIED:20250606T061847Z
UID:22863-1751914800-1751916600@chihirosound.com
SUMMARY:C-able TV〔山口県〕
DESCRIPTION:【Title】山口ケーブルビジョン「まちかどNEWS」にちひろスタジオ出演！\n  \n●と　き：　■7月7日（月）午後7：00／初回放送　～ 8日（火）午後2：00まで計6回の再放送 \n●時　間：　①午後7：00～　②午後8：00～　③午後11：00～　④翌日午前9：00～　⑤午前11：00～　⑥午後2：00～ \n  \n●放送局：　山口ケーブルビジョン \n●番　組：　「まちかどNEWS」 \n●キャスター：　 \n●概　要：　舞台「あゝ大津島 碧き海」周南公演についてお知らせいたします！ \n●ご視聴方法：　対象エリアの加入者（山口市・防府市・美祢市・宇部市）
URL:https://chihirosound.com/event/22863
CATEGORIES:オススメ,テレビ
ORGANIZER;CN="%E5%B1%B1%E5%8F%A3%E3%82%B1%E3%83%BC%E3%83%96%E3%83%AB%E3%83%93%E3%82%B8%E3%83%A7%E3%83%B3":MAILTO:news@c-able.co.jp
END:VEVENT
BEGIN:VEVENT
DTSTART;TZID=Asia/Tokyo:20250718T155500
DTEND;TZID=Asia/Tokyo:20250718T164800
DTSTAMP:20260420T133325
CREATED:20250712T132650Z
LAST-MODIFIED:20250712T132808Z
UID:23101-1752854100-1752857280@chihirosound.com
SUMMARY:TV〔山口県〕
DESCRIPTION:【Title】yab山口朝日放送「YOU!どきっ」ちひろがスタジオ生出演！\n番組の最初から最後まで出演します♪ \n  \n●と　き：　7月18日（金） \n●時　間：　午後3：55～ \n●テレビ局：　yab山口朝日放送 \n●番　組：　「YOU!どきっ」 \n●概　要：　演劇「あゝ大津島 碧き海」のお知らせも！
URL:https://chihirosound.com/event/23101
CATEGORIES:オススメ,テレビ
END:VEVENT
BEGIN:VEVENT
DTSTART;TZID=Asia/Tokyo:20250731T181000
DTEND;TZID=Asia/Tokyo:20250731T185900
DTSTAMP:20260420T133325
CREATED:20250606T061751Z
LAST-MODIFIED:20250730T085846Z
UID:22869-1753985400-1753988340@chihirosound.com
SUMMARY:NHK TV〔山口県〕
DESCRIPTION:【Title】NHK山口放送局（テレビ）「情報維新！やまぐち」ちひろ生出演！\n●と　き：　7月31日（木） \n●時　間：　18時10分以降（18時10分～18時58分の番組内） \n●放送局：　NHK山口放送局 \n●番　組：　「情報維新！やまぐち」 \n●放送内容：　舞台「あゝ大津島 碧き海」若林哲行さんとちひろがスタジオ出演
URL:https://chihirosound.com/event/22869
CATEGORIES:オススメ,テレビ
ORGANIZER;CN="NHK%E5%B1%B1%E5%8F%A3%E6%94%BE%E9%80%81%E5%B1%80":MAILTO:https://www.nhk.or.jp/yamaguchi/contact/form.html
END:VEVENT
BEGIN:VEVENT
DTSTART;TZID=Asia/Tokyo:20250801T182000
DTEND;TZID=Asia/Tokyo:20250801T183000
DTSTAMP:20260420T133325
CREATED:20250730T090718Z
LAST-MODIFIED:20250730T091226Z
UID:23160-1754072400-1754073000@chihirosound.com
SUMMARY:TV〔山口県〕
DESCRIPTION:【Title】KRY山口放送「kry news every.」ちひろ生出演！\n●と　き：　8月1日（金） \n●時　間：　18時20分～ \n●放送局：　KRY山口放送 \n●番　組：　「kry news every.」 \n●放送内容：　舞台「あゝ大津島 碧き海」若林哲行さんとちひろ＆出演者が番組生中継で出演
URL:https://chihirosound.com/event/23160
CATEGORIES:オススメ,テレビ
END:VEVENT
BEGIN:VEVENT
DTSTART;TZID=Asia/Tokyo:20250820T165000
DTEND;TZID=Asia/Tokyo:20250820T190000
DTSTAMP:20260420T133325
CREATED:20250809T063215Z
LAST-MODIFIED:20250809T063215Z
UID:23188-1755708600-1755716400@chihirosound.com
SUMMARY:TV〔山口県〕
DESCRIPTION:【Title】tysテレビ山口『mix』ちひろが生出演！\n  \n●と　き：　8月20日（水） \n●時　間：　16：50～19：00 \n●放送局：　tysテレビ山口 \n●番組名：　『mix』 \n●ご意見・メッセージ：　メール：mix@tys.co.jp　FAX：083-923-8840　　LINE公式アカウント：【@tys_mix】 \n●放送エリア：　山口県内と周辺受信エリア \n＊番組の最初から最後まで出演いたしますので、ぜひご覧ください。
URL:https://chihirosound.com/event/23188
CATEGORIES:オススメ,テレビ
ORGANIZER;CN="tys%E3%83%86%E3%83%AC%E3%83%93%E5%B1%B1%E5%8F%A3":MAILTO:mix@tys.co.jp
END:VEVENT
BEGIN:VEVENT
DTSTART;TZID=Asia/Tokyo:20250908T190000
DTEND;TZID=Asia/Tokyo:20250908T193000
DTSTAMP:20260420T133325
CREATED:20250906T133338Z
LAST-MODIFIED:20250908T053524Z
UID:23378-1757358000-1757359800@chihirosound.com
SUMMARY:Cable-TV〔山口県〕
DESCRIPTION:【Title】山口ケーブルビジョン「まちかどNEWS」にちひろスタジオ出演！\n  \n●と　き：　■9月8日（月）午後7：00／初回放送　～ 12日（金）午後2：00まで計15回の再放送 \n●時　間：　 \n■9月8日（月）～11日（木）　①午後7：00～　②午後8：00～　③午後11：00～　 \n■9月12日（金）　④午前9：00～　⑤午前11：00～　⑥午後2：00～ \n（山口市議会中継により通常の放送日時に変更があります） \n  \n●放送局：　山口ケーブルビジョン \n●番　組：　「まちかどNEWS」 \n●概　要：　日本コロムビアからのメジャーリリースと新曲『心めぐり』について \n●ご視聴方法：　対象エリアの加入者（山口市・防府市・美祢市・宇部市）
URL:https://chihirosound.com/event/23378
CATEGORIES:オススメ,テレビ
ORGANIZER;CN="%E5%B1%B1%E5%8F%A3%E3%82%B1%E3%83%BC%E3%83%96%E3%83%AB%E3%83%93%E3%82%B8%E3%83%A7%E3%83%B3":MAILTO:news@c-able.co.jp
END:VEVENT
BEGIN:VEVENT
DTSTART;TZID=Asia/Tokyo:20250926T165000
DTEND;TZID=Asia/Tokyo:20250926T190000
DTSTAMP:20260420T133325
CREATED:20250916T170850Z
LAST-MODIFIED:20250916T170850Z
UID:23468-1758905400-1758913200@chihirosound.com
SUMMARY:TV〔山口県〕
DESCRIPTION:【Title】tysテレビ山口『mix』ちひろが生出演！\n  \n●と　き：　9月26日（金） \n●時　間：　16：50～19：00 \n●放送局：　tysテレビ山口 \n●番組名：　『mix』 \n●ご意見・メッセージ：　メール：mix@tys.co.jp　FAX：083-923-8840　　LINE公式アカウント：【@tys_mix】 \n●放送エリア：　山口県内と周辺受信エリア \n＊番組の最初から最後まで出演いたしますので、ぜひご覧ください。
URL:https://chihirosound.com/event/23468
CATEGORIES:オススメ,テレビ
ORGANIZER;CN="tys%E3%83%86%E3%83%AC%E3%83%93%E5%B1%B1%E5%8F%A3":MAILTO:mix@tys.co.jp
END:VEVENT
BEGIN:VEVENT
DTSTART;TZID=Asia/Tokyo:20251026T110000
DTEND;TZID=Asia/Tokyo:20251026T230000
DTSTAMP:20260420T133325
CREATED:20251026T141942Z
LAST-MODIFIED:20251029T071727Z
UID:23711-1761476400-1761519600@chihirosound.com
SUMMARY:ゲスト出演・Cable-TV〔山口県〕
DESCRIPTION:【Title】長門市ケーブルテレビ ほっちゃテレビ 「ちょいまちCafe」\nちひろゲスト出演！　\n●と　き：　10月26日（日）～11月28日（金）＜再放送＞ \n●時　間：　日・火・木・・・11時/23時　　月・水・金・・・19時 \n●放送局：　長門市ケーブルテレビ ほっちゃテレビ \n●番　組：　「ちょいまちCafe」 \n●出　演：　中谷 篤俊（ほっちゃテレビ）さん\n　　　　　　ちひろ・金子みすゞ記念館  宇野 智香 学芸員 \n●ご視聴方法：　対象エリアの加入者
URL:https://chihirosound.com/event/23711
CATEGORIES:テレビ
END:VEVENT
BEGIN:VEVENT
DTSTART;TZID=Asia/Tokyo:20251217T050000
DTEND;TZID=Asia/Tokyo:20251217T053000
DTSTAMP:20260420T133325
CREATED:20251203T081117Z
LAST-MODIFIED:20251203T081117Z
UID:23997-1765947600-1765949400@chihirosound.com
SUMMARY:BS-TV〔全国放送〕
DESCRIPTION:【Title】BS日テレ『令和歌謡塾』ちひろ出演！\n  \n●と　き：　12月17日（水） \n●時　間：　朝5：00～5：30 \n●放送局：　BS日テレ \n●番組名：　『令和歌謡塾』 \n●番組MC：　彩青さん　望月琉叶さん \n●放送エリア：　全国放送（BS日テレ） \n●発売記念コメント映像：　こちらから \n＊歌い手直伝の「歌唱ワンポイントレッスン」もありますので、ぜひご覧ください♪
URL:https://chihirosound.com/event/23997
CATEGORIES:オススメ,テレビ
END:VEVENT
END:VCALENDAR