BEGIN:VCALENDAR
VERSION:2.0
PRODID:-//ちひろ Official Website ～金子みすゞの心を歌う～  CHIHIRO Official Website - MISUZU KANEKO- - ECPv6.15.11//NONSGML v1.0//EN
CALSCALE:GREGORIAN
METHOD:PUBLISH
X-WR-CALNAME:ちひろ Official Website ～金子みすゞの心を歌う～  CHIHIRO Official Website - MISUZU KANEKO-
X-ORIGINAL-URL:https://chihirosound.com
X-WR-CALDESC:ちひろ Official Website ～金子みすゞの心を歌う～  CHIHIRO Official Website - MISUZU KANEKO- のイベント
REFRESH-INTERVAL;VALUE=DURATION:PT1H
X-Robots-Tag:noindex
X-PUBLISHED-TTL:PT1H
BEGIN:VTIMEZONE
TZID:Asia/Tokyo
BEGIN:STANDARD
TZOFFSETFROM:+0900
TZOFFSETTO:+0900
TZNAME:JST
DTSTART:20230101T000000
END:STANDARD
END:VTIMEZONE
BEGIN:VEVENT
DTSTART;TZID=Asia/Tokyo:20240317T133000
DTEND;TZID=Asia/Tokyo:20240317T144000
DTSTAMP:20260420T222433
CREATED:20240124T055637Z
LAST-MODIFIED:20240304T065557Z
UID:18459-1710682200-1710686400@chihirosound.com
SUMMARY:講演〔山口県〕
DESCRIPTION:【Title】「白石地区人権学習講座」ちひろ講演　\nみんなちがって、みんないい生き方を～金子みすゞの心とともに～\n\n●と　き：　3月17日（日） \n●ところ：　山口市白石地域交流センター 講堂（山口県山口市本町1丁目1-25） \n※会場の地図はこちら \n●時　間：　13：30～14：40 \n  \n●対　象：　小学5年生以上の白石地区住民 \n●お申込み：　お申込みフォームはこちらから \n●主　催：　白石地区人権学習推進協議会 \n●お問合せ：　白石地区人権学習推進協議会（白石地域交流センター内） 083-922-0381 \nPDFはこちら
URL:https://chihirosound.com/event/18459
LOCATION:山口市白石地域交流センター\, 山口県山口市本町１丁目１−２５\, 山口市\, 山口県\, 753-0046\, 日本
CATEGORIES:オススメ,講演
ATTACH;FMTTYPE=image/jpeg:https://chihirosound.com/wp-content/uploads/2024/03/9f008df648f27f115895d525082617c2-scaled.jpg
END:VEVENT
END:VCALENDAR