BEGIN:VCALENDAR
VERSION:2.0
PRODID:-//ちひろ Official Website ～金子みすゞの心を歌う～  CHIHIRO Official Website - MISUZU KANEKO- - ECPv6.15.11//NONSGML v1.0//EN
CALSCALE:GREGORIAN
METHOD:PUBLISH
X-WR-CALNAME:ちひろ Official Website ～金子みすゞの心を歌う～  CHIHIRO Official Website - MISUZU KANEKO-
X-ORIGINAL-URL:https://chihirosound.com
X-WR-CALDESC:ちひろ Official Website ～金子みすゞの心を歌う～  CHIHIRO Official Website - MISUZU KANEKO- のイベント
REFRESH-INTERVAL;VALUE=DURATION:PT1H
X-Robots-Tag:noindex
X-PUBLISHED-TTL:PT1H
BEGIN:VTIMEZONE
TZID:Asia/Tokyo
BEGIN:STANDARD
TZOFFSETFROM:+0900
TZOFFSETTO:+0900
TZNAME:JST
DTSTART:20230101T000000
END:STANDARD
END:VTIMEZONE
BEGIN:VEVENT
DTSTART;TZID=Asia/Tokyo:20240825T143000
DTEND;TZID=Asia/Tokyo:20240825T160000
DTSTAMP:20260420T163249
CREATED:20240124T061933Z
LAST-MODIFIED:20240807T013649Z
UID:18470-1724596200-1724601600@chihirosound.com
SUMMARY:講座〔山口県〕
DESCRIPTION:【Title】蓮正寺女性の集い　ちひろ『お話と歌』\n●と　き：　8月25日（日） \n●ところ：　蓮正寺 本堂（山口県萩市椿2984） \n※会場の地図はこちら \n●時　間：　14：00～／おつとめ　　ちひろ／14：30～16：00 \n●対　象：　どなたでもお誘いあわせの上ご参加ください \n●主　催：　蓮正寺仏教婦人会 \n●電　話：　0838-22-3268 \n  \nPDFはこちら
URL:https://chihirosound.com/event/18470
LOCATION:萩市蓮正寺\, 山口県萩市椿２９８４\, 萩市\, 山口県\, 758-0061\, 日本
CATEGORIES:講演
ATTACH;FMTTYPE=image/jpeg:https://chihirosound.com/wp-content/uploads/2024/01/f72f850114b7fcb0ebca478b7a9bfa14.jpg
END:VEVENT
END:VCALENDAR