BEGIN:VCALENDAR
VERSION:2.0
PRODID:-//ちひろ Official Website ～金子みすゞの心を歌う～  CHIHIRO Official Website - MISUZU KANEKO- - ECPv6.15.11//NONSGML v1.0//EN
CALSCALE:GREGORIAN
METHOD:PUBLISH
X-WR-CALNAME:ちひろ Official Website ～金子みすゞの心を歌う～  CHIHIRO Official Website - MISUZU KANEKO-
X-ORIGINAL-URL:https://chihirosound.com
X-WR-CALDESC:ちひろ Official Website ～金子みすゞの心を歌う～  CHIHIRO Official Website - MISUZU KANEKO- のイベント
REFRESH-INTERVAL;VALUE=DURATION:PT1H
X-Robots-Tag:noindex
X-PUBLISHED-TTL:PT1H
BEGIN:VTIMEZONE
TZID:Asia/Tokyo
BEGIN:STANDARD
TZOFFSETFROM:+0900
TZOFFSETTO:+0900
TZNAME:JST
DTSTART:20220101T000000
END:STANDARD
END:VTIMEZONE
BEGIN:VEVENT
DTSTART;TZID=Asia/Tokyo:20230910T110000
DTEND;TZID=Asia/Tokyo:20230910T113000
DTSTAMP:20260421T024323
CREATED:20230424T044427Z
LAST-MODIFIED:20230424T044427Z
UID:16079-1694343600-1694345400@chihirosound.com
SUMMARY:Radio〔再放送〕
DESCRIPTION:💐９局Radio放送 ちひろレギュラー番組「みすゞさんと明るいほうへ」💐\n金子みすゞの詩の朗読・ご紹介など、みすゞさんについてたっぷりお届け ❤ 30分番組です♪ \n※毎週水曜日に放送している番組を再放送！ \n  \n●と　き：　毎週日曜日 \n●時　間：　午前11：00～ \n●ラジオ局：　FM AQUA \n  \n●番組詳細：　『みすゞさんと明るいほうへ』 \n●パーソナリティ：　ちひろ \n  \n●周波数：　FM AQUA／87.8MHz \n●放送エリア：　長門市を中心としたエリア、周辺受信エリア \n  \n●リクエスト＆メッセージ🎵：　FM AQUA／878@fmaqua.jp \n●レギュラー放送：　 \n・毎週水曜日 午前11：00～ ／ FM-NANAKO（萩市）、FM AQUA（長門市）、COME！ON FM（下関市）、しゅうんなんFM（周南・下松エリア）　 \n・毎週水曜日 午前11：30～ ／ FMはつかいち（広島県廿日市市） \n・毎週水曜日 午後1：00～ ／ FMスマイルウエ～ブ（山陽小野田市）　　　 \n・毎週水曜日 夜10：00～ ／ KOCOラジ＜郡山コミュニティ放送＞（福島県郡山市） \n・毎週土曜日 午前9：00～ ／ FMわっしょい（防府市）
URL:https://chihirosound.com/event/16079
CATEGORIES:オススメ,ラジオ
END:VEVENT
BEGIN:VEVENT
DTSTART;TZID=Asia/Tokyo:20230910T143000
DTEND;TZID=Asia/Tokyo:20230910T150000
DTSTAMP:20260421T024323
CREATED:20230424T040746Z
LAST-MODIFIED:20230424T040746Z
UID:16024-1694356200-1694358000@chihirosound.com
SUMMARY:KRYラジオ「ちひろDEブレイク」
DESCRIPTION:♠♣♥♦毎週日曜日放送のちひろレギュラー番組♠♣♥♦\nコンサート会場での裏話、ＣＤアルバム制作秘話、名言コーナー、金子みすゞの詩をご紹介など、内容盛り沢山の30分です♪ \n  \n●毎週日曜日：　14：30～ \n●パーソナリティ：　ちひろ、瀬川 嘉 \n  \n●ちひろDEブレイク：　Official Website・ブログ・みすゞ心のメッセージ \n●周波数一覧 -KRY山口放送-：　こちら（AM・FMで聴く） \n●パソコン・スマホでKRYラジオが聴ける：　radiko.jp \n  \n●ご意見・ご感想はこちら \nメール：break@kry.co.jp\nＦＡＸ：0834-32-9000\nハガキ：〒745-8686　山口放送「ちひろDEブレイク」係 \nメッセージフォームはこちらから
URL:https://chihirosound.com/event/16024
CATEGORIES:オススメ,ラジオ
END:VEVENT
END:VCALENDAR