BEGIN:VCALENDAR
VERSION:2.0
PRODID:-//ちひろ Official Website ～金子みすゞの心を歌う～  CHIHIRO Official Website - MISUZU KANEKO- - ECPv6.15.11//NONSGML v1.0//EN
CALSCALE:GREGORIAN
METHOD:PUBLISH
X-WR-CALNAME:ちひろ Official Website ～金子みすゞの心を歌う～  CHIHIRO Official Website - MISUZU KANEKO-
X-ORIGINAL-URL:https://chihirosound.com
X-WR-CALDESC:ちひろ Official Website ～金子みすゞの心を歌う～  CHIHIRO Official Website - MISUZU KANEKO- のイベント
REFRESH-INTERVAL;VALUE=DURATION:PT1H
X-Robots-Tag:noindex
X-PUBLISHED-TTL:PT1H
BEGIN:VTIMEZONE
TZID:Asia/Tokyo
BEGIN:STANDARD
TZOFFSETFROM:+0900
TZOFFSETTO:+0900
TZNAME:JST
DTSTART:20220101T000000
END:STANDARD
END:VTIMEZONE
BEGIN:VEVENT
DTSTART;TZID=Asia/Tokyo:20230805T055200
DTEND;TZID=Asia/Tokyo:20230805T060000
DTSTAMP:20260422T180336
CREATED:20230810T030701Z
LAST-MODIFIED:20230810T030701Z
UID:17065-1691214720-1691215200@chihirosound.com
SUMMARY:Radio【全国】
DESCRIPTION:【Title】ニッポン放送「徳光和夫 とくモリ！歌謡サタデー」で、ちひろが紹介されます！\n  \n●と　き：　8月5日（土） \n●時　間：　朝5：52～ \n●ラジオ局：　ニッポン放送 \n●番　組：　『徳光和夫 とくモリ！歌謡サタデー』 \n●コーナー：　「徳さんとお坊さん」（築地本願寺提供） \n●パーソナリティ：　徳光 和夫 さん、石川 みゆき さん \n  \n●周波数：　FM 93　　AM  1242 \n●放送エリア：　全国放送 \n●インターネットで聴く：　radiko.jp（プレミアム会員） \n※全国どこでもインターネットでラジオが聴けるページです。 \n聴き逃し配信（タイムフリー）は8月11日 午前11：02までです！
URL:https://chihirosound.com/event/17065
CATEGORIES:オススメ,ラジオ
END:VEVENT
BEGIN:VEVENT
DTSTART;TZID=Asia/Tokyo:20230805T090000
DTEND;TZID=Asia/Tokyo:20230805T093000
DTSTAMP:20260422T180336
CREATED:20230424T063034Z
LAST-MODIFIED:20230424T063034Z
UID:16236-1691226000-1691227800@chihirosound.com
SUMMARY:Radio〔再放送〕
DESCRIPTION:💐９局Radio放送 ちひろレギュラー番組「みすゞさんと明るいほうへ」💐\n金子みすゞの詩の朗読・ご紹介など、みすゞさんについてたっぷりお届け ❤ 30分番組です♪ \n※毎週水曜日に放送している番組を再放送！ \n  \n●ラジオ局：　 \n・FMわっしょい（防府市） ／ 毎週土曜日　午前9：00～　 \n・FM-NANAKO（萩市） ／ 毎週土曜日　午後3：00～ \n  \n●番　組：　『みすゞさんと明るいほうへ』　　 \n●パーソナリティ：　ちひろ \n●周波数：　FMわっしょい／77.3MHz　　FM-NANAKO／77.5MHz \n●放送エリア：　防府市・萩市を中心としたエリア、周辺受信エリア \n  \n●リクエスト＆メッセージ🎵：　misuzufm.0407@gmail.com \n●レギュラー放送：　 \n・毎週水曜日 午前11：00～ ／ FM-NANAKO（萩市）、FM AQUA（長門市）、COME！ON FM（下関市）、しゅうんなんFM（周南・下松エリア）　 \n・毎週水曜日 午前11：30～ ／FMはつかいち（広島県廿日市市） \n・毎週水曜日 午後1：00～ ／ FMスマイルウエ～ブ（山陽小野田市） \n・毎週水曜日 夜10：00～ ／ KOCOラジ＜郡山コミュニティ放送＞（福島県郡山市）
URL:https://chihirosound.com/event/16236
CATEGORIES:ラジオ
END:VEVENT
END:VCALENDAR