BEGIN:VCALENDAR
VERSION:2.0
PRODID:-//ちひろ Official Website ～金子みすゞの心を歌う～  CHIHIRO Official Website - MISUZU KANEKO- - ECPv6.15.11//NONSGML v1.0//EN
CALSCALE:GREGORIAN
METHOD:PUBLISH
X-WR-CALNAME:ちひろ Official Website ～金子みすゞの心を歌う～  CHIHIRO Official Website - MISUZU KANEKO-
X-ORIGINAL-URL:https://chihirosound.com
X-WR-CALDESC:ちひろ Official Website ～金子みすゞの心を歌う～  CHIHIRO Official Website - MISUZU KANEKO- のイベント
REFRESH-INTERVAL;VALUE=DURATION:PT1H
X-Robots-Tag:noindex
X-PUBLISHED-TTL:PT1H
BEGIN:VTIMEZONE
TZID:Asia/Tokyo
BEGIN:STANDARD
TZOFFSETFROM:+0900
TZOFFSETTO:+0900
TZNAME:JST
DTSTART:20220101T000000
END:STANDARD
END:VTIMEZONE
BEGIN:VEVENT
DTSTART;TZID=Asia/Tokyo:20230210T170500
DTEND;TZID=Asia/Tokyo:20230210T175500
DTSTAMP:20260423T072135
CREATED:20220531T093809Z
LAST-MODIFIED:20230208T025200Z
UID:13328-1676048700-1676051700@chihirosound.com
SUMMARY:NHK にっぽん列島夕方ラジオ「ラジオYAMAGUTIC」全国放送
DESCRIPTION:【Title】にっぽん列島夕方ラジオ  NHK「中国！ちゅーもく！ラジオYAMAGUTIC」＜全国放送＞\n金子みすゞに触れる50分\n  \n●と　き：　2月10日（金） \n●時　間：　17：05～17：55 \n●ラジオ局：　NHKラジオ第1 \n●番　組：　『中国！ちゅーもく！ラジオYAMAGUTIC』 \n  \n●メールやご意見募集：　こちら \n●放送受信エリア：　全国放送 \n  \n●インターネットラジオ：　全国でお聴きいただけます！　　らじる★らじる \nパソコン・スマートフォン・タブレットなどで、全国どこでもお聴きいただけるサービスです。 \n  \n【聴取方法】＜スマートフォン・タブレットの場合は、まずアプリ（無料）をダウンロードしてください＞ \n■らじる★らじる にアクセス　→　ラジオ第1（R1） をクリック　→　放送局を選択 \n※詳しくはこちら \n  \n●出　演：　ちひろ（シンガーソングライター）、矢崎 節夫（金子みすゞ記念館館長・研究者）、長野 亮アナウンサー（NHK山口放送局） \n●番組内容：　山口県長門市出身で、今年生誕１２０年を迎える童謡詩人・金子みすゞの人生と功績を振り返ります。\n番組のレギュラーゲストでシンガーソングライターのちひろさん、金子みすゞ記念館館長・矢崎節夫さんをゲストに迎え、金子みすゞの母校・長門市立仙崎小学校での公開収録のもようをお送りします。（中国！ちゅーもく！ラジオYAMAGUTIC  websiteより）
URL:https://chihirosound.com/event/13328
CATEGORIES:オススメ,ラジオ
ORGANIZER;CN="NHK%E5%B1%B1%E5%8F%A3%E6%94%BE%E9%80%81%E5%B1%80":MAILTO:https://www.nhk.or.jp/yamaguchi/contact/form.html
END:VEVENT
END:VCALENDAR