BEGIN:VCALENDAR
VERSION:2.0
PRODID:-//ちひろ Official Website ～金子みすゞの心を歌う～  CHIHIRO Official Website - MISUZU KANEKO- - ECPv6.15.11//NONSGML v1.0//EN
CALSCALE:GREGORIAN
METHOD:PUBLISH
X-WR-CALNAME:ちひろ Official Website ～金子みすゞの心を歌う～  CHIHIRO Official Website - MISUZU KANEKO-
X-ORIGINAL-URL:https://chihirosound.com
X-WR-CALDESC:ちひろ Official Website ～金子みすゞの心を歌う～  CHIHIRO Official Website - MISUZU KANEKO- のイベント
REFRESH-INTERVAL;VALUE=DURATION:PT1H
X-Robots-Tag:noindex
X-PUBLISHED-TTL:PT1H
BEGIN:VTIMEZONE
TZID:Asia/Tokyo
BEGIN:STANDARD
TZOFFSETFROM:+0900
TZOFFSETTO:+0900
TZNAME:JST
DTSTART:20210101T000000
END:STANDARD
END:VTIMEZONE
BEGIN:VEVENT
DTSTART;TZID=Asia/Tokyo:20221110T121500
DTEND;TZID=Asia/Tokyo:20221110T123000
DTSTAMP:20260423T101849
CREATED:20221105T145450Z
LAST-MODIFIED:20221105T145648Z
UID:14673-1668082500-1668083400@chihirosound.com
SUMMARY:Radio〔山口県〕
DESCRIPTION:【Title】COME ON ! FMにスタジオゲスト出演！\n●と　き：　11月10日（木） \n●時　間：　お昼 12：15～ \n●ラジオ局：　COME ON ! FM \n●番　組：　『カモンヒルズ764』 \n●パーソナリティ：　呉 明美さん、河野 洋子さん \n  \n●周波数：　76.4MHHz \n●放送エリア：　下関を中心とした関門エリア、周辺受信エリア \n●インターネットで聴く：　※全国どこでもインターネットでラジオが聴けるページです。 \n■インターネット放送 \n■サイマルラジオで聴く \n中国地区のCOME ON! FMの「LISTEN♪」をクリックしてください♪ \n●リクエスト＆メッセージ：　こちらから
URL:https://chihirosound.com/event/14673
CATEGORIES:オススメ,ラジオ
END:VEVENT
END:VCALENDAR