BEGIN:VCALENDAR
VERSION:2.0
PRODID:-//ちひろ Official Website ～金子みすゞの心を歌う～  CHIHIRO Official Website - MISUZU KANEKO- - ECPv6.15.11//NONSGML v1.0//EN
CALSCALE:GREGORIAN
METHOD:PUBLISH
X-WR-CALNAME:ちひろ Official Website ～金子みすゞの心を歌う～  CHIHIRO Official Website - MISUZU KANEKO-
X-ORIGINAL-URL:https://chihirosound.com
X-WR-CALDESC:ちひろ Official Website ～金子みすゞの心を歌う～  CHIHIRO Official Website - MISUZU KANEKO- のイベント
REFRESH-INTERVAL;VALUE=DURATION:PT1H
X-Robots-Tag:noindex
X-PUBLISHED-TTL:PT1H
BEGIN:VTIMEZONE
TZID:Asia/Tokyo
BEGIN:STANDARD
TZOFFSETFROM:+0900
TZOFFSETTO:+0900
TZNAME:JST
DTSTART:20210101T000000
END:STANDARD
END:VTIMEZONE
BEGIN:VEVENT
DTSTART;TZID=Asia/Tokyo:20221020T130700
DTEND;TZID=Asia/Tokyo:20221020T133000
DTSTAMP:20260423T134057
CREATED:20221011T065916Z
LAST-MODIFIED:20221011T065916Z
UID:14443-1666271220-1666272600@chihirosound.com
SUMMARY:Radio〔山口県〕
DESCRIPTION:【Title】しゅうなんFM「ラリー･ボイスJam784」にスタジオゲスト出演！\n●と　き：　10月20日（木） \n●時　間：　13：07頃～ \n●ラジオ局：　しゅうなんFM \n●番　組：　「ラリー･ボイスJam784」 \n●パーソナリティ：　吉永 達哉 さん \n●メールやリクエスト：　studio@fms784.co.jp　FAX：0833-48-3031 \n●放送受信エリア：　周南市・下松市のほぼ全域、光市の一部 \n●インターネットラジオ：　サイマルラジオで聴く♪こちら \nパソコン・スマートフォン・タブレットなどで、全国どこでもお聴きいただけるサービスです。 \n 
URL:https://chihirosound.com/event/14443
CATEGORIES:オススメ,ラジオ
ORGANIZER;CN="%E3%81%97%E3%82%85%E3%81%86%E3%81%AA%E3%82%93FM":MAILTO:info@fms784.co.jp
END:VEVENT
END:VCALENDAR