BEGIN:VCALENDAR
VERSION:2.0
PRODID:-//ちひろ Official Website ～金子みすゞの心を歌う～  CHIHIRO Official Website - MISUZU KANEKO- - ECPv6.15.11//NONSGML v1.0//EN
CALSCALE:GREGORIAN
METHOD:PUBLISH
X-WR-CALNAME:ちひろ Official Website ～金子みすゞの心を歌う～  CHIHIRO Official Website - MISUZU KANEKO-
X-ORIGINAL-URL:https://chihirosound.com
X-WR-CALDESC:ちひろ Official Website ～金子みすゞの心を歌う～  CHIHIRO Official Website - MISUZU KANEKO- のイベント
REFRESH-INTERVAL;VALUE=DURATION:PT1H
X-Robots-Tag:noindex
X-PUBLISHED-TTL:PT1H
BEGIN:VTIMEZONE
TZID:Asia/Tokyo
BEGIN:STANDARD
TZOFFSETFROM:+0900
TZOFFSETTO:+0900
TZNAME:JST
DTSTART:20200101T000000
END:STANDARD
END:VTIMEZONE
BEGIN:VEVENT
DTSTART;TZID=Asia/Tokyo:20210925T150000
DTEND;TZID=Asia/Tokyo:20210925T153000
DTSTAMP:20260424T165358
CREATED:20210619T154037Z
LAST-MODIFIED:20210923T085349Z
UID:10561-1632582000-1632583800@chihirosound.com
SUMMARY:FM-NANAKO〔山口県〕
DESCRIPTION:💐ちひろレギュラー番組「みすゞさんと明るいほうへ」💐（再放送）\n金子みすゞの詩の朗読・ご紹介など、みすゞさんについてたっぷりお届け ❤ 30分番組です♪ \n  \n●と　き：　毎週土曜日 \n●時　間：　午後3：00～ \n●ラジオ局：　FM-NANAKO（萩市） \n  \n●番組詳細：　『みすゞさんと明るいほうへ』（FM-NANAKO） \n●パーソナリティ：　ちひろ \n  \n●周波数：　FM-NANAKO／77.5MHz \n●放送エリア：　萩市を中心としたエリア、周辺受信エリア \n  \n●リクエスト＆メッセージ🎵：　FM-NANAKO／775@haginet.ne.jp　 \n●レギュラー放送：　毎週水曜日 午前11：00～　５局同時放送　FM-NANAKO（萩市）、FM AQUA（長門市）、COME！ON FM（下関市）、FMスマイルウエ～ブ（山陽小野田市）、しゅうんなんFM（周南・下松エリア） \n 
URL:https://chihirosound.com/event/10561
CATEGORIES:ラジオ
ORGANIZER;CN="FM-NANAKO":MAILTO:775@haginet.ne.jp
END:VEVENT
END:VCALENDAR