BEGIN:VCALENDAR
VERSION:2.0
PRODID:-//ちひろ Official Website ～金子みすゞの心を歌う～  CHIHIRO Official Website - MISUZU KANEKO- - ECPv6.15.11//NONSGML v1.0//EN
CALSCALE:GREGORIAN
METHOD:PUBLISH
X-WR-CALNAME:ちひろ Official Website ～金子みすゞの心を歌う～  CHIHIRO Official Website - MISUZU KANEKO-
X-ORIGINAL-URL:https://chihirosound.com
X-WR-CALDESC:ちひろ Official Website ～金子みすゞの心を歌う～  CHIHIRO Official Website - MISUZU KANEKO- のイベント
REFRESH-INTERVAL;VALUE=DURATION:PT1H
X-Robots-Tag:noindex
X-PUBLISHED-TTL:PT1H
BEGIN:VTIMEZONE
TZID:Asia/Tokyo
BEGIN:STANDARD
TZOFFSETFROM:+0900
TZOFFSETTO:+0900
TZNAME:JST
DTSTART:20190101T000000
END:STANDARD
END:VTIMEZONE
BEGIN:VEVENT
DTSTART;TZID=Asia/Tokyo:20210117T140000
DTEND;TZID=Asia/Tokyo:20210117T143000
DTSTAMP:20260426T081132
CREATED:20201219T134013Z
LAST-MODIFIED:20201219T135737Z
UID:9169-1610892000-1610893800@chihirosound.com
SUMMARY:KRYラジオ「ちひろDEブレイク」
DESCRIPTION:♠♣♥♦毎週日曜日放送のちひろレギュラー番組♠♣♥♦\nコンサート会場での裏話、ＣＤアルバム制作秘話、名言コーナー、金子みすゞの詩をご紹介など、内容盛り沢山の30分です♪ \n  \n●毎週日曜日：　午後2：00～ \n●パーソナリティ：　ちひろ、瀬川嘉 \n  \n●周波数一覧 -KRY山口放送-：　こちら（AM・FMで聴く） \n●パソコン・スマホでKRYラジオが聴ける：　radiko.jp \n  \n●ご意見・ご感想はこちら \nメール：break@kry.co.jp\nＦＡＸ：0834-32-9000\nハガキ：〒745-8686　山口放送「ちひろDEブレイク」係 \nメッセージフォームはこちらから \n  \n●番組オフィシャルサイト・オフィシャルブログ：　こちら
URL:https://chihirosound.com/event/9169
CATEGORIES:ラジオ
END:VEVENT
BEGIN:VEVENT
DTSTART;TZID=Asia/Tokyo:20210110T140000
DTEND;TZID=Asia/Tokyo:20210110T143000
DTSTAMP:20260426T081132
CREATED:20201219T133910Z
LAST-MODIFIED:20201219T135842Z
UID:9167-1610287200-1610289000@chihirosound.com
SUMMARY:KRYラジオ「ちひろDEブレイク」
DESCRIPTION:♠♣♥♦毎週日曜日放送のちひろレギュラー番組♠♣♥♦\nコンサート会場での裏話、ＣＤアルバム制作秘話、名言コーナー、金子みすゞの詩をご紹介など、内容盛り沢山の30分です♪ \n  \n●毎週日曜日：　午後2：00～ \n●パーソナリティ：　ちひろ、瀬川嘉 \n  \n●周波数一覧 -KRY山口放送-：　こちら（AM・FMで聴く） \n●パソコン・スマホでKRYラジオが聴ける：　radiko.jp \n  \n●ご意見・ご感想はこちら \nメール：break@kry.co.jp\nＦＡＸ：0834-32-9000\nハガキ：〒745-8686　山口放送「ちひろDEブレイク」係 \nメッセージフォームはこちらから \n  \n●番組オフィシャルサイト・オフィシャルブログ：　こちら
URL:https://chihirosound.com/event/9167
CATEGORIES:ラジオ
END:VEVENT
BEGIN:VEVENT
DTSTART;TZID=Asia/Tokyo:20210103T140000
DTEND;TZID=Asia/Tokyo:20210103T143000
DTSTAMP:20260426T081132
CREATED:20201219T133811Z
LAST-MODIFIED:20201219T135907Z
UID:9146-1609682400-1609684200@chihirosound.com
SUMMARY:KRYラジオ「ちひろDEブレイク」
DESCRIPTION:♠♣♥♦毎週日曜日放送のちひろレギュラー番組♠♣♥♦\nコンサート会場での裏話、ＣＤアルバム制作秘話、名言コーナー、金子みすゞの詩をご紹介など、内容盛り沢山の30分です♪ \n  \n●毎週日曜日：　午後2：00～ \n●パーソナリティ：　ちひろ、瀬川嘉 \n  \n●周波数一覧 -KRY山口放送-：　こちら（AM・FMで聴く） \n●パソコン・スマホでKRYラジオが聴ける：　radiko.jp \n  \n●ご意見・ご感想はこちら \nメール：break@kry.co.jp\nＦＡＸ：0834-32-9000\nハガキ：〒745-8686　山口放送「ちひろDEブレイク」係 \nメッセージフォームはこちらから \n  \n●番組オフィシャルサイト・オフィシャルブログ：　こちら
URL:https://chihirosound.com/event/9146
CATEGORIES:ラジオ
END:VEVENT
BEGIN:VEVENT
DTSTART;TZID=Asia/Tokyo:20201227T140000
DTEND;TZID=Asia/Tokyo:20201227T143000
DTSTAMP:20260426T081132
CREATED:20201125T145701Z
LAST-MODIFIED:20201125T145701Z
UID:8936-1609077600-1609079400@chihirosound.com
SUMMARY:KRYラジオ「ちひろDEブレイク」
DESCRIPTION:♠♣♥♦毎週日曜日放送のちひろレギュラー番組♠♣♥♦\nコンサート会場での裏話、ＣＤアルバム制作秘話、名言コーナー、金子みすゞの詩をご紹介など、内容盛り沢山の30分です♪ \n  \n●毎週日曜日：　午後2：00～ \n●パーソナリティ：　ちひろ、瀬川嘉 \n●周波数一覧 -KRY山口放送- \n　　【AM放送で聴く】　【FM放送で聴く】\n●パソコン・スマホでKRYラジオが聴ける！ \n　 　radiko.jp
URL:https://chihirosound.com/event/8936
CATEGORIES:ラジオ
END:VEVENT
BEGIN:VEVENT
DTSTART;TZID=Asia/Tokyo:20201225T170500
DTEND;TZID=Asia/Tokyo:20201225T175500
DTSTAMP:20260426T081132
CREATED:20201212T141734Z
LAST-MODIFIED:20201212T142227Z
UID:9079-1608915900-1608918900@chihirosound.com
SUMMARY:【放送中止】Radio〔NHK〕
DESCRIPTION:【ラジオYAMAGUTIC放送中止のお知らせ】\n\n「2020年の振り返り特番」放送特別編成の為、 \n12月25日の「ラジオYAMAGUTIC」は中止となりました。 \n何卒ご理解の程よろしくお願い申し上げます。 \n  \n【Title】NHK「中国！ちゅーもく！ラジオYAMAGUTIC」\n●と　き：　12月25日（金） \n●時　間：　午後5：05～5：55 \n●ラジオ局：　NHKラジオ第1 \n●番　組：　ラジオYAMAGUTIC \n●メールやご意見募集：　こちら \n●放送受信エリア：　中国地方5県（山口県、広島県、岡山県、島根県、鳥取県） \n●インターネットラジオ：　全国でお聴きいただけます！　　らじる★らじる \nパソコン・スマートフォン・タブレットなどで、全国どこでもお聴きいただけるサービスです。 \n【視聴方法】＜スマートフォン・タブレットの場合は、まずアプリ（無料）をダウンロードしてください＞ \n■らじる★らじる にアクセス　→　R1 をクリック　→　放送局を選択　→　広島 \n※詳しくはこちら \n●出　演：　 \n●メインゲスト：
URL:https://chihirosound.com/event/9079
CATEGORIES:ラジオ
ORGANIZER;CN="NHK%E5%B1%B1%E5%8F%A3%E6%94%BE%E9%80%81%E5%B1%80":MAILTO:https://www.nhk.or.jp/yamaguchi/contact/form.html
END:VEVENT
BEGIN:VEVENT
DTSTART;TZID=Asia/Tokyo:20201220T110000
DTEND;TZID=Asia/Tokyo:20201220T113000
DTSTAMP:20260426T081132
CREATED:20201125T145536Z
LAST-MODIFIED:20201217T150518Z
UID:8934-1608462000-1608463800@chihirosound.com
SUMMARY:KRYラジオ「ちひろDEブレイク」
DESCRIPTION:本日は「第51回記念 防府読売マラソン大会」放送の為、「ちひろDEブレイク」の放送時間が午前11：00～に変更となります。何卒ご了承くださいませ。\n  \n♠♣♥♦毎週日曜日放送のちひろレギュラー番組♠♣♥♦\nコンサート会場での裏話、ＣＤアルバム制作秘話、名言コーナー、金子みすゞの詩をご紹介など、内容盛り沢山の30分です♪ \n  \n●本日：　午前11：00～ \n●パーソナリティ：　ちひろ、瀬川嘉 \n●周波数一覧 -KRY山口放送- \n　　【AM放送で聴く】　【FM放送で聴く】\n●パソコン・スマホでKRYラジオが聴ける！ \n　 　radiko.jp
URL:https://chihirosound.com/event/8934
CATEGORIES:ラジオ
END:VEVENT
BEGIN:VEVENT
DTSTART;TZID=Asia/Tokyo:20201213T140000
DTEND;TZID=Asia/Tokyo:20201213T143000
DTSTAMP:20260426T081132
CREATED:20201125T145424Z
LAST-MODIFIED:20201125T145424Z
UID:8932-1607868000-1607869800@chihirosound.com
SUMMARY:KRYラジオ「ちひろDEブレイク」
DESCRIPTION:♠♣♥♦毎週日曜日放送のちひろレギュラー番組♠♣♥♦\nコンサート会場での裏話、ＣＤアルバム制作秘話、名言コーナー、金子みすゞの詩をご紹介など、内容盛り沢山の30分です♪ \n  \n●毎週日曜日：　午後2：00～ \n●パーソナリティ：　ちひろ、瀬川嘉 \n●周波数一覧 -KRY山口放送- \n　　【AM放送で聴く】　【FM放送で聴く】\n●パソコン・スマホでKRYラジオが聴ける！ \n　 　radiko.jp
URL:https://chihirosound.com/event/8932
CATEGORIES:ラジオ
END:VEVENT
BEGIN:VEVENT
DTSTART;TZID=Asia/Tokyo:20201210T170000
DTEND;TZID=Asia/Tokyo:20201210T180000
DTSTAMP:20260426T081132
CREATED:20201205T162848Z
LAST-MODIFIED:20201205T162848Z
UID:9029-1607619600-1607623200@chihirosound.com
SUMMARY:Radio〔山口県〕
DESCRIPTION:【Title】FM AQUAにゲスト出演！\n「明るいほうへ みんなで乗り越えよう！プロジェクト」ワールドバージョン動画についてお話しいたします！\n●と　き：　12月10日（木） \n●時　間：　夕方5：00～ \n●ラジオ局：　FM AQUA \n●番　組：　『ビビットラジオ』 \n●パーソナリティ：　五嶋 高子 さん \n●周波数：　87.8MHHz \n●放送エリア：　長門市を中心としたエリア、周辺受信エリア \n●リクエスト＆メッセージ：　こちらから
URL:https://chihirosound.com/event/9029
CATEGORIES:オススメ,ラジオ
ORGANIZER;CN="FM AQUA":MAILTO:878@fmaqua.jp
END:VEVENT
BEGIN:VEVENT
DTSTART;TZID=Asia/Tokyo:20201206T140000
DTEND;TZID=Asia/Tokyo:20201206T143000
DTSTAMP:20260426T081132
CREATED:20201125T145333Z
LAST-MODIFIED:20201125T145333Z
UID:8930-1607263200-1607265000@chihirosound.com
SUMMARY:KRYラジオ「ちひろDEブレイク」
DESCRIPTION:♠♣♥♦毎週日曜日放送のちひろレギュラー番組♠♣♥♦\nコンサート会場での裏話、ＣＤアルバム制作秘話、名言コーナー、金子みすゞの詩をご紹介など、内容盛り沢山の30分です♪ \n  \n●毎週日曜日：　午後2：00～ \n●パーソナリティ：　ちひろ、瀬川嘉 \n●周波数一覧 -KRY山口放送- \n　　【AM放送で聴く】　【FM放送で聴く】\n●パソコン・スマホでKRYラジオが聴ける！ \n　 　radiko.jp
URL:https://chihirosound.com/event/8930
CATEGORIES:ラジオ
END:VEVENT
BEGIN:VEVENT
DTSTART;TZID=Asia/Tokyo:20201201T181000
DTEND;TZID=Asia/Tokyo:20201201T183500
DTSTAMP:20260426T081132
CREATED:20201125T145935Z
LAST-MODIFIED:20201201T060254Z
UID:8938-1606846200-1606847700@chihirosound.com
SUMMARY:Radio〔福島県〕
DESCRIPTION:【Title】ULTRA FM（福島県須賀川市）に電話ゲスト出演！\n「明るいほうへ みんなで乗り越えよう！プロジェクト」ワールドバージョン動画についてお話いたします♪\n●と　き：　12月1日（火） \n●時　間：　夕方6：10頃～ \n●ラジオ局：　ULTRA FM \n●番　組：　『サンセットRADIO』 \n●パーソナリティ：　浅野 敦子 さん \n●周波数：　86.8MHz \n●放送エリア：　須賀川市及び周辺エリア \n●インターネットで聴く：　サイマルラジオ \n※全国どこでもインターネットでラジオが聴けるページです。 \n●リクエスト＆メッセージ：　メールはこちら　　F A X ＜0248-63-7003＞
URL:https://chihirosound.com/event/8938
CATEGORIES:オススメ,ラジオ
END:VEVENT
BEGIN:VEVENT
DTSTART;TZID=Asia/Tokyo:20201129T143000
DTEND;TZID=Asia/Tokyo:20201129T150000
DTSTAMP:20260426T081132
CREATED:20201125T145225Z
LAST-MODIFIED:20201126T060510Z
UID:8928-1606660200-1606662000@chihirosound.com
SUMMARY:KRYラジオ「ちひろDEブレイク」
DESCRIPTION:本日11月29日（日）の放送は、特別番組編成「KRYラジオCM大賞」放送のため、午後2：30～3：00の放送となります。何卒ご了承くださいませ。\n♠♣♥♦毎週日曜日放送のちひろレギュラー番組♠♣♥♦\nコンサート会場での裏話、ＣＤアルバム制作秘話、名言コーナー、金子みすゞの詩をご紹介など、内容盛り沢山の30分です♪ \n  \n●本日29日のみ：　午後2：30～ \n●パーソナリティ：　ちひろ、瀬川嘉 \n●周波数一覧 -KRY山口放送- \n　　【AM放送で聴く】　【FM放送で聴く】\n●パソコン・スマホでKRYラジオが聴ける！ \n　 　radiko.jp
URL:https://chihirosound.com/event/8928
CATEGORIES:ラジオ
END:VEVENT
BEGIN:VEVENT
DTSTART;TZID=Asia/Tokyo:20201122T140000
DTEND;TZID=Asia/Tokyo:20201122T143000
DTSTAMP:20260426T081132
CREATED:20201125T145124Z
LAST-MODIFIED:20201125T145124Z
UID:8926-1606053600-1606055400@chihirosound.com
SUMMARY:KRYラジオ「ちひろDEブレイク」
DESCRIPTION:♠♣♥♦毎週日曜日放送のちひろレギュラー番組♠♣♥♦\nコンサート会場での裏話、ＣＤアルバム制作秘話、名言コーナー、金子みすゞの詩をご紹介など、内容盛り沢山の30分です♪ \n  \n●毎週日曜日：　午後2：00～ \n●パーソナリティ：　ちひろ、瀬川嘉 \n●周波数一覧 -KRY山口放送- \n　　【AM放送で聴く】　【FM放送で聴く】\n●パソコン・スマホでKRYラジオが聴ける！ \n　 　radiko.jp
URL:https://chihirosound.com/event/8926
CATEGORIES:ラジオ
END:VEVENT
BEGIN:VEVENT
DTSTART;TZID=Asia/Tokyo:20201115T140000
DTEND;TZID=Asia/Tokyo:20201115T143000
DTSTAMP:20260426T081132
CREATED:20201125T145020Z
LAST-MODIFIED:20201125T145020Z
UID:8924-1605448800-1605450600@chihirosound.com
SUMMARY:KRYラジオ「ちひろDEブレイク」
DESCRIPTION:♠♣♥♦毎週日曜日放送のちひろレギュラー番組♠♣♥♦\nコンサート会場での裏話、ＣＤアルバム制作秘話、名言コーナー、金子みすゞの詩をご紹介など、内容盛り沢山の30分です♪ \n  \n●毎週日曜日：　午後2：00～ \n●パーソナリティ：　ちひろ、瀬川嘉 \n●周波数一覧 -KRY山口放送- \n　　【AM放送で聴く】　【FM放送で聴く】\n●パソコン・スマホでKRYラジオが聴ける！ \n　 　radiko.jp
URL:https://chihirosound.com/event/8924
CATEGORIES:ラジオ
END:VEVENT
BEGIN:VEVENT
DTSTART;TZID=Asia/Tokyo:20201108T140000
DTEND;TZID=Asia/Tokyo:20201108T143000
DTSTAMP:20260426T081132
CREATED:20201125T144921Z
LAST-MODIFIED:20201125T144921Z
UID:8922-1604844000-1604845800@chihirosound.com
SUMMARY:KRYラジオ「ちひろDEブレイク」
DESCRIPTION:♠♣♥♦毎週日曜日放送のちひろレギュラー番組♠♣♥♦\nコンサート会場での裏話、ＣＤアルバム制作秘話、名言コーナー、金子みすゞの詩をご紹介など、内容盛り沢山の30分です♪ \n  \n●毎週日曜日：　午後2：00～ \n●パーソナリティ：　ちひろ、瀬川嘉 \n●周波数一覧 -KRY山口放送- \n　　【AM放送で聴く】　【FM放送で聴く】\n●パソコン・スマホでKRYラジオが聴ける！ \n　 　radiko.jp
URL:https://chihirosound.com/event/8922
CATEGORIES:ラジオ
END:VEVENT
BEGIN:VEVENT
DTSTART;TZID=Asia/Tokyo:20201101T140000
DTEND;TZID=Asia/Tokyo:20201101T143000
DTSTAMP:20260426T081132
CREATED:20201125T144834Z
LAST-MODIFIED:20201125T144834Z
UID:8920-1604239200-1604241000@chihirosound.com
SUMMARY:KRYラジオ「ちひろDEブレイク」
DESCRIPTION:♠♣♥♦毎週日曜日放送のちひろレギュラー番組♠♣♥♦\nコンサート会場での裏話、ＣＤアルバム制作秘話、名言コーナー、金子みすゞの詩をご紹介など、内容盛り沢山の30分です♪ \n  \n●毎週日曜日：　午後2：00～ \n●パーソナリティ：　ちひろ、瀬川嘉 \n●周波数一覧 -KRY山口放送- \n　　【AM放送で聴く】　【FM放送で聴く】\n●パソコン・スマホでKRYラジオが聴ける！ \n　 　radiko.jp
URL:https://chihirosound.com/event/8920
CATEGORIES:ラジオ
END:VEVENT
BEGIN:VEVENT
DTSTART;TZID=Asia/Tokyo:20201025T140000
DTEND;TZID=Asia/Tokyo:20201025T143000
DTSTAMP:20260426T081132
CREATED:20201125T144711Z
LAST-MODIFIED:20201125T144711Z
UID:8918-1603634400-1603636200@chihirosound.com
SUMMARY:KRYラジオ「ちひろDEブレイク」
DESCRIPTION:♠♣♥♦毎週日曜日放送のちひろレギュラー番組♠♣♥♦\nコンサート会場での裏話、ＣＤアルバム制作秘話、名言コーナー、金子みすゞの詩をご紹介など、内容盛り沢山の30分です♪ \n  \n●毎週日曜日：　午後2：00～ \n●パーソナリティ：　ちひろ、瀬川嘉 \n●周波数一覧 -KRY山口放送- \n　　【AM放送で聴く】　【FM放送で聴く】\n●パソコン・スマホでKRYラジオが聴ける！ \n　 　radiko.jp
URL:https://chihirosound.com/event/8918
CATEGORIES:ラジオ
END:VEVENT
BEGIN:VEVENT
DTSTART;TZID=Asia/Tokyo:20201023T170500
DTEND;TZID=Asia/Tokyo:20201023T175500
DTSTAMP:20260426T081132
CREATED:20200409T155012Z
LAST-MODIFIED:20201023T074452Z
UID:7454-1603472700-1603475700@chihirosound.com
SUMMARY:Radio〔NHK〕
DESCRIPTION:【Title】NHK「中国！ちゅーもく！ラジオYAMAGUTIC」\n～コロナに負けない！長門湯本温泉の挑戦～\n●と　き：　10月23日（金） \n●時　間：　午後5：05～5：55 \n●ラジオ局：　NHKラジオ第1 \n●番　組：　ラジオYAMAGUTIC \n●メールやご意見募集：　こちら \n●放送受信エリア：　中国地方5県（山口県、広島県、岡山県、島根県、鳥取県） \n●インターネットラジオ：　全国でお聴きいただけます！　　らじる★らじる \nパソコン・スマートフォン・タブレットなどで、全国どこでもお聴きいただけるサービスです。 \n【視聴方法】＜スマートフォン・タブレットの場合は、まずアプリ（無料）をダウンロードしてください＞ \n■らじる★らじる にアクセス　→　R1 をクリック　→　放送局を選択　→　広島 \n※詳しくはこちら \n●出　演：　島田 莉生アナウンサー、ちひろ \n●メインゲスト：　山口県湯本温泉大谷山荘　代表取締役社長　大谷 和宏さん \n●教えて道の駅！：　センザキッチン（長門市）
URL:https://chihirosound.com/event/7454
CATEGORIES:オススメ,ラジオ
ORGANIZER;CN="NHK%E5%B1%B1%E5%8F%A3%E6%94%BE%E9%80%81%E5%B1%80":MAILTO:https://www.nhk.or.jp/yamaguchi/contact/form.html
END:VEVENT
BEGIN:VEVENT
DTSTART;TZID=Asia/Tokyo:20201018T140000
DTEND;TZID=Asia/Tokyo:20201018T143000
DTSTAMP:20260426T081132
CREATED:20201125T144617Z
LAST-MODIFIED:20201125T144617Z
UID:8916-1603029600-1603031400@chihirosound.com
SUMMARY:KRYラジオ「ちひろDEブレイク」
DESCRIPTION:♠♣♥♦毎週日曜日放送のちひろレギュラー番組♠♣♥♦\nコンサート会場での裏話、ＣＤアルバム制作秘話、名言コーナー、金子みすゞの詩をご紹介など、内容盛り沢山の30分です♪ \n  \n●毎週日曜日：　午後2：00～ \n●パーソナリティ：　ちひろ、瀬川嘉 \n●周波数一覧 -KRY山口放送- \n　　【AM放送で聴く】　【FM放送で聴く】\n●パソコン・スマホでKRYラジオが聴ける！ \n　 　radiko.jp
URL:https://chihirosound.com/event/8916
CATEGORIES:ラジオ
END:VEVENT
BEGIN:VEVENT
DTSTART;TZID=Asia/Tokyo:20201011T140000
DTEND;TZID=Asia/Tokyo:20201011T143000
DTSTAMP:20260426T081132
CREATED:20201125T144509Z
LAST-MODIFIED:20201125T144509Z
UID:8914-1602424800-1602426600@chihirosound.com
SUMMARY:KRYラジオ「ちひろDEブレイク」
DESCRIPTION:♠♣♥♦毎週日曜日放送のちひろレギュラー番組♠♣♥♦\nコンサート会場での裏話、ＣＤアルバム制作秘話、名言コーナー、金子みすゞの詩をご紹介など、内容盛り沢山の30分です♪ \n  \n●毎週日曜日：　午後2：00～ \n●パーソナリティ：　ちひろ、瀬川嘉 \n●周波数一覧 -KRY山口放送- \n　　【AM放送で聴く】　【FM放送で聴く】\n●パソコン・スマホでKRYラジオが聴ける！ \n　 　radiko.jp
URL:https://chihirosound.com/event/8914
CATEGORIES:ラジオ
END:VEVENT
BEGIN:VEVENT
DTSTART;TZID=Asia/Tokyo:20201004T140000
DTEND;TZID=Asia/Tokyo:20201004T143000
DTSTAMP:20260426T081132
CREATED:20201125T144344Z
LAST-MODIFIED:20201125T144344Z
UID:8911-1601820000-1601821800@chihirosound.com
SUMMARY:KRYラジオ「ちひろDEブレイク」
DESCRIPTION:♠♣♥♦毎週日曜日放送のちひろレギュラー番組♠♣♥♦\nコンサート会場での裏話、ＣＤアルバム制作秘話、名言コーナー、金子みすゞの詩をご紹介など、内容盛り沢山の30分です♪ \n  \n●毎週日曜日：　午後2：00～ \n●パーソナリティ：　ちひろ、瀬川嘉 \n●周波数一覧 -KRY山口放送- \n　　【AM放送で聴く】　【FM放送で聴く】\n●パソコン・スマホでKRYラジオが聴ける！ \n　 　radiko.jp
URL:https://chihirosound.com/event/8911
CATEGORIES:ラジオ
END:VEVENT
BEGIN:VEVENT
DTSTART;TZID=Asia/Tokyo:20200927T140000
DTEND;TZID=Asia/Tokyo:20200927T143000
DTSTAMP:20260426T081132
CREATED:20200206T063036Z
LAST-MODIFIED:20200206T063036Z
UID:6899-1601215200-1601217000@chihirosound.com
SUMMARY:KRYラジオ「ちひろDEブレイク」
DESCRIPTION:♠♣♥♦毎週日曜日放送のちひろレギュラー番組♠♣♥♦\nコンサート会場での裏話、ＣＤアルバム制作秘話、名言コーナー、金子みすゞの詩をご紹介など、内容盛り沢山の30分です♪ \n  \n●毎週日曜日：　午後2：00～ \n●パーソナリティ：　ちひろ、瀬川嘉 \n●周波数一覧 -KRY山口放送- \n　　【AM放送で聴く】　【FM放送で聴く】\n●パソコン・スマホでKRYラジオが聴ける！ \n　 　radiko.jp
URL:https://chihirosound.com/event/6899
CATEGORIES:ラジオ
END:VEVENT
BEGIN:VEVENT
DTSTART;TZID=Asia/Tokyo:20200920T140000
DTEND;TZID=Asia/Tokyo:20200920T143000
DTSTAMP:20260426T081132
CREATED:20200206T062950Z
LAST-MODIFIED:20200206T062950Z
UID:6897-1600610400-1600612200@chihirosound.com
SUMMARY:KRYラジオ「ちひろDEブレイク」
DESCRIPTION:♠♣♥♦毎週日曜日放送のちひろレギュラー番組♠♣♥♦\nコンサート会場での裏話、ＣＤアルバム制作秘話、名言コーナー、金子みすゞの詩をご紹介など、内容盛り沢山の30分です♪ \n  \n●毎週日曜日：　午後2：00～ \n●パーソナリティ：　ちひろ、瀬川嘉 \n●周波数一覧 -KRY山口放送- \n　　【AM放送で聴く】　【FM放送で聴く】\n●パソコン・スマホでKRYラジオが聴ける！ \n　 　radiko.jp
URL:https://chihirosound.com/event/6897
CATEGORIES:ラジオ
END:VEVENT
BEGIN:VEVENT
DTSTART;TZID=Asia/Tokyo:20200913T140000
DTEND;TZID=Asia/Tokyo:20200913T143000
DTSTAMP:20260426T081132
CREATED:20200206T062902Z
LAST-MODIFIED:20200206T062902Z
UID:6895-1600005600-1600007400@chihirosound.com
SUMMARY:KRYラジオ「ちひろDEブレイク」
DESCRIPTION:♠♣♥♦毎週日曜日放送のちひろレギュラー番組♠♣♥♦\nコンサート会場での裏話、ＣＤアルバム制作秘話、名言コーナー、金子みすゞの詩をご紹介など、内容盛り沢山の30分です♪ \n  \n●毎週日曜日：　午後2：00～ \n●パーソナリティ：　ちひろ、瀬川嘉 \n●周波数一覧 -KRY山口放送- \n　　【AM放送で聴く】　【FM放送で聴く】\n●パソコン・スマホでKRYラジオが聴ける！ \n　 　radiko.jp
URL:https://chihirosound.com/event/6895
CATEGORIES:ラジオ
END:VEVENT
BEGIN:VEVENT
DTSTART;TZID=Asia/Tokyo:20200911T132000
DTEND;TZID=Asia/Tokyo:20200911T133800
DTSTAMP:20260426T081132
CREATED:20200831T014547Z
LAST-MODIFIED:20200831T014653Z
UID:8451-1599830400-1599831480@chihirosound.com
SUMMARY:Radio〔福島県〕
DESCRIPTION:【Title】KOCOラジ（郡山コミュニティ放送）に電話ゲスト出演！\n「明るいほうへ みんなで乗り越えよう！プロジェクト」動画についてお話しいたします！\n●と　き：　9月11日（金） \n●時　間：　午後1：20～1：38 \n●ラジオ局：　KOCOラジ（郡山コミュニティ放送） \n●番　組：　『ひるココ』 \n●パーソナリティ：　宗方 和子　さん \n●周波数：　79.1MHHz \n●放送エリア：　郡山駅から20kmの範囲 \n●インターネットで聴く：　サイマルラジオ \n※全国どこでもインターネットでラジオが聴けるページです。 \nページ途中の、郡山コミュニティ放送「放送を聴く」をクリックしてください♪ \n●リクエスト＆メッセージ：　Eメール＜koco@kocofm.jp＞　　F A X ＜024-953-6161＞
URL:https://chihirosound.com/event/8451
CATEGORIES:オススメ,ラジオ
ORGANIZER;CN="%E9%83%A1%E5%B1%B1%E3%82%B3%E3%83%9F%E3%83%A5%E3%83%8B%E3%83%86%E3%82%A3%E6%94%BE%E9%80%81":MAILTO:koco@kocofm.jp
END:VEVENT
BEGIN:VEVENT
DTSTART;TZID=Asia/Tokyo:20200906T140000
DTEND;TZID=Asia/Tokyo:20200906T143000
DTSTAMP:20260426T081132
CREATED:20200206T062815Z
LAST-MODIFIED:20200206T062815Z
UID:6893-1599400800-1599402600@chihirosound.com
SUMMARY:KRYラジオ「ちひろDEブレイク」
DESCRIPTION:♠♣♥♦毎週日曜日放送のちひろレギュラー番組♠♣♥♦\nコンサート会場での裏話、ＣＤアルバム制作秘話、名言コーナー、金子みすゞの詩をご紹介など、内容盛り沢山の30分です♪ \n  \n●毎週日曜日：　午後2：00～ \n●パーソナリティ：　ちひろ、瀬川嘉 \n●周波数一覧 -KRY山口放送- \n　　【AM放送で聴く】　【FM放送で聴く】\n●パソコン・スマホでKRYラジオが聴ける！ \n　 　radiko.jp
URL:https://chihirosound.com/event/6893
CATEGORIES:ラジオ
END:VEVENT
BEGIN:VEVENT
DTSTART;TZID=Asia/Tokyo:20200830T140000
DTEND;TZID=Asia/Tokyo:20200830T143000
DTSTAMP:20260426T081132
CREATED:20200206T062724Z
LAST-MODIFIED:20200206T062724Z
UID:6891-1598796000-1598797800@chihirosound.com
SUMMARY:KRYラジオ「ちひろDEブレイク」
DESCRIPTION:♠♣♥♦毎週日曜日放送のちひろレギュラー番組♠♣♥♦\nコンサート会場での裏話、ＣＤアルバム制作秘話、名言コーナー、金子みすゞの詩をご紹介など、内容盛り沢山の30分です♪ \n  \n●毎週日曜日：　午後2：00～ \n●パーソナリティ：　ちひろ、瀬川嘉 \n●周波数一覧 -KRY山口放送- \n　　【AM放送で聴く】　【FM放送で聴く】\n●パソコン・スマホでKRYラジオが聴ける！ \n　 　radiko.jp
URL:https://chihirosound.com/event/6891
CATEGORIES:ラジオ
END:VEVENT
BEGIN:VEVENT
DTSTART;TZID=Asia/Tokyo:20200823T140000
DTEND;TZID=Asia/Tokyo:20200823T143000
DTSTAMP:20260426T081132
CREATED:20200206T062634Z
LAST-MODIFIED:20200206T062634Z
UID:6889-1598191200-1598193000@chihirosound.com
SUMMARY:KRYラジオ「ちひろDEブレイク」
DESCRIPTION:♠♣♥♦毎週日曜日放送のちひろレギュラー番組♠♣♥♦\nコンサート会場での裏話、ＣＤアルバム制作秘話、名言コーナー、金子みすゞの詩をご紹介など、内容盛り沢山の30分です♪ \n  \n●毎週日曜日：　午後2：00～ \n●パーソナリティ：　ちひろ、瀬川嘉 \n●周波数一覧 -KRY山口放送- \n　　【AM放送で聴く】　【FM放送で聴く】\n●パソコン・スマホでKRYラジオが聴ける！ \n　 　radiko.jp
URL:https://chihirosound.com/event/6889
CATEGORIES:ラジオ
END:VEVENT
BEGIN:VEVENT
DTSTART;TZID=Asia/Tokyo:20200816T140000
DTEND;TZID=Asia/Tokyo:20200816T143000
DTSTAMP:20260426T081132
CREATED:20200206T062528Z
LAST-MODIFIED:20200206T062528Z
UID:6887-1597586400-1597588200@chihirosound.com
SUMMARY:KRYラジオ「ちひろDEブレイク」
DESCRIPTION:♠♣♥♦毎週日曜日放送のちひろレギュラー番組♠♣♥♦\nコンサート会場での裏話、ＣＤアルバム制作秘話、名言コーナー、金子みすゞの詩をご紹介など、内容盛り沢山の30分です♪ \n  \n●毎週日曜日：　午後2：00～ \n●パーソナリティ：　ちひろ、瀬川嘉 \n●周波数一覧 -KRY山口放送- \n　　【AM放送で聴く】　【FM放送で聴く】\n●パソコン・スマホでKRYラジオが聴ける！ \n　 　radiko.jp
URL:https://chihirosound.com/event/6887
CATEGORIES:ラジオ
END:VEVENT
BEGIN:VEVENT
DTSTART;TZID=Asia/Tokyo:20200812T163300
DTEND;TZID=Asia/Tokyo:20200812T164500
DTSTAMP:20260426T081132
CREATED:20200804T140339Z
LAST-MODIFIED:20200804T140339Z
UID:8368-1597249980-1597250700@chihirosound.com
SUMMARY:Radio〔北海道〕
DESCRIPTION:【Title】FMオホーツク「おほ～つくGarden」に電話ゲスト出演！\n廣瀬順子選手応援ソングCD『自分に出逢うために』についてお話いたします♪\n●と　き：　8月12日（水） \n●時　間：　午後4：33頃～ \n●ラジオ局：　FMオホーツク \n●番　組：　おほ～つくGarden \n●パーソナリティ：　服部 牧子 さん \n●メールやリクエスト：　827@fmok.jp　FAX：0157-69-0211 \n●放送受信エリア：　北海道北見市 \n●電話出演：　ちひろ
URL:https://chihirosound.com/event/8368
CATEGORIES:オススメ,ラジオ
ORGANIZER;CN="FM%E3%82%AA%E3%83%9B%E3%83%BC%E3%83%84%E3%82%AF":MAILTO:827@fmok.jp
END:VEVENT
BEGIN:VEVENT
DTSTART;TZID=Asia/Tokyo:20200809T140000
DTEND;TZID=Asia/Tokyo:20200809T143000
DTSTAMP:20260426T081132
CREATED:20200206T062425Z
LAST-MODIFIED:20200206T062425Z
UID:6885-1596981600-1596983400@chihirosound.com
SUMMARY:KRYラジオ「ちひろDEブレイク」
DESCRIPTION:♠♣♥♦毎週日曜日放送のちひろレギュラー番組♠♣♥♦\nコンサート会場での裏話、ＣＤアルバム制作秘話、名言コーナー、金子みすゞの詩をご紹介など、内容盛り沢山の30分です♪ \n  \n●毎週日曜日：　午後2：00～ \n●パーソナリティ：　ちひろ、瀬川嘉 \n●周波数一覧 -KRY山口放送- \n　　【AM放送で聴く】　【FM放送で聴く】\n●パソコン・スマホでKRYラジオが聴ける！ \n　 　radiko.jp
URL:https://chihirosound.com/event/6885
CATEGORIES:ラジオ
END:VEVENT
END:VCALENDAR