BEGIN:VCALENDAR
VERSION:2.0
PRODID:-//ちひろ Official Website ～金子みすゞの心を歌う～  CHIHIRO Official Website - MISUZU KANEKO- - ECPv6.15.11//NONSGML v1.0//EN
CALSCALE:GREGORIAN
METHOD:PUBLISH
X-WR-CALNAME:ちひろ Official Website ～金子みすゞの心を歌う～  CHIHIRO Official Website - MISUZU KANEKO-
X-ORIGINAL-URL:https://chihirosound.com
X-WR-CALDESC:ちひろ Official Website ～金子みすゞの心を歌う～  CHIHIRO Official Website - MISUZU KANEKO- のイベント
REFRESH-INTERVAL;VALUE=DURATION:PT1H
X-Robots-Tag:noindex
X-PUBLISHED-TTL:PT1H
BEGIN:VTIMEZONE
TZID:Asia/Tokyo
BEGIN:STANDARD
TZOFFSETFROM:+0900
TZOFFSETTO:+0900
TZNAME:JST
DTSTART:20200101T000000
END:STANDARD
END:VTIMEZONE
BEGIN:VEVENT
DTSTART;TZID=Asia/Tokyo:20210822T140000
DTEND;TZID=Asia/Tokyo:20210822T143000
DTSTAMP:20260425T214132
CREATED:20210619T143651Z
LAST-MODIFIED:20210701T115105Z
UID:10492-1629640800-1629642600@chihirosound.com
SUMMARY:KRYラジオ「ちひろDEブレイク」
DESCRIPTION:♠♣♥♦毎週日曜日放送のちひろレギュラー番組♠♣♥♦\nコンサート会場での裏話、ＣＤアルバム制作秘話、名言コーナー、金子みすゞの詩をご紹介など、内容盛り沢山の30分です♪ \n  \n●毎週日曜日：　午後2：00～ \n●パーソナリティ：　ちひろ、瀬川嘉 \n  \n●ちひろDEブレイク：　Official Website・ブログ・みすゞ心のメッセージ \n●周波数一覧 -KRY山口放送-：　こちら（AM・FMで聴く） \n●パソコン・スマホでKRYラジオが聴ける：　radiko.jp \n  \n●ご意見・ご感想はこちら \nメール：break@kry.co.jp\nＦＡＸ：0834-32-9000\nハガキ：〒745-8686　山口放送「ちひろDEブレイク」係 \nメッセージフォームはこちらから
URL:https://chihirosound.com/event/10492
CATEGORIES:オススメ,ラジオ
END:VEVENT
BEGIN:VEVENT
DTSTART;TZID=Asia/Tokyo:20210822T110000
DTEND;TZID=Asia/Tokyo:20210822T113000
DTSTAMP:20260425T214132
CREATED:20210701T121649Z
LAST-MODIFIED:20210701T121649Z
UID:10706-1629630000-1629631800@chihirosound.com
SUMMARY:FM AQUA〔山口県〕
DESCRIPTION:💐ちひろレギュラー番組「みすゞさんと明るいほうへ」💐（再放送）\n金子みすゞの詩の朗読・ご紹介など、みすゞさんについてたっぷりお届け ❤ 30分番組です♪ \n  \n●と　き：　毎週日曜日 \n●時　間：　午前11：00～ \n●ラジオ局：　FM AQUA \n  \n●番組詳細：　『みすゞさんと明るいほうへ』（FM AQUA） \n●パーソナリティ：　ちひろ \n  \n●周波数：　FM AQUA／87.8MHz \n●放送エリア：　長門市を中心としたエリア、周辺受信エリア \n  \n●リクエスト＆メッセージ🎵：　FM AQUA／878@fmaqua.jp \n●レギュラー放送：　毎週水曜日 午前11：00～　 \n5局同時放送　FM-NANAKO（萩市）、FM AQUA（長門市）、COME！ON FM（下関市）、しゅうなんFM（周南市・下松市、光市の一部）、FMスマイルウエ～ブ（山陽小野田市）
URL:https://chihirosound.com/event/10706
CATEGORIES:ラジオ
ORGANIZER;CN="FM AQUA":MAILTO:878@fmaqua.jp
END:VEVENT
BEGIN:VEVENT
DTSTART;TZID=Asia/Tokyo:20210821T150000
DTEND;TZID=Asia/Tokyo:20210821T153000
DTSTAMP:20260425T214132
CREATED:20210619T152910Z
LAST-MODIFIED:20210619T152910Z
UID:10550-1629558000-1629559800@chihirosound.com
SUMMARY:FM-NANAKO〔山口県〕
DESCRIPTION:💐ちひろレギュラー番組「みすゞさんと明るいほうへ」💐（再放送）\n金子みすゞの詩の朗読・ご紹介など、みすゞさんについてたっぷりお届け ❤ 30分番組です♪ \n  \n●と　き：　毎週土曜日 \n●時　間：　午後3：00～ \n●ラジオ局：　FM-NANAKO（萩市） \n  \n●番組詳細：　『みすゞさんと明るいほうへ』（FM-NANAKO） \n●パーソナリティ：　ちひろ \n  \n●周波数：　FM-NANAKO／77.5MHz \n●放送エリア：　萩市を中心としたエリア、周辺受信エリア \n  \n●リクエスト＆メッセージ🎵：　FM-NANAKO／775@haginet.ne.jp　 \n●レギュラー放送：　毎週水曜日 午前11：00～　３局同時放送　FM-NANAKO（萩市）、FM AQUA（長門市）、COME！ON FM（下関市） \n 
URL:https://chihirosound.com/event/10550
CATEGORIES:ラジオ
ORGANIZER;CN="FM-NANAKO":MAILTO:775@haginet.ne.jp
END:VEVENT
BEGIN:VEVENT
DTSTART;TZID=Asia/Tokyo:20210820T130500
DTEND;TZID=Asia/Tokyo:20210820T133000
DTSTAMP:20260425T214132
CREATED:20210820T012951Z
LAST-MODIFIED:20210820T012951Z
UID:10945-1629464700-1629466200@chihirosound.com
SUMMARY:Radio〔福島県〕
DESCRIPTION:【Title】KOCOラジ（郡山コミュニティ放送）に電話ゲスト出演！\n●と　き：　8月20日（金） \n●時　間：　午後1：05頃～ \n●ラジオ局：　KOCOラジ（郡山コミュニティ放送） \n●番　組：　『ひるココ』 \n●パーソナリティ：　宗方 和子　さん \n●周波数：　79.1MHHz \n●放送エリア：　郡山駅から20kmの範囲 \n●インターネットで聴く：　サイマルラジオ \n※全国どこでもインターネットでラジオが聴けるページです。 \nページ途中の、郡山コミュニティ放送「放送を聴く」をクリックしてください♪ \n●リクエスト＆メッセージ：　Eメール＜koco@kocofm.jp＞　　F A X ＜024-953-6161＞
URL:https://chihirosound.com/event/10945
CATEGORIES:オススメ,ラジオ
ORGANIZER;CN="%E9%83%A1%E5%B1%B1%E3%82%B3%E3%83%9F%E3%83%A5%E3%83%8B%E3%83%86%E3%82%A3%E6%94%BE%E9%80%81":MAILTO:koco@kocofm.jp
END:VEVENT
BEGIN:VEVENT
DTSTART;TZID=Asia/Tokyo:20210818T110000
DTEND;TZID=Asia/Tokyo:20210818T113000
DTSTAMP:20260425T214132
CREATED:20210619T145957Z
LAST-MODIFIED:20210701T133807Z
UID:10519-1629284400-1629286200@chihirosound.com
SUMMARY:５局Radio「みすゞさんと明るいほうへ」
DESCRIPTION:💐５局同時放送・毎週水曜日放送のちひろレギュラー番組💐\n金子みすゞの詩の朗読・ご紹介など、みすゞさんについてたっぷりお届け ❤ 30分番組です♪ \n  \n●と　き：　毎週水曜日 \n●時　間：　午前11：00～ \n●ラジオ局：　５局同時放送　 \n□FM-NANAKO（萩市） \n□FM AQUA（長門市） \n□COME ON ! FM（下関市内及び山陽小野田市、北九州市門司区・小倉北区の各一部） \n□しゅうなんFM（周南市・下松市、光市の一部） \n□FMスマイルウエ～ブ（山陽小野田市、宇部市・美祢市・下関市の一部地域） \n  \n●番組詳細：　『みすゞさんと明るいほうへ』（FM-NANAKO） \n●パーソナリティ：　ちひろ \n  \n●周波数：　 \nFM-NANAKO／77.5MHz　　FM AQUA／87.8MHz　　COME ON！FM／76.4MHz \nしゅうなんFM／78.4MH　　FMスマイルウエ～ブ／89.7MHz \n  \n●インターネットで聴く：　※全国どこでもインターネットでラジオが聴けるページです。 \n  \n■サイマルラジオで聴く \n中国地区の「COME ON! FM」  or  「しゅうなんFM」　の　「LISTEN♪」　をクリックしてください♪ \n■COME ON! FMををインターネットで聴く \n■FMスマイルウエ～ブをインターネットで聴く \n  \n●リクエスト＆メッセージ🎵：　misuzufm.0407@gmail.com \nもしくは　FM-NANAKO／775@haginet.ne.jp　　FM AQUA／878@fmaqua.jp　　COME ON！FM／こちらから　　 \nしゅうなんFM／studio@fms784.co.jp　　FMスマイルウエ～ブ／こちらから \n  \n●再放送：　FM-NANAKO（萩市）／毎週土曜日 午後3：00～　　FM AQUA（長門市）／毎週日曜日午前11：00～
URL:https://chihirosound.com/event/10519
CATEGORIES:オススメ,ラジオ
ORGANIZER;CN="FM-NANAKO":MAILTO:775@haginet.ne.jp
END:VEVENT
BEGIN:VEVENT
DTSTART;TZID=Asia/Tokyo:20210815T140000
DTEND;TZID=Asia/Tokyo:20210815T143000
DTSTAMP:20260425T214132
CREATED:20210619T143516Z
LAST-MODIFIED:20210701T115015Z
UID:10490-1629036000-1629037800@chihirosound.com
SUMMARY:KRYラジオ「ちひろDEブレイク」
DESCRIPTION:♠♣♥♦毎週日曜日放送のちひろレギュラー番組♠♣♥♦\nコンサート会場での裏話、ＣＤアルバム制作秘話、名言コーナー、金子みすゞの詩をご紹介など、内容盛り沢山の30分です♪ \n  \n●毎週日曜日：　午後2：00～ \n●パーソナリティ：　ちひろ、瀬川嘉 \n  \n●ちひろDEブレイク：　Official Website・ブログ・みすゞ心のメッセージ \n●周波数一覧 -KRY山口放送-：　こちら（AM・FMで聴く） \n●パソコン・スマホでKRYラジオが聴ける：　radiko.jp \n  \n●ご意見・ご感想はこちら \nメール：break@kry.co.jp\nＦＡＸ：0834-32-9000\nハガキ：〒745-8686　山口放送「ちひろDEブレイク」係 \nメッセージフォームはこちらから
URL:https://chihirosound.com/event/10490
CATEGORIES:オススメ,ラジオ
END:VEVENT
BEGIN:VEVENT
DTSTART;TZID=Asia/Tokyo:20210815T110000
DTEND;TZID=Asia/Tokyo:20210815T113000
DTSTAMP:20260425T214132
CREATED:20210701T121535Z
LAST-MODIFIED:20210701T121535Z
UID:10704-1629025200-1629027000@chihirosound.com
SUMMARY:FM AQUA〔山口県〕
DESCRIPTION:💐ちひろレギュラー番組「みすゞさんと明るいほうへ」💐（再放送）\n金子みすゞの詩の朗読・ご紹介など、みすゞさんについてたっぷりお届け ❤ 30分番組です♪ \n  \n●と　き：　毎週日曜日 \n●時　間：　午前11：00～ \n●ラジオ局：　FM AQUA \n  \n●番組詳細：　『みすゞさんと明るいほうへ』（FM AQUA） \n●パーソナリティ：　ちひろ \n  \n●周波数：　FM AQUA／87.8MHz \n●放送エリア：　長門市を中心としたエリア、周辺受信エリア \n  \n●リクエスト＆メッセージ🎵：　FM AQUA／878@fmaqua.jp \n●レギュラー放送：　毎週水曜日 午前11：00～　 \n5局同時放送　FM-NANAKO（萩市）、FM AQUA（長門市）、COME！ON FM（下関市）、しゅうなんFM（周南市・下松市、光市の一部）、FMスマイルウエ～ブ（山陽小野田市）
URL:https://chihirosound.com/event/10704
CATEGORIES:ラジオ
ORGANIZER;CN="FM AQUA":MAILTO:878@fmaqua.jp
END:VEVENT
BEGIN:VEVENT
DTSTART;TZID=Asia/Tokyo:20210814T150000
DTEND;TZID=Asia/Tokyo:20210814T153000
DTSTAMP:20260425T214132
CREATED:20210619T152758Z
LAST-MODIFIED:20210619T152758Z
UID:10548-1628953200-1628955000@chihirosound.com
SUMMARY:FM-NANAKO〔山口県〕
DESCRIPTION:💐ちひろレギュラー番組「みすゞさんと明るいほうへ」💐（再放送）\n金子みすゞの詩の朗読・ご紹介など、みすゞさんについてたっぷりお届け ❤ 30分番組です♪ \n  \n●と　き：　毎週土曜日 \n●時　間：　午後3：00～ \n●ラジオ局：　FM-NANAKO（萩市） \n  \n●番組詳細：　『みすゞさんと明るいほうへ』（FM-NANAKO） \n●パーソナリティ：　ちひろ \n  \n●周波数：　FM-NANAKO／77.5MHz \n●放送エリア：　萩市を中心としたエリア、周辺受信エリア \n  \n●リクエスト＆メッセージ🎵：　FM-NANAKO／775@haginet.ne.jp　 \n●レギュラー放送：　毎週水曜日 午前11：00～　３局同時放送　FM-NANAKO（萩市）、FM AQUA（長門市）、COME！ON FM（下関市） \n 
URL:https://chihirosound.com/event/10548
CATEGORIES:ラジオ
ORGANIZER;CN="FM-NANAKO":MAILTO:775@haginet.ne.jp
END:VEVENT
BEGIN:VEVENT
DTSTART;TZID=Asia/Tokyo:20210811T110000
DTEND;TZID=Asia/Tokyo:20210811T113000
DTSTAMP:20260425T214132
CREATED:20210619T145729Z
LAST-MODIFIED:20210701T133623Z
UID:10517-1628679600-1628681400@chihirosound.com
SUMMARY:５局Radio「みすゞさんと明るいほうへ」
DESCRIPTION:💐５局同時放送・毎週水曜日放送のちひろレギュラー番組💐\n金子みすゞの詩の朗読・ご紹介など、みすゞさんについてたっぷりお届け ❤ 30分番組です♪ \n  \n●と　き：　毎週水曜日 \n●時　間：　午前11：00～ \n●ラジオ局：　５局同時放送　 \n□FM-NANAKO（萩市） \n□FM AQUA（長門市） \n□COME ON ! FM（下関市内及び山陽小野田市、北九州市門司区・小倉北区の各一部） \n□しゅうなんFM（周南市・下松市、光市の一部） \n□FMスマイルウエ～ブ（山陽小野田市、宇部市・美祢市・下関市の一部地域） \n  \n●番組詳細：　『みすゞさんと明るいほうへ』（FM-NANAKO） \n●パーソナリティ：　ちひろ \n  \n●周波数：　 \nFM-NANAKO／77.5MHz　　FM AQUA／87.8MHz　　COME ON！FM／76.4MHz \nしゅうなんFM／78.4MH　　FMスマイルウエ～ブ／89.7MHz \n  \n●インターネットで聴く：　※全国どこでもインターネットでラジオが聴けるページです。 \n  \n■サイマルラジオで聴く \n中国地区の「COME ON! FM」  or  「しゅうなんFM」　の　「LISTEN♪」　をクリックしてください♪ \n■COME ON! FMををインターネットで聴く \n■FMスマイルウエ～ブをインターネットで聴く \n  \n●リクエスト＆メッセージ🎵：　misuzufm.0407@gmail.com \nもしくは　FM-NANAKO／775@haginet.ne.jp　　FM AQUA／878@fmaqua.jp　　COME ON！FM／こちらから　　 \nしゅうなんFM／studio@fms784.co.jp　　FMスマイルウエ～ブ／こちらから \n  \n●再放送：　FM-NANAKO（萩市）／毎週土曜日 午後3：00～　　FM AQUA（長門市）／毎週日曜日午前11：00～
URL:https://chihirosound.com/event/10517
CATEGORIES:オススメ,ラジオ
ORGANIZER;CN="FM-NANAKO":MAILTO:775@haginet.ne.jp
END:VEVENT
BEGIN:VEVENT
DTSTART;TZID=Asia/Tokyo:20210808T140000
DTEND;TZID=Asia/Tokyo:20210808T143000
DTSTAMP:20260425T214132
CREATED:20210619T143411Z
LAST-MODIFIED:20210701T114930Z
UID:10488-1628431200-1628433000@chihirosound.com
SUMMARY:KRYラジオ「ちひろDEブレイク」
DESCRIPTION:♠♣♥♦毎週日曜日放送のちひろレギュラー番組♠♣♥♦\nコンサート会場での裏話、ＣＤアルバム制作秘話、名言コーナー、金子みすゞの詩をご紹介など、内容盛り沢山の30分です♪ \n  \n●毎週日曜日：　午後2：00～ \n●パーソナリティ：　ちひろ、瀬川嘉 \n  \n●ちひろDEブレイク：　Official Website・ブログ・みすゞ心のメッセージ \n●周波数一覧 -KRY山口放送-：　こちら（AM・FMで聴く） \n●パソコン・スマホでKRYラジオが聴ける：　radiko.jp \n  \n●ご意見・ご感想はこちら \nメール：break@kry.co.jp\nＦＡＸ：0834-32-9000\nハガキ：〒745-8686　山口放送「ちひろDEブレイク」係 \nメッセージフォームはこちらから
URL:https://chihirosound.com/event/10488
CATEGORIES:オススメ,ラジオ
END:VEVENT
BEGIN:VEVENT
DTSTART;TZID=Asia/Tokyo:20210808T110000
DTEND;TZID=Asia/Tokyo:20210808T113000
DTSTAMP:20260425T214132
CREATED:20210701T121415Z
LAST-MODIFIED:20210701T121415Z
UID:10702-1628420400-1628422200@chihirosound.com
SUMMARY:FM AQUA〔山口県〕
DESCRIPTION:💐ちひろレギュラー番組「みすゞさんと明るいほうへ」💐（再放送）\n金子みすゞの詩の朗読・ご紹介など、みすゞさんについてたっぷりお届け ❤ 30分番組です♪ \n  \n●と　き：　毎週日曜日 \n●時　間：　午前11：00～ \n●ラジオ局：　FM AQUA \n  \n●番組詳細：　『みすゞさんと明るいほうへ』（FM AQUA） \n●パーソナリティ：　ちひろ \n  \n●周波数：　FM AQUA／87.8MHz \n●放送エリア：　長門市を中心としたエリア、周辺受信エリア \n  \n●リクエスト＆メッセージ🎵：　FM AQUA／878@fmaqua.jp \n●レギュラー放送：　毎週水曜日 午前11：00～　 \n5局同時放送　FM-NANAKO（萩市）、FM AQUA（長門市）、COME！ON FM（下関市）、しゅうなんFM（周南市・下松市、光市の一部）、FMスマイルウエ～ブ（山陽小野田市）
URL:https://chihirosound.com/event/10702
CATEGORIES:ラジオ
ORGANIZER;CN="FM AQUA":MAILTO:878@fmaqua.jp
END:VEVENT
BEGIN:VEVENT
DTSTART;TZID=Asia/Tokyo:20210807T150000
DTEND;TZID=Asia/Tokyo:20210807T153000
DTSTAMP:20260425T214132
CREATED:20210619T152639Z
LAST-MODIFIED:20210619T152639Z
UID:10546-1628348400-1628350200@chihirosound.com
SUMMARY:FM-NANAKO〔山口県〕
DESCRIPTION:💐ちひろレギュラー番組「みすゞさんと明るいほうへ」💐（再放送）\n金子みすゞの詩の朗読・ご紹介など、みすゞさんについてたっぷりお届け ❤ 30分番組です♪ \n  \n●と　き：　毎週土曜日 \n●時　間：　午後3：00～ \n●ラジオ局：　FM-NANAKO（萩市） \n  \n●番組詳細：　『みすゞさんと明るいほうへ』（FM-NANAKO） \n●パーソナリティ：　ちひろ \n  \n●周波数：　FM-NANAKO／77.5MHz \n●放送エリア：　萩市を中心としたエリア、周辺受信エリア \n  \n●リクエスト＆メッセージ🎵：　FM-NANAKO／775@haginet.ne.jp　 \n●レギュラー放送：　毎週水曜日 午前11：00～　３局同時放送　FM-NANAKO（萩市）、FM AQUA（長門市）、COME！ON FM（下関市） \n 
URL:https://chihirosound.com/event/10546
CATEGORIES:ラジオ
ORGANIZER;CN="FM-NANAKO":MAILTO:775@haginet.ne.jp
END:VEVENT
BEGIN:VEVENT
DTSTART;TZID=Asia/Tokyo:20210804T110000
DTEND;TZID=Asia/Tokyo:20210804T113000
DTSTAMP:20260425T214132
CREATED:20210619T145555Z
LAST-MODIFIED:20210701T133447Z
UID:10515-1628074800-1628076600@chihirosound.com
SUMMARY:５局Radio「みすゞさんと明るいほうへ」
DESCRIPTION:💐５局同時放送・毎週水曜日放送のちひろレギュラー番組💐\n金子みすゞの詩の朗読・ご紹介など、みすゞさんについてたっぷりお届け ❤ 30分番組です♪ \n  \n●と　き：　毎週水曜日 \n●時　間：　午前11：00～ \n●ラジオ局：　５局同時放送　 \n□FM-NANAKO（萩市） \n□FM AQUA（長門市） \n□COME ON ! FM（下関市内及び山陽小野田市、北九州市門司区・小倉北区の各一部） \n□しゅうなんFM（周南市・下松市、光市の一部） \n□FMスマイルウエ～ブ（山陽小野田市、宇部市・美祢市・下関市の一部地域） \n  \n●番組詳細：　『みすゞさんと明るいほうへ』（FM-NANAKO） \n●パーソナリティ：　ちひろ \n  \n●周波数：　 \nFM-NANAKO／77.5MHz　　FM AQUA／87.8MHz　　COME ON！FM／76.4MHz \nしゅうなんFM／78.4MH　　FMスマイルウエ～ブ／89.7MHz \n  \n●インターネットで聴く：　※全国どこでもインターネットでラジオが聴けるページです。 \n  \n■サイマルラジオで聴く \n中国地区の「COME ON! FM」  or  「しゅうなんFM」　の　「LISTEN♪」　をクリックしてください♪ \n■COME ON! FMををインターネットで聴く \n■FMスマイルウエ～ブをインターネットで聴く \n  \n●リクエスト＆メッセージ🎵：　misuzufm.0407@gmail.com \nもしくは　FM-NANAKO／775@haginet.ne.jp　　FM AQUA／878@fmaqua.jp　　COME ON！FM／こちらから　　 \nしゅうなんFM／studio@fms784.co.jp　　FMスマイルウエ～ブ／こちらから \n  \n●再放送：　FM-NANAKO（萩市）／毎週土曜日 午後3：00～　　FM AQUA（長門市）／毎週日曜日午前11：00～
URL:https://chihirosound.com/event/10515
CATEGORIES:オススメ,ラジオ
ORGANIZER;CN="FM-NANAKO":MAILTO:775@haginet.ne.jp
END:VEVENT
BEGIN:VEVENT
DTSTART;TZID=Asia/Tokyo:20210802T115500
DTEND;TZID=Asia/Tokyo:20210802T120000
DTSTAMP:20260425T214132
CREATED:20210801T102541Z
LAST-MODIFIED:20210801T102541Z
UID:10869-1627905300-1627905600@chihirosound.com
SUMMARY:Radio〔山口県〕
DESCRIPTION:しゅうなんエフエム「８月のヘビーローテーション」曲に \n『自分に出逢うために』が選ばれました♪ \n  \n東京パラリンピック出場の視覚障害者柔道・廣瀬順子選手の応援ソング『自分に出逢うために』 \n8月2日（月）から一ヶ月間、ON AIRされますので、 \nぜひお聴きくださいませ☆彡 \n  \n時間：　お昼11：55～　&　朝と夕 \n  \nしゅうなんエフエムHPはこちら📻 \n  \nインターネットサイマルラジオでも💻 \n  \nYouTubeで『自分に出逢うために』をご視聴できます！ \n  \n \n  \n 
URL:https://chihirosound.com/event/10869
CATEGORIES:オススメ,ラジオ
ATTACH;FMTTYPE=image/jpeg:https://chihirosound.com/wp-content/uploads/2021/08/c9b0c5527e7c539e5b5c67c94b92e994.jpg
ORGANIZER;CN="%E3%81%97%E3%82%85%E3%81%86%E3%81%AA%E3%82%93FM":MAILTO:info@fms784.co.jp
END:VEVENT
BEGIN:VEVENT
DTSTART;TZID=Asia/Tokyo:20210801T140000
DTEND;TZID=Asia/Tokyo:20210801T143000
DTSTAMP:20260425T214132
CREATED:20210619T143202Z
LAST-MODIFIED:20210701T114839Z
UID:10486-1627826400-1627828200@chihirosound.com
SUMMARY:KRYラジオ「ちひろDEブレイク」
DESCRIPTION:♠♣♥♦毎週日曜日放送のちひろレギュラー番組♠♣♥♦\nコンサート会場での裏話、ＣＤアルバム制作秘話、名言コーナー、金子みすゞの詩をご紹介など、内容盛り沢山の30分です♪ \n  \n●毎週日曜日：　午後2：00～ \n●パーソナリティ：　ちひろ、瀬川嘉 \n  \n●ちひろDEブレイク：　Official Website・ブログ・みすゞ心のメッセージ \n●周波数一覧 -KRY山口放送-：　こちら（AM・FMで聴く） \n●パソコン・スマホでKRYラジオが聴ける：　radiko.jp \n  \n●ご意見・ご感想はこちら \nメール：break@kry.co.jp\nＦＡＸ：0834-32-9000\nハガキ：〒745-8686　山口放送「ちひろDEブレイク」係 \nメッセージフォームはこちらから
URL:https://chihirosound.com/event/10486
CATEGORIES:オススメ,ラジオ
END:VEVENT
BEGIN:VEVENT
DTSTART;TZID=Asia/Tokyo:20210801T110000
DTEND;TZID=Asia/Tokyo:20210801T113000
DTSTAMP:20260425T214132
CREATED:20210701T121013Z
LAST-MODIFIED:20210701T121313Z
UID:10698-1627815600-1627817400@chihirosound.com
SUMMARY:FM AQUA〔山口県〕
DESCRIPTION:💐ちひろレギュラー番組「みすゞさんと明るいほうへ」💐（再放送）\n金子みすゞの詩の朗読・ご紹介など、みすゞさんについてたっぷりお届け ❤ 30分番組です♪ \n  \n●と　き：　毎週日曜日 \n●時　間：　午前11：00～ \n●ラジオ局：　FM AQUA \n  \n●番組詳細：　『みすゞさんと明るいほうへ』（FM AQUA） \n●パーソナリティ：　ちひろ \n  \n●周波数：　FM AQUA／87.8MHz \n●放送エリア：　長門市を中心としたエリア、周辺受信エリア \n  \n●リクエスト＆メッセージ🎵：　FM AQUA／878@fmaqua.jp \n●レギュラー放送：　毎週水曜日 午前11：00～　 \n5局同時放送　FM-NANAKO（萩市）、FM AQUA（長門市）、COME！ON FM（下関市）、しゅうなんFM（周南市・下松市、光市の一部）、FMスマイルウエ～ブ（山陽小野田市）
URL:https://chihirosound.com/event/10698
CATEGORIES:ラジオ
ORGANIZER;CN="FM AQUA":MAILTO:878@fmaqua.jp
END:VEVENT
BEGIN:VEVENT
DTSTART;TZID=Asia/Tokyo:20210731T150000
DTEND;TZID=Asia/Tokyo:20210731T153000
DTSTAMP:20260425T214132
CREATED:20210619T152540Z
LAST-MODIFIED:20210619T152540Z
UID:10544-1627743600-1627745400@chihirosound.com
SUMMARY:FM-NANAKO〔山口県〕
DESCRIPTION:💐ちひろレギュラー番組「みすゞさんと明るいほうへ」💐（再放送）\n金子みすゞの詩の朗読・ご紹介など、みすゞさんについてたっぷりお届け ❤ 30分番組です♪ \n  \n●と　き：　毎週土曜日 \n●時　間：　午後3：00～ \n●ラジオ局：　FM-NANAKO（萩市） \n  \n●番組詳細：　『みすゞさんと明るいほうへ』（FM-NANAKO） \n●パーソナリティ：　ちひろ \n  \n●周波数：　FM-NANAKO／77.5MHz \n●放送エリア：　萩市を中心としたエリア、周辺受信エリア \n  \n●リクエスト＆メッセージ🎵：　FM-NANAKO／775@haginet.ne.jp　 \n●レギュラー放送：　毎週水曜日 午前11：00～　３局同時放送　FM-NANAKO（萩市）、FM AQUA（長門市）、COME！ON FM（下関市） \n 
URL:https://chihirosound.com/event/10544
CATEGORIES:ラジオ
ORGANIZER;CN="FM-NANAKO":MAILTO:775@haginet.ne.jp
END:VEVENT
BEGIN:VEVENT
DTSTART;TZID=Asia/Tokyo:20210728T110000
DTEND;TZID=Asia/Tokyo:20210728T113000
DTSTAMP:20260425T214132
CREATED:20210619T145419Z
LAST-MODIFIED:20210701T133247Z
UID:10513-1627470000-1627471800@chihirosound.com
SUMMARY:５局Radio「みすゞさんと明るいほうへ」
DESCRIPTION:💐５局同時放送・毎週水曜日放送のちひろレギュラー番組💐\n金子みすゞの詩の朗読・ご紹介など、みすゞさんについてたっぷりお届け ❤ 30分番組です♪ \n  \n●と　き：　毎週水曜日 \n●時　間：　午前11：00～ \n●ラジオ局：　５局同時放送　 \n□FM-NANAKO（萩市） \n□FM AQUA（長門市） \n□COME ON ! FM（下関市内及び山陽小野田市、北九州市門司区・小倉北区の各一部） \n□しゅうなんFM（周南市・下松市、光市の一部） \n□FMスマイルウエ～ブ（山陽小野田市、宇部市・美祢市・下関市の一部地域） \n  \n●番組詳細：　『みすゞさんと明るいほうへ』（FM-NANAKO） \n●パーソナリティ：　ちひろ \n  \n●周波数：　 \nFM-NANAKO／77.5MHz　　FM AQUA／87.8MHz　　COME ON！FM／76.4MHz \nしゅうなんFM／78.4MH　　FMスマイルウエ～ブ／89.7MHz \n  \n●インターネットで聴く：　※全国どこでもインターネットでラジオが聴けるページです。 \n  \n■サイマルラジオで聴く \n中国地区の「COME ON! FM」  or  「しゅうなんFM」　の　「LISTEN♪」　をクリックしてください♪ \n■COME ON! FMををインターネットで聴く \n■FMスマイルウエ～ブをインターネットで聴く \n  \n●リクエスト＆メッセージ🎵：　misuzufm.0407@gmail.com \nもしくは　FM-NANAKO／775@haginet.ne.jp　　FM AQUA／878@fmaqua.jp　　COME ON！FM／こちらから　　 \nしゅうなんFM／studio@fms784.co.jp　　FMスマイルウエ～ブ／こちらから \n  \n●再放送：　FM-NANAKO（萩市）／毎週土曜日 午後3：00～　　FM AQUA（長門市）／毎週日曜日午前11：00～
URL:https://chihirosound.com/event/10513
CATEGORIES:オススメ,ラジオ
ORGANIZER;CN="FM-NANAKO":MAILTO:775@haginet.ne.jp
END:VEVENT
BEGIN:VEVENT
DTSTART;TZID=Asia/Tokyo:20210725T140000
DTEND;TZID=Asia/Tokyo:20210725T143000
DTSTAMP:20260425T214132
CREATED:20210619T143053Z
LAST-MODIFIED:20210701T114737Z
UID:10484-1627221600-1627223400@chihirosound.com
SUMMARY:【高校野球】KRYラジオ「ちひろDEブレイク」
DESCRIPTION:第103回全国高校野球選手権大会（夏の甲子園）の地方大会ラジオ中継のため、 \n本日の「ちひろDEブレイク」はお休みいたします。 \nなお、雨天中止の場合は、以下の時間通り「ちひろDEブレイク」を放送いたします。 \n何卒ご了承くださいませ。 \n \n♠♣♥♦毎週日曜日放送のちひろレギュラー番組♠♣♥♦\nコンサート会場での裏話、ＣＤアルバム制作秘話、名言コーナー、金子みすゞの詩をご紹介など、内容盛り沢山の30分です♪ \n  \n●毎週日曜日：　午後2：00～ \n●パーソナリティ：　ちひろ、瀬川嘉 \n  \n●ちひろDEブレイク：　Official Website・ブログ・みすゞ心のメッセージ \n●周波数一覧 -KRY山口放送-：　こちら（AM・FMで聴く） \n●パソコン・スマホでKRYラジオが聴ける：　radiko.jp \n  \n●ご意見・ご感想はこちら \nメール：break@kry.co.jp\nＦＡＸ：0834-32-9000\nハガキ：〒745-8686　山口放送「ちひろDEブレイク」係 \nメッセージフォームはこちらから
URL:https://chihirosound.com/event/10484
CATEGORIES:オススメ,ラジオ
END:VEVENT
BEGIN:VEVENT
DTSTART;TZID=Asia/Tokyo:20210725T110000
DTEND;TZID=Asia/Tokyo:20210725T113000
DTSTAMP:20260425T214132
CREATED:20210701T121117Z
LAST-MODIFIED:20210701T121117Z
UID:10700-1627210800-1627212600@chihirosound.com
SUMMARY:FM AQUA〔山口県〕
DESCRIPTION:💐ちひろレギュラー番組「みすゞさんと明るいほうへ」💐（再放送）\n金子みすゞの詩の朗読・ご紹介など、みすゞさんについてたっぷりお届け ❤ 30分番組です♪ \n  \n●と　き：　毎週日曜日 \n●時　間：　午前11：00～ \n●ラジオ局：　FM AQUA \n  \n●番組詳細：　『みすゞさんと明るいほうへ』（FM AQUA） \n●パーソナリティ：　ちひろ \n  \n●周波数：　FM AQUA／87.8MHz \n●放送エリア：　長門市を中心としたエリア、周辺受信エリア \n  \n●リクエスト＆メッセージ🎵：　FM AQUA／878@fmaqua.jp \n●レギュラー放送：　毎週水曜日 午前11：00～　 \n5局同時放送　FM-NANAKO（萩市）、FM AQUA（長門市）、COME！ON FM（下関市）、しゅうなんFM（周南市・下松市、光市の一部）、FMスマイルウエ～ブ（山陽小野田市）
URL:https://chihirosound.com/event/10700
CATEGORIES:ラジオ
ORGANIZER;CN="FM AQUA":MAILTO:878@fmaqua.jp
END:VEVENT
BEGIN:VEVENT
DTSTART;TZID=Asia/Tokyo:20210724T150000
DTEND;TZID=Asia/Tokyo:20210724T153000
DTSTAMP:20260425T214132
CREATED:20210619T152439Z
LAST-MODIFIED:20210619T152439Z
UID:10542-1627138800-1627140600@chihirosound.com
SUMMARY:FM-NANAKO〔山口県〕
DESCRIPTION:💐ちひろレギュラー番組「みすゞさんと明るいほうへ」💐（再放送）\n金子みすゞの詩の朗読・ご紹介など、みすゞさんについてたっぷりお届け ❤ 30分番組です♪ \n  \n●と　き：　毎週土曜日 \n●時　間：　午後3：00～ \n●ラジオ局：　FM-NANAKO（萩市） \n  \n●番組詳細：　『みすゞさんと明るいほうへ』（FM-NANAKO） \n●パーソナリティ：　ちひろ \n  \n●周波数：　FM-NANAKO／77.5MHz \n●放送エリア：　萩市を中心としたエリア、周辺受信エリア \n  \n●リクエスト＆メッセージ🎵：　FM-NANAKO／775@haginet.ne.jp　 \n●レギュラー放送：　毎週水曜日 午前11：00～　３局同時放送　FM-NANAKO（萩市）、FM AQUA（長門市）、COME！ON FM（下関市） \n 
URL:https://chihirosound.com/event/10542
CATEGORIES:ラジオ
ORGANIZER;CN="FM-NANAKO":MAILTO:775@haginet.ne.jp
END:VEVENT
BEGIN:VEVENT
DTSTART;TZID=Asia/Tokyo:20210721T110000
DTEND;TZID=Asia/Tokyo:20210721T113000
DTSTAMP:20260425T214132
CREATED:20210619T145239Z
LAST-MODIFIED:20210701T133011Z
UID:10510-1626865200-1626867000@chihirosound.com
SUMMARY:５局Radio「みすゞさんと明るいほうへ」
DESCRIPTION:💐５局同時放送・毎週水曜日放送のちひろレギュラー番組💐\n金子みすゞの詩の朗読・ご紹介など、みすゞさんについてたっぷりお届け ❤ 30分番組です♪ \n  \n●と　き：　毎週水曜日 \n●時　間：　午前11：00～ \n●ラジオ局：　５局同時放送　 \n□FM-NANAKO（萩市） \n□FM AQUA（長門市） \n□COME ON ! FM（下関市内及び山陽小野田市、北九州市門司区・小倉北区の各一部） \n□しゅうなんFM（周南市・下松市、光市の一部） \n□FMスマイルウエ～ブ（山陽小野田市、宇部市・美祢市・下関市の一部地域） \n  \n●番組詳細：　『みすゞさんと明るいほうへ』（FM-NANAKO） \n●パーソナリティ：　ちひろ \n  \n●周波数：　 \nFM-NANAKO／77.5MHz　　FM AQUA／87.8MHz　　COME ON！FM／76.4MHz \nしゅうなんFM／78.4MH　　FMスマイルウエ～ブ／89.7MHz \n  \n●インターネットで聴く：　※全国どこでもインターネットでラジオが聴けるページです。 \n  \n■サイマルラジオで聴く \n中国地区の「COME ON! FM」  or  「しゅうなんFM」　の　「LISTEN♪」　をクリックしてください♪ \n■COME ON! FMををインターネットで聴く \n■FMスマイルウエ～ブをインターネットで聴く \n  \n●リクエスト＆メッセージ🎵：　misuzufm.0407@gmail.com \nもしくは　FM-NANAKO／775@haginet.ne.jp　　FM AQUA／878@fmaqua.jp　　COME ON！FM／こちらから　　 \nしゅうなんFM／studio@fms784.co.jp　　FMスマイルウエ～ブ／こちらから \n  \n●再放送：　FM-NANAKO（萩市）／毎週土曜日 午後3：00～　　FM AQUA（長門市）／毎週日曜日午前11：00～
URL:https://chihirosound.com/event/10510
CATEGORIES:オススメ,ラジオ
ORGANIZER;CN="FM-NANAKO":MAILTO:775@haginet.ne.jp
END:VEVENT
BEGIN:VEVENT
DTSTART;TZID=Asia/Tokyo:20210718T110000
DTEND;TZID=Asia/Tokyo:20210718T113000
DTSTAMP:20260425T214132
CREATED:20210701T120900Z
LAST-MODIFIED:20210701T120900Z
UID:10696-1626606000-1626607800@chihirosound.com
SUMMARY:FM AQUA〔山口県〕
DESCRIPTION:💐ちひろレギュラー番組「みすゞさんと明るいほうへ」💐（再放送）\n金子みすゞの詩の朗読・ご紹介など、みすゞさんについてたっぷりお届け ❤ 30分番組です♪ \n  \n●と　き：　毎週日曜日 \n●時　間：　午前11：00～ \n●ラジオ局：　FM AQUA \n  \n●番組詳細：　『みすゞさんと明るいほうへ』（FM AQUA） \n●パーソナリティ：　ちひろ \n  \n●周波数：　FM AQUA／87.8MHz \n●放送エリア：　長門市を中心としたエリア、周辺受信エリア \n  \n●リクエスト＆メッセージ🎵：　FM AQUA／878@fmaqua.jp \n●レギュラー放送：　毎週水曜日 午前11：00～　 \n5局同時放送　FM-NANAKO（萩市）、FM AQUA（長門市）、COME！ON FM（下関市）、しゅうなんFM（周南市・下松市、光市の一部）、FMスマイルウエ～ブ（山陽小野田市）
URL:https://chihirosound.com/event/10696
CATEGORIES:ラジオ
ORGANIZER;CN="FM AQUA":MAILTO:878@fmaqua.jp
END:VEVENT
BEGIN:VEVENT
DTSTART;TZID=Asia/Tokyo:20210717T150000
DTEND;TZID=Asia/Tokyo:20210717T153000
DTSTAMP:20260425T214132
CREATED:20210619T152326Z
LAST-MODIFIED:20210619T152326Z
UID:10540-1626534000-1626535800@chihirosound.com
SUMMARY:FM-NANAKO〔山口県〕
DESCRIPTION:💐ちひろレギュラー番組「みすゞさんと明るいほうへ」💐（再放送）\n金子みすゞの詩の朗読・ご紹介など、みすゞさんについてたっぷりお届け ❤ 30分番組です♪ \n  \n●と　き：　毎週土曜日 \n●時　間：　午後3：00～ \n●ラジオ局：　FM-NANAKO（萩市） \n  \n●番組詳細：　『みすゞさんと明るいほうへ』（FM-NANAKO） \n●パーソナリティ：　ちひろ \n  \n●周波数：　FM-NANAKO／77.5MHz \n●放送エリア：　萩市を中心としたエリア、周辺受信エリア \n  \n●リクエスト＆メッセージ🎵：　FM-NANAKO／775@haginet.ne.jp　 \n●レギュラー放送：　毎週水曜日 午前11：00～　３局同時放送　FM-NANAKO（萩市）、FM AQUA（長門市）、COME！ON FM（下関市） \n 
URL:https://chihirosound.com/event/10540
CATEGORIES:ラジオ
ORGANIZER;CN="FM-NANAKO":MAILTO:775@haginet.ne.jp
END:VEVENT
BEGIN:VEVENT
DTSTART;TZID=Asia/Tokyo:20210714T110000
DTEND;TZID=Asia/Tokyo:20210714T113000
DTSTAMP:20260425T214132
CREATED:20210619T145127Z
LAST-MODIFIED:20210701T132827Z
UID:10508-1626260400-1626262200@chihirosound.com
SUMMARY:５局Radio「みすゞさんと明るいほうへ」
DESCRIPTION:💐５局同時放送・毎週水曜日放送のちひろレギュラー番組💐\n金子みすゞの詩の朗読・ご紹介など、みすゞさんについてたっぷりお届け ❤ 30分番組です♪ \n  \n●と　き：　毎週水曜日 \n●時　間：　午前11：00～ \n●ラジオ局：　５局同時放送　 \n□FM-NANAKO（萩市） \n□FM AQUA（長門市） \n□COME ON ! FM（下関市内及び山陽小野田市、北九州市門司区・小倉北区の各一部） \n□しゅうなんFM（周南市・下松市、光市の一部） \n□FMスマイルウエ～ブ（山陽小野田市、宇部市・美祢市・下関市の一部地域） \n  \n●番組詳細：　『みすゞさんと明るいほうへ』（FM-NANAKO） \n●パーソナリティ：　ちひろ \n  \n●周波数：　 \nFM-NANAKO／77.5MHz　　FM AQUA／87.8MHz　　COME ON！FM／76.4MHz \nしゅうなんFM／78.4MH　　FMスマイルウエ～ブ／89.7MHz \n  \n●インターネットで聴く：　※全国どこでもインターネットでラジオが聴けるページです。 \n  \n■サイマルラジオで聴く \n中国地区の「COME ON! FM」  or  「しゅうなんFM」　の　「LISTEN♪」　をクリックしてください♪ \n■COME ON! FMををインターネットで聴く \n■FMスマイルウエ～ブをインターネットで聴く \n  \n●リクエスト＆メッセージ🎵：　misuzufm.0407@gmail.com \nもしくは　FM-NANAKO／775@haginet.ne.jp　　FM AQUA／878@fmaqua.jp　　COME ON！FM／こちらから　　 \nしゅうなんFM／studio@fms784.co.jp　　FMスマイルウエ～ブ／こちらから \n  \n●再放送：　FM-NANAKO（萩市）／毎週土曜日 午後3：00～　　FM AQUA（長門市）／毎週日曜日午前11：00～
URL:https://chihirosound.com/event/10508
CATEGORIES:オススメ,ラジオ
ORGANIZER;CN="FM-NANAKO":MAILTO:775@haginet.ne.jp
END:VEVENT
BEGIN:VEVENT
DTSTART;TZID=Asia/Tokyo:20210711T140000
DTEND;TZID=Asia/Tokyo:20210711T143000
DTSTAMP:20260425T214132
CREATED:20210619T142817Z
LAST-MODIFIED:20210701T114544Z
UID:10480-1626012000-1626013800@chihirosound.com
SUMMARY:KRYラジオ「ちひろDEブレイク」
DESCRIPTION:♠♣♥♦毎週日曜日放送のちひろレギュラー番組♠♣♥♦\nコンサート会場での裏話、ＣＤアルバム制作秘話、名言コーナー、金子みすゞの詩をご紹介など、内容盛り沢山の30分です♪ \n  \n●毎週日曜日：　午後2：00～ \n●パーソナリティ：　ちひろ、瀬川嘉 \n  \n●ちひろDEブレイク：　Official Website・ブログ・みすゞ心のメッセージ \n●周波数一覧 -KRY山口放送-：　こちら（AM・FMで聴く） \n●パソコン・スマホでKRYラジオが聴ける：　radiko.jp \n  \n●ご意見・ご感想はこちら \nメール：break@kry.co.jp\nＦＡＸ：0834-32-9000\nハガキ：〒745-8686　山口放送「ちひろDEブレイク」係 \nメッセージフォームはこちらから
URL:https://chihirosound.com/event/10480
CATEGORIES:オススメ,ラジオ
END:VEVENT
BEGIN:VEVENT
DTSTART;TZID=Asia/Tokyo:20210711T110000
DTEND;TZID=Asia/Tokyo:20210711T113000
DTSTAMP:20260425T214132
CREATED:20210619T144948Z
LAST-MODIFIED:20210701T120703Z
UID:10506-1626001200-1626003000@chihirosound.com
SUMMARY:FM AQUA〔山口県〕
DESCRIPTION:💐ちひろレギュラー番組「みすゞさんと明るいほうへ」💐（再放送）\n金子みすゞの詩の朗読・ご紹介など、みすゞさんについてたっぷりお届け ❤ 30分番組です♪ \n  \n●と　き：　毎週日曜日 \n●時　間：　午前11：00～ \n●ラジオ局：　FM AQUA \n  \n●番組詳細：　『みすゞさんと明るいほうへ』（FM AQUA） \n●パーソナリティ：　ちひろ \n  \n●周波数：　FM AQUA／87.8MHz \n●放送エリア：　長門市を中心としたエリア、周辺受信エリア \n  \n●リクエスト＆メッセージ🎵：　FM AQUA／878@fmaqua.jp \n●レギュラー放送：　毎週水曜日 午前11：00～　 \n5局同時放送　FM-NANAKO（萩市）、FM AQUA（長門市）、COME！ON FM（下関市）、しゅうなんFM（周南市・下松市、光市の一部）、FMスマイルウエ～ブ（山陽小野田市）
URL:https://chihirosound.com/event/10506
CATEGORIES:ラジオ
ORGANIZER;CN="FM AQUA":MAILTO:878@fmaqua.jp
END:VEVENT
BEGIN:VEVENT
DTSTART;TZID=Asia/Tokyo:20210710T150000
DTEND;TZID=Asia/Tokyo:20210710T153000
DTSTAMP:20260425T214132
CREATED:20210619T152212Z
LAST-MODIFIED:20210619T152212Z
UID:10538-1625929200-1625931000@chihirosound.com
SUMMARY:FM-NANAKO〔山口県〕
DESCRIPTION:💐ちひろレギュラー番組「みすゞさんと明るいほうへ」💐（再放送）\n金子みすゞの詩の朗読・ご紹介など、みすゞさんについてたっぷりお届け ❤ 30分番組です♪ \n  \n●と　き：　毎週土曜日 \n●時　間：　午後3：00～ \n●ラジオ局：　FM-NANAKO（萩市） \n  \n●番組詳細：　『みすゞさんと明るいほうへ』（FM-NANAKO） \n●パーソナリティ：　ちひろ \n  \n●周波数：　FM-NANAKO／77.5MHz \n●放送エリア：　萩市を中心としたエリア、周辺受信エリア \n  \n●リクエスト＆メッセージ🎵：　FM-NANAKO／775@haginet.ne.jp　 \n●レギュラー放送：　毎週水曜日 午前11：00～　３局同時放送　FM-NANAKO（萩市）、FM AQUA（長門市）、COME！ON FM（下関市） \n 
URL:https://chihirosound.com/event/10538
CATEGORIES:ラジオ
ORGANIZER;CN="FM-NANAKO":MAILTO:775@haginet.ne.jp
END:VEVENT
BEGIN:VEVENT
DTSTART;TZID=Asia/Tokyo:20210707T110000
DTEND;TZID=Asia/Tokyo:20210707T113000
DTSTAMP:20260425T214132
CREATED:20210619T144820Z
LAST-MODIFIED:20210701T132519Z
UID:10504-1625655600-1625657400@chihirosound.com
SUMMARY:５局Radio「みすゞさんと明るいほうへ」
DESCRIPTION:💐５局同時放送・毎週水曜日放送のちひろレギュラー番組💐\n金子みすゞの詩の朗読・ご紹介など、みすゞさんについてたっぷりお届け ❤ 30分番組です♪ \n  \n●と　き：　毎週水曜日 \n●時　間：　午前11：00～ \n●ラジオ局：　５局同時放送　 \n□FM-NANAKO（萩市） \n□FM AQUA（長門市） \n□COME ON ! FM（下関市内及び山陽小野田市、北九州市門司区・小倉北区の各一部） \n□しゅうなんFM（周南市・下松市、光市の一部） \n□FMスマイルウエ～ブ（山陽小野田市、宇部市・美祢市・下関市の一部地域） \n  \n●番組詳細：　『みすゞさんと明るいほうへ』（FM-NANAKO） \n●パーソナリティ：　ちひろ \n  \n●周波数：　 \nFM-NANAKO／77.5MHz　　FM AQUA／87.8MHz　　COME ON！FM／76.4MHz \nしゅうなんFM／78.4MH　　FMスマイルウエ～ブ／89.7MHz \n  \n●インターネットで聴く：　※全国どこでもインターネットでラジオが聴けるページです。 \n  \n■サイマルラジオで聴く \n中国地区の「COME ON! FM」  or  「しゅうなんFM」　の　「LISTEN♪」　をクリックしてください♪ \n■COME ON! FMををインターネットで聴く \n■FMスマイルウエ～ブをインターネットで聴く \n  \n●リクエスト＆メッセージ🎵：　misuzufm.0407@gmail.com \nもしくは　FM-NANAKO／775@haginet.ne.jp　　FM AQUA／878@fmaqua.jp　　COME ON！FM／こちらから　　 \nしゅうなんFM／studio@fms784.co.jp　　FMスマイルウエ～ブ／こちらから \n  \n●再放送：　FM-NANAKO（萩市）／毎週土曜日 午後3：00～　　FM AQUA（長門市）／毎週日曜日午前11：00～
URL:https://chihirosound.com/event/10504
CATEGORIES:オススメ,ラジオ
ORGANIZER;CN="FM-NANAKO":MAILTO:775@haginet.ne.jp
END:VEVENT
BEGIN:VEVENT
DTSTART;TZID=Asia/Tokyo:20210705T130000
DTEND;TZID=Asia/Tokyo:20210705T133000
DTSTAMP:20260425T214132
CREATED:20210701T070322Z
LAST-MODIFIED:20210701T070322Z
UID:10670-1625490000-1625491800@chihirosound.com
SUMMARY:Radio〔山口県〕
DESCRIPTION:【Title】FMスマイルウエ～ブにスタジオゲスト出演！\n●と　き：　7月5日（月） \n●時　間：　午後1：00頃～ 出演 \n●ラジオ局：　FMスマイルウエ～ブ \n●番　組：　『おひるドキ☆ＤＸ』 \n●パーソナリティ：　てる さん、メガネ山口。さん \n●周波数：　89.7MHz \n●放送エリア：　山陽小野田市、周辺受信エリア \n●インターネットで聴く：　※全国どこでもインターネットでラジオが聴けるページです。 \n■スマホやパソコンで聴く♪ \n●リクエスト＆メッセージ：　こちらから
URL:https://chihirosound.com/event/10670
CATEGORIES:オススメ,ラジオ
ORGANIZER;CN="FM%E3%82%B9%E3%83%9E%E3%82%A4%E3%83%AB%E3%82%A6%E3%82%A7%EF%BD%9E%E3%83%96":MAILTO:fm@sw897.jp
END:VEVENT
END:VCALENDAR