BEGIN:VCALENDAR
VERSION:2.0
PRODID:-//ちひろ Official Website ～金子みすゞの心を歌う～  CHIHIRO Official Website - MISUZU KANEKO- - ECPv6.15.11//NONSGML v1.0//EN
CALSCALE:GREGORIAN
METHOD:PUBLISH
X-ORIGINAL-URL:https://chihirosound.com
X-WR-CALDESC:ちひろ Official Website ～金子みすゞの心を歌う～  CHIHIRO Official Website - MISUZU KANEKO- のイベント
REFRESH-INTERVAL;VALUE=DURATION:PT1H
X-Robots-Tag:noindex
X-PUBLISHED-TTL:PT1H
BEGIN:VTIMEZONE
TZID:Asia/Tokyo
BEGIN:STANDARD
TZOFFSETFROM:+0900
TZOFFSETTO:+0900
TZNAME:JST
DTSTART:20220101T000000
END:STANDARD
END:VTIMEZONE
BEGIN:VEVENT
DTSTART;TZID=Asia/Tokyo:20230902T133000
DTEND;TZID=Asia/Tokyo:20230902T163000
DTSTAMP:20260421T024225
CREATED:20230113T024821Z
LAST-MODIFIED:20230823T152716Z
UID:15401-1693661400-1693672200@chihirosound.com
SUMMARY:Concert〔広島県〕
DESCRIPTION:【Title】「親鸞聖人御誕生850年・立教開宗800年慶讃法要」記念行事\n安芸教区布教団「第30回 聞法の集い」ちひろミニコンサート\n●と　き：　9月2日（土） \n●ところ：　浄土真宗本願寺派 広島別院 本堂（広島市中区寺町1-19） \n※会場の地図はこちら \n●時　間：　13：30～ \n●対　象：　どなたでもOK \n●参加費：　無料 \n●主　催：　浄土真宗本願寺派 安芸教区布教団 \n●お問合せ：　電話／082-231-0302 \n \n 
URL:https://chihirosound.com/event/15401
LOCATION:本願寺 広島別院\, 広島県広島市中区寺町１−１９\, 広島市\, 広島県\, 730-0801\, 日本
CATEGORIES:オススメ,コンサート
ATTACH;FMTTYPE=image/jpeg:https://chihirosound.com/wp-content/uploads/2023/08/monbou2023-A4-ol_page-0001.jpg
END:VEVENT
BEGIN:VEVENT
DTSTART;TZID=Asia/Tokyo:20230903T110000
DTEND;TZID=Asia/Tokyo:20230903T113000
DTSTAMP:20260421T024225
CREATED:20230424T044344Z
LAST-MODIFIED:20230424T044344Z
UID:16077-1693738800-1693740600@chihirosound.com
SUMMARY:Radio〔再放送〕
DESCRIPTION:💐９局Radio放送 ちひろレギュラー番組「みすゞさんと明るいほうへ」💐\n金子みすゞの詩の朗読・ご紹介など、みすゞさんについてたっぷりお届け ❤ 30分番組です♪ \n※毎週水曜日に放送している番組を再放送！ \n  \n●と　き：　毎週日曜日 \n●時　間：　午前11：00～ \n●ラジオ局：　FM AQUA \n  \n●番組詳細：　『みすゞさんと明るいほうへ』 \n●パーソナリティ：　ちひろ \n  \n●周波数：　FM AQUA／87.8MHz \n●放送エリア：　長門市を中心としたエリア、周辺受信エリア \n  \n●リクエスト＆メッセージ🎵：　FM AQUA／878@fmaqua.jp \n●レギュラー放送：　 \n・毎週水曜日 午前11：00～ ／ FM-NANAKO（萩市）、FM AQUA（長門市）、COME！ON FM（下関市）、しゅうんなんFM（周南・下松エリア）　 \n・毎週水曜日 午前11：30～ ／ FMはつかいち（広島県廿日市市） \n・毎週水曜日 午後1：00～ ／ FMスマイルウエ～ブ（山陽小野田市）　　　 \n・毎週水曜日 夜10：00～ ／ KOCOラジ＜郡山コミュニティ放送＞（福島県郡山市） \n・毎週土曜日 午前9：00～ ／ FMわっしょい（防府市）
URL:https://chihirosound.com/event/16077
LOCATION:三重県
CATEGORIES:オススメ,ラジオ
END:VEVENT
BEGIN:VEVENT
DTSTART;TZID=Asia/Tokyo:20230903T143000
DTEND;TZID=Asia/Tokyo:20230903T150000
DTSTAMP:20260421T024225
CREATED:20230424T040652Z
LAST-MODIFIED:20230424T040652Z
UID:16022-1693751400-1693753200@chihirosound.com
SUMMARY:KRYラジオ「ちひろDEブレイク」
DESCRIPTION:♠♣♥♦毎週日曜日放送のちひろレギュラー番組♠♣♥♦\nコンサート会場での裏話、ＣＤアルバム制作秘話、名言コーナー、金子みすゞの詩をご紹介など、内容盛り沢山の30分です♪ \n  \n●毎週日曜日：　14：30～ \n●パーソナリティ：　ちひろ、瀬川 嘉 \n  \n●ちひろDEブレイク：　Official Website・ブログ・みすゞ心のメッセージ \n●周波数一覧 -KRY山口放送-：　こちら（AM・FMで聴く） \n●パソコン・スマホでKRYラジオが聴ける：　radiko.jp \n  \n●ご意見・ご感想はこちら \nメール：break@kry.co.jp\nＦＡＸ：0834-32-9000\nハガキ：〒745-8686　山口放送「ちひろDEブレイク」係 \nメッセージフォームはこちらから
URL:https://chihirosound.com/event/16022
LOCATION:三重県
CATEGORIES:オススメ,ラジオ
END:VEVENT
BEGIN:VEVENT
DTSTART;TZID=Asia/Tokyo:20230906T110000
DTEND;TZID=Asia/Tokyo:20230906T113000
DTSTAMP:20260421T024225
CREATED:20230424T060802Z
LAST-MODIFIED:20230424T060802Z
UID:16194-1693998000-1693999800@chihirosound.com
SUMMARY:９局Radio「みすゞさんと明るいほうへ」
DESCRIPTION:💐９局Radio放送・ちひろレギュラー番組💐\n金子みすゞの詩の朗読・ご紹介など、みすゞさんについてたっぷりお届け ❤ 30分番組です♪ \n  \n●番組詳細：　『みすゞさんと明るいほうへ』 \n●パーソナリティ：　ちひろ \n  \n●レギュラー放送時間：　 \n毎週水曜日 午前11：00～／FM-NANAKO、FM AQUA、COME ON！FM、しゅうなんFM \n毎週水曜日 午前11：30～／FMはつかいち \n毎週水曜日 午後1：00～／FMスマイルウエ～ブ \n毎週水曜日 夜10：00～／KOCOラジ＜郡山コミュニティ放送＞ \n毎週土曜日 午前9：00～／FMわっしょい \n  \n●再放送：　FM-NANAKO／毎週土曜日 午後3：00～　　FM AQUA／毎週日曜日午前11：00～ \n  \n●周波数：　 \nFM-NANAKO／77.5MHz　　FM AQUA／87.8MHz　　COME ON！FM／76.4MHz \nしゅうなんFM／78.4MHz　　FMスマイルウエ～ブ／89.7MHz　　FMわっしょい／77.3MHz \nFMはつかいち／76.1MHz　KOCOラジ／79.1MHz \n  \n●インターネットで聴く：　※全国どこでもインターネットでラジオが聴けるページです。 \n  \n■JCBAインターネットサイマルラジオで聴く \n中国地区の「COME ON! FM」  or  「しゅうなんFM」　の　「LISTEN♪」　をクリックしてください♪ \n■COME ON! FMをインターネットで聴く \n■FMはつかいちをインターネットで聴く \n■FMスマイルウエ～ブをインターネットで聴く \n■FMわっしょいをインターネットで聴く（土曜日 午前9:00～） \n  \n■サイマルラジオで聴く \n東北地区の「郡山コミュニティ放送」　の　「放送を聴く」　をクリックしてください♪ \n■KOCOラジ＜郡山コミュニティ放送＞をインターネットで聴く（水曜日 夜10：00～） \n  \n  \n●リクエスト＆メッセージ🎵：　misuzufm.0407@gmail.com \nもしくは　FM-NANAKO／775@haginet.ne.jp　　FM AQUA／878@fmaqua.jp　　COME ON！FM／こちらから　　 \nしゅうなんFM／studio@fms784.co.jp　　　FMスマイルウエ～ブ／こちらから　　　FMわっしょい／こちらから \nFMはつかいち／こちらから　　KOCOラジ＜郡山コミュニティ放送＞／こちらから \n  \n●各局website： \n□FM-NANAKO（萩市） \n□FM AQUA（長門市） \n□COME ON ! FM（下関市内及び山陽小野田市、北九州市門司区・小倉北区の各一部） \n□しゅうなんFM（周南市・下松市、光市の一部） \n□FMはつかいち（広島県廿日市市）※水曜日 午前11：30～ \n□FMスマイルウエ～ブ（山陽小野田市、宇部市・美祢市・下関市の一部地域） ※水曜日 午後1：00～ \n□KOCOラジ（福島県郡山市） ※水曜日 夜10：00～ \n□FMわっしょい（防府市） ※土曜日 午前9：00～
URL:https://chihirosound.com/event/16194
LOCATION:三重県
CATEGORIES:オススメ,ラジオ
END:VEVENT
BEGIN:VEVENT
DTSTART;TZID=Asia/Tokyo:20230910T110000
DTEND;TZID=Asia/Tokyo:20230910T113000
DTSTAMP:20260421T024225
CREATED:20230424T044427Z
LAST-MODIFIED:20230424T044427Z
UID:16079-1694343600-1694345400@chihirosound.com
SUMMARY:Radio〔再放送〕
DESCRIPTION:💐９局Radio放送 ちひろレギュラー番組「みすゞさんと明るいほうへ」💐\n金子みすゞの詩の朗読・ご紹介など、みすゞさんについてたっぷりお届け ❤ 30分番組です♪ \n※毎週水曜日に放送している番組を再放送！ \n  \n●と　き：　毎週日曜日 \n●時　間：　午前11：00～ \n●ラジオ局：　FM AQUA \n  \n●番組詳細：　『みすゞさんと明るいほうへ』 \n●パーソナリティ：　ちひろ \n  \n●周波数：　FM AQUA／87.8MHz \n●放送エリア：　長門市を中心としたエリア、周辺受信エリア \n  \n●リクエスト＆メッセージ🎵：　FM AQUA／878@fmaqua.jp \n●レギュラー放送：　 \n・毎週水曜日 午前11：00～ ／ FM-NANAKO（萩市）、FM AQUA（長門市）、COME！ON FM（下関市）、しゅうんなんFM（周南・下松エリア）　 \n・毎週水曜日 午前11：30～ ／ FMはつかいち（広島県廿日市市） \n・毎週水曜日 午後1：00～ ／ FMスマイルウエ～ブ（山陽小野田市）　　　 \n・毎週水曜日 夜10：00～ ／ KOCOラジ＜郡山コミュニティ放送＞（福島県郡山市） \n・毎週土曜日 午前9：00～ ／ FMわっしょい（防府市）
URL:https://chihirosound.com/event/16079
LOCATION:三重県
CATEGORIES:オススメ,ラジオ
END:VEVENT
BEGIN:VEVENT
DTSTART;TZID=Asia/Tokyo:20230910T143000
DTEND;TZID=Asia/Tokyo:20230910T150000
DTSTAMP:20260421T024225
CREATED:20230424T040746Z
LAST-MODIFIED:20230424T040746Z
UID:16024-1694356200-1694358000@chihirosound.com
SUMMARY:KRYラジオ「ちひろDEブレイク」
DESCRIPTION:♠♣♥♦毎週日曜日放送のちひろレギュラー番組♠♣♥♦\nコンサート会場での裏話、ＣＤアルバム制作秘話、名言コーナー、金子みすゞの詩をご紹介など、内容盛り沢山の30分です♪ \n  \n●毎週日曜日：　14：30～ \n●パーソナリティ：　ちひろ、瀬川 嘉 \n  \n●ちひろDEブレイク：　Official Website・ブログ・みすゞ心のメッセージ \n●周波数一覧 -KRY山口放送-：　こちら（AM・FMで聴く） \n●パソコン・スマホでKRYラジオが聴ける：　radiko.jp \n  \n●ご意見・ご感想はこちら \nメール：break@kry.co.jp\nＦＡＸ：0834-32-9000\nハガキ：〒745-8686　山口放送「ちひろDEブレイク」係 \nメッセージフォームはこちらから
URL:https://chihirosound.com/event/16024
LOCATION:三重県
CATEGORIES:オススメ,ラジオ
END:VEVENT
BEGIN:VEVENT
DTSTART;TZID=Asia/Tokyo:20230913T110000
DTEND;TZID=Asia/Tokyo:20230913T113000
DTSTAMP:20260421T024225
CREATED:20230424T060857Z
LAST-MODIFIED:20230424T060857Z
UID:16196-1694602800-1694604600@chihirosound.com
SUMMARY:９局Radio「みすゞさんと明るいほうへ」
DESCRIPTION:💐９局Radio放送・ちひろレギュラー番組💐\n金子みすゞの詩の朗読・ご紹介など、みすゞさんについてたっぷりお届け ❤ 30分番組です♪ \n  \n●番組詳細：　『みすゞさんと明るいほうへ』 \n●パーソナリティ：　ちひろ \n  \n●レギュラー放送時間：　 \n毎週水曜日 午前11：00～／FM-NANAKO、FM AQUA、COME ON！FM、しゅうなんFM \n毎週水曜日 午前11：30～／FMはつかいち \n毎週水曜日 午後1：00～／FMスマイルウエ～ブ \n毎週水曜日 夜10：00～／KOCOラジ＜郡山コミュニティ放送＞ \n毎週土曜日 午前9：00～／FMわっしょい \n  \n●再放送：　FM-NANAKO／毎週土曜日 午後3：00～　　FM AQUA／毎週日曜日午前11：00～ \n  \n●周波数：　 \nFM-NANAKO／77.5MHz　　FM AQUA／87.8MHz　　COME ON！FM／76.4MHz \nしゅうなんFM／78.4MHz　　FMスマイルウエ～ブ／89.7MHz　　FMわっしょい／77.3MHz \nFMはつかいち／76.1MHz　KOCOラジ／79.1MHz \n  \n●インターネットで聴く：　※全国どこでもインターネットでラジオが聴けるページです。 \n  \n■JCBAインターネットサイマルラジオで聴く \n中国地区の「COME ON! FM」  or  「しゅうなんFM」　の　「LISTEN♪」　をクリックしてください♪ \n■COME ON! FMをインターネットで聴く \n■FMはつかいちをインターネットで聴く \n■FMスマイルウエ～ブをインターネットで聴く \n■FMわっしょいをインターネットで聴く（土曜日 午前9:00～） \n  \n■サイマルラジオで聴く \n東北地区の「郡山コミュニティ放送」　の　「放送を聴く」　をクリックしてください♪ \n■KOCOラジ＜郡山コミュニティ放送＞をインターネットで聴く（水曜日 夜10：00～） \n  \n  \n●リクエスト＆メッセージ🎵：　misuzufm.0407@gmail.com \nもしくは　FM-NANAKO／775@haginet.ne.jp　　FM AQUA／878@fmaqua.jp　　COME ON！FM／こちらから　　 \nしゅうなんFM／studio@fms784.co.jp　　　FMスマイルウエ～ブ／こちらから　　　FMわっしょい／こちらから \nFMはつかいち／こちらから　　KOCOラジ＜郡山コミュニティ放送＞／こちらから \n  \n●各局website： \n□FM-NANAKO（萩市） \n□FM AQUA（長門市） \n□COME ON ! FM（下関市内及び山陽小野田市、北九州市門司区・小倉北区の各一部） \n□しゅうなんFM（周南市・下松市、光市の一部） \n□FMはつかいち（広島県廿日市市）※水曜日 午前11：30～ \n□FMスマイルウエ～ブ（山陽小野田市、宇部市・美祢市・下関市の一部地域） ※水曜日 午後1：00～ \n□KOCOラジ（福島県郡山市） ※水曜日 夜10：00～ \n□FMわっしょい（防府市） ※土曜日 午前9：00～
URL:https://chihirosound.com/event/16196
LOCATION:三重県
CATEGORIES:オススメ,ラジオ
END:VEVENT
BEGIN:VEVENT
DTSTART;TZID=Asia/Tokyo:20230913T174000
DTEND;TZID=Asia/Tokyo:20230913T175500
DTSTAMP:20260421T024225
CREATED:20230829T054959Z
LAST-MODIFIED:20230912T075922Z
UID:17244-1694626800-1694627700@chihirosound.com
SUMMARY:〔Radio〕山口県
DESCRIPTION:【Title】COME ON ! FMにスタジオゲスト出演！\n●と　き：　9月13日（水） \n●時　間：　17：40～17：55 \n●ラジオ局：　COME ON ! FM \n●番　組：　『ゴジラジ！』 \n●パーソナリティ：　ワタナベ九州・上野聖和さん、申 徹也さん \n  \n●周波数：　76.4MHHz \n●放送エリア：　下関を中心とした関門エリア、周辺受信エリア \n●インターネットで聴く：　※全国どこでもインターネットでラジオが聴けるページです。 \n■インターネット放送 \n■サイマルラジオで聴く \n中国地区のCOME ON! FMの「LISTEN♪」をクリックしてください♪ \n●リクエスト＆メッセージ：　こちらから
URL:https://chihirosound.com/event/17244
LOCATION:三重県
CATEGORIES:オススメ,ラジオ
END:VEVENT
BEGIN:VEVENT
DTSTART;TZID=Asia/Tokyo:20230917T110000
DTEND;TZID=Asia/Tokyo:20230917T113000
DTSTAMP:20260421T024225
CREATED:20230424T044512Z
LAST-MODIFIED:20230424T044512Z
UID:16081-1694948400-1694950200@chihirosound.com
SUMMARY:Radio〔再放送〕
DESCRIPTION:💐９局Radio放送 ちひろレギュラー番組「みすゞさんと明るいほうへ」💐\n金子みすゞの詩の朗読・ご紹介など、みすゞさんについてたっぷりお届け ❤ 30分番組です♪ \n※毎週水曜日に放送している番組を再放送！ \n  \n●と　き：　毎週日曜日 \n●時　間：　午前11：00～ \n●ラジオ局：　FM AQUA \n  \n●番組詳細：　『みすゞさんと明るいほうへ』 \n●パーソナリティ：　ちひろ \n  \n●周波数：　FM AQUA／87.8MHz \n●放送エリア：　長門市を中心としたエリア、周辺受信エリア \n  \n●リクエスト＆メッセージ🎵：　FM AQUA／878@fmaqua.jp \n●レギュラー放送：　 \n・毎週水曜日 午前11：00～ ／ FM-NANAKO（萩市）、FM AQUA（長門市）、COME！ON FM（下関市）、しゅうんなんFM（周南・下松エリア）　 \n・毎週水曜日 午前11：30～ ／ FMはつかいち（広島県廿日市市） \n・毎週水曜日 午後1：00～ ／ FMスマイルウエ～ブ（山陽小野田市）　　　 \n・毎週水曜日 夜10：00～ ／ KOCOラジ＜郡山コミュニティ放送＞（福島県郡山市） \n・毎週土曜日 午前9：00～ ／ FMわっしょい（防府市）
URL:https://chihirosound.com/event/16081
LOCATION:三重県
CATEGORIES:オススメ,ラジオ
END:VEVENT
BEGIN:VEVENT
DTSTART;TZID=Asia/Tokyo:20230917T143000
DTEND;TZID=Asia/Tokyo:20230917T150000
DTSTAMP:20260421T024225
CREATED:20230424T040853Z
LAST-MODIFIED:20230424T040853Z
UID:16026-1694961000-1694962800@chihirosound.com
SUMMARY:KRYラジオ「ちひろDEブレイク」
DESCRIPTION:♠♣♥♦毎週日曜日放送のちひろレギュラー番組♠♣♥♦\nコンサート会場での裏話、ＣＤアルバム制作秘話、名言コーナー、金子みすゞの詩をご紹介など、内容盛り沢山の30分です♪ \n  \n●毎週日曜日：　14：30～ \n●パーソナリティ：　ちひろ、瀬川 嘉 \n  \n●ちひろDEブレイク：　Official Website・ブログ・みすゞ心のメッセージ \n●周波数一覧 -KRY山口放送-：　こちら（AM・FMで聴く） \n●パソコン・スマホでKRYラジオが聴ける：　radiko.jp \n  \n●ご意見・ご感想はこちら \nメール：break@kry.co.jp\nＦＡＸ：0834-32-9000\nハガキ：〒745-8686　山口放送「ちひろDEブレイク」係 \nメッセージフォームはこちらから
URL:https://chihirosound.com/event/16026
LOCATION:三重県
CATEGORIES:オススメ,ラジオ
END:VEVENT
BEGIN:VEVENT
DTSTART;TZID=Asia/Tokyo:20230920T110000
DTEND;TZID=Asia/Tokyo:20230920T113000
DTSTAMP:20260421T024225
CREATED:20230424T060953Z
LAST-MODIFIED:20230424T060953Z
UID:16198-1695207600-1695209400@chihirosound.com
SUMMARY:９局Radio「みすゞさんと明るいほうへ」
DESCRIPTION:💐９局Radio放送・ちひろレギュラー番組💐\n金子みすゞの詩の朗読・ご紹介など、みすゞさんについてたっぷりお届け ❤ 30分番組です♪ \n  \n●番組詳細：　『みすゞさんと明るいほうへ』 \n●パーソナリティ：　ちひろ \n  \n●レギュラー放送時間：　 \n毎週水曜日 午前11：00～／FM-NANAKO、FM AQUA、COME ON！FM、しゅうなんFM \n毎週水曜日 午前11：30～／FMはつかいち \n毎週水曜日 午後1：00～／FMスマイルウエ～ブ \n毎週水曜日 夜10：00～／KOCOラジ＜郡山コミュニティ放送＞ \n毎週土曜日 午前9：00～／FMわっしょい \n  \n●再放送：　FM-NANAKO／毎週土曜日 午後3：00～　　FM AQUA／毎週日曜日午前11：00～ \n  \n●周波数：　 \nFM-NANAKO／77.5MHz　　FM AQUA／87.8MHz　　COME ON！FM／76.4MHz \nしゅうなんFM／78.4MHz　　FMスマイルウエ～ブ／89.7MHz　　FMわっしょい／77.3MHz \nFMはつかいち／76.1MHz　KOCOラジ／79.1MHz \n  \n●インターネットで聴く：　※全国どこでもインターネットでラジオが聴けるページです。 \n  \n■JCBAインターネットサイマルラジオで聴く \n中国地区の「COME ON! FM」  or  「しゅうなんFM」　の　「LISTEN♪」　をクリックしてください♪ \n■COME ON! FMをインターネットで聴く \n■FMはつかいちをインターネットで聴く \n■FMスマイルウエ～ブをインターネットで聴く \n■FMわっしょいをインターネットで聴く（土曜日 午前9:00～） \n  \n■サイマルラジオで聴く \n東北地区の「郡山コミュニティ放送」　の　「放送を聴く」　をクリックしてください♪ \n■KOCOラジ＜郡山コミュニティ放送＞をインターネットで聴く（水曜日 夜10：00～） \n  \n  \n●リクエスト＆メッセージ🎵：　misuzufm.0407@gmail.com \nもしくは　FM-NANAKO／775@haginet.ne.jp　　FM AQUA／878@fmaqua.jp　　COME ON！FM／こちらから　　 \nしゅうなんFM／studio@fms784.co.jp　　　FMスマイルウエ～ブ／こちらから　　　FMわっしょい／こちらから \nFMはつかいち／こちらから　　KOCOラジ＜郡山コミュニティ放送＞／こちらから \n  \n●各局website： \n□FM-NANAKO（萩市） \n□FM AQUA（長門市） \n□COME ON ! FM（下関市内及び山陽小野田市、北九州市門司区・小倉北区の各一部） \n□しゅうなんFM（周南市・下松市、光市の一部） \n□FMはつかいち（広島県廿日市市）※水曜日 午前11：30～ \n□FMスマイルウエ～ブ（山陽小野田市、宇部市・美祢市・下関市の一部地域） ※水曜日 午後1：00～ \n□KOCOラジ（福島県郡山市） ※水曜日 夜10：00～ \n□FMわっしょい（防府市） ※土曜日 午前9：00～
URL:https://chihirosound.com/event/16198
LOCATION:三重県
CATEGORIES:オススメ,ラジオ
END:VEVENT
BEGIN:VEVENT
DTSTART;TZID=Asia/Tokyo:20230924T110000
DTEND;TZID=Asia/Tokyo:20230924T113000
DTSTAMP:20260421T024225
CREATED:20230424T044558Z
LAST-MODIFIED:20230424T044558Z
UID:16083-1695553200-1695555000@chihirosound.com
SUMMARY:Radio〔再放送〕
DESCRIPTION:💐９局Radio放送 ちひろレギュラー番組「みすゞさんと明るいほうへ」💐\n金子みすゞの詩の朗読・ご紹介など、みすゞさんについてたっぷりお届け ❤ 30分番組です♪ \n※毎週水曜日に放送している番組を再放送！ \n  \n●と　き：　毎週日曜日 \n●時　間：　午前11：00～ \n●ラジオ局：　FM AQUA \n  \n●番組詳細：　『みすゞさんと明るいほうへ』 \n●パーソナリティ：　ちひろ \n  \n●周波数：　FM AQUA／87.8MHz \n●放送エリア：　長門市を中心としたエリア、周辺受信エリア \n  \n●リクエスト＆メッセージ🎵：　FM AQUA／878@fmaqua.jp \n●レギュラー放送：　 \n・毎週水曜日 午前11：00～ ／ FM-NANAKO（萩市）、FM AQUA（長門市）、COME！ON FM（下関市）、しゅうんなんFM（周南・下松エリア）　 \n・毎週水曜日 午前11：30～ ／ FMはつかいち（広島県廿日市市） \n・毎週水曜日 午後1：00～ ／ FMスマイルウエ～ブ（山陽小野田市）　　　 \n・毎週水曜日 夜10：00～ ／ KOCOラジ＜郡山コミュニティ放送＞（福島県郡山市） \n・毎週土曜日 午前9：00～ ／ FMわっしょい（防府市）
URL:https://chihirosound.com/event/16083
LOCATION:三重県
CATEGORIES:オススメ,ラジオ
END:VEVENT
BEGIN:VEVENT
DTSTART;TZID=Asia/Tokyo:20230924T143000
DTEND;TZID=Asia/Tokyo:20230924T150000
DTSTAMP:20260421T024225
CREATED:20230424T040947Z
LAST-MODIFIED:20230424T040947Z
UID:16028-1695565800-1695567600@chihirosound.com
SUMMARY:KRYラジオ「ちひろDEブレイク」
DESCRIPTION:♠♣♥♦毎週日曜日放送のちひろレギュラー番組♠♣♥♦\nコンサート会場での裏話、ＣＤアルバム制作秘話、名言コーナー、金子みすゞの詩をご紹介など、内容盛り沢山の30分です♪ \n  \n●毎週日曜日：　14：30～ \n●パーソナリティ：　ちひろ、瀬川 嘉 \n  \n●ちひろDEブレイク：　Official Website・ブログ・みすゞ心のメッセージ \n●周波数一覧 -KRY山口放送-：　こちら（AM・FMで聴く） \n●パソコン・スマホでKRYラジオが聴ける：　radiko.jp \n  \n●ご意見・ご感想はこちら \nメール：break@kry.co.jp\nＦＡＸ：0834-32-9000\nハガキ：〒745-8686　山口放送「ちひろDEブレイク」係 \nメッセージフォームはこちらから
URL:https://chihirosound.com/event/16028
LOCATION:三重県
CATEGORIES:オススメ,ラジオ
END:VEVENT
BEGIN:VEVENT
DTSTART;TZID=Asia/Tokyo:20230927T110000
DTEND;TZID=Asia/Tokyo:20230927T113000
DTSTAMP:20260421T024225
CREATED:20230424T061047Z
LAST-MODIFIED:20230424T061047Z
UID:16200-1695812400-1695814200@chihirosound.com
SUMMARY:９局Radio「みすゞさんと明るいほうへ」
DESCRIPTION:💐９局Radio放送・ちひろレギュラー番組💐\n金子みすゞの詩の朗読・ご紹介など、みすゞさんについてたっぷりお届け ❤ 30分番組です♪ \n  \n●番組詳細：　『みすゞさんと明るいほうへ』 \n●パーソナリティ：　ちひろ \n  \n●レギュラー放送時間：　 \n毎週水曜日 午前11：00～／FM-NANAKO、FM AQUA、COME ON！FM、しゅうなんFM \n毎週水曜日 午前11：30～／FMはつかいち \n毎週水曜日 午後1：00～／FMスマイルウエ～ブ \n毎週水曜日 夜10：00～／KOCOラジ＜郡山コミュニティ放送＞ \n毎週土曜日 午前9：00～／FMわっしょい \n  \n●再放送：　FM-NANAKO／毎週土曜日 午後3：00～　　FM AQUA／毎週日曜日午前11：00～ \n  \n●周波数：　 \nFM-NANAKO／77.5MHz　　FM AQUA／87.8MHz　　COME ON！FM／76.4MHz \nしゅうなんFM／78.4MHz　　FMスマイルウエ～ブ／89.7MHz　　FMわっしょい／77.3MHz \nFMはつかいち／76.1MHz　KOCOラジ／79.1MHz \n  \n●インターネットで聴く：　※全国どこでもインターネットでラジオが聴けるページです。 \n  \n■JCBAインターネットサイマルラジオで聴く \n中国地区の「COME ON! FM」  or  「しゅうなんFM」　の　「LISTEN♪」　をクリックしてください♪ \n■COME ON! FMをインターネットで聴く \n■FMはつかいちをインターネットで聴く \n■FMスマイルウエ～ブをインターネットで聴く \n■FMわっしょいをインターネットで聴く（土曜日 午前9:00～） \n  \n■サイマルラジオで聴く \n東北地区の「郡山コミュニティ放送」　の　「放送を聴く」　をクリックしてください♪ \n■KOCOラジ＜郡山コミュニティ放送＞をインターネットで聴く（水曜日 夜10：00～） \n  \n  \n●リクエスト＆メッセージ🎵：　misuzufm.0407@gmail.com \nもしくは　FM-NANAKO／775@haginet.ne.jp　　FM AQUA／878@fmaqua.jp　　COME ON！FM／こちらから　　 \nしゅうなんFM／studio@fms784.co.jp　　　FMスマイルウエ～ブ／こちらから　　　FMわっしょい／こちらから \nFMはつかいち／こちらから　　KOCOラジ＜郡山コミュニティ放送＞／こちらから \n  \n●各局website： \n□FM-NANAKO（萩市） \n□FM AQUA（長門市） \n□COME ON ! FM（下関市内及び山陽小野田市、北九州市門司区・小倉北区の各一部） \n□しゅうなんFM（周南市・下松市、光市の一部） \n□FMはつかいち（広島県廿日市市）※水曜日 午前11：30～ \n□FMスマイルウエ～ブ（山陽小野田市、宇部市・美祢市・下関市の一部地域） ※水曜日 午後1：00～ \n□KOCOラジ（福島県郡山市） ※水曜日 夜10：00～ \n□FMわっしょい（防府市） ※土曜日 午前9：00～
URL:https://chihirosound.com/event/16200
LOCATION:三重県
CATEGORIES:オススメ,ラジオ
END:VEVENT
BEGIN:VEVENT
DTSTART;TZID=Asia/Tokyo:20230927T165000
DTEND;TZID=Asia/Tokyo:20230927T175300
DTSTAMP:20260421T024225
CREATED:20230812T082427Z
LAST-MODIFIED:20230812T082427Z
UID:17114-1695833400-1695837180@chihirosound.com
SUMMARY:TV〔山口県〕
DESCRIPTION:【Title】KRY山口放送『熱血テレビ』ちひろがスタジオ生出演！\n  \n●と　き：　9月27日（水） \n●時　間：　16：50～17：53 \n●放送局：　KRY山口放送 \n●番　組：　『熱血テレビ』 \n●放送内容：　「生誕120年 今伝えたいみすゞの心」でちひろが詩の朗読を行います！スタジオに生出演！ \n  \n●ご意見・メッセージ：　メール：nekketu@kry.co.jp　FAX：0834-32-7760　　ハガキ：〒745-8686　山口放送「熱血テレビ」係 \n●放送エリア：　山口県内と周辺受信エリア
URL:https://chihirosound.com/event/17114
LOCATION:三重県
CATEGORIES:オススメ,テレビ
END:VEVENT
BEGIN:VEVENT
DTSTART;TZID=Asia/Tokyo:20230930T140000
DTEND;TZID=Asia/Tokyo:20230930T153000
DTSTAMP:20260421T024225
CREATED:20230322T070430Z
LAST-MODIFIED:20230904T164251Z
UID:15755-1696082400-1696087800@chihirosound.com
SUMMARY:Concert〔山口県〕
DESCRIPTION:9月30日「第2回」分は、おかげさまで満席のお申込みをいただき、受付を締め切りました。 \nたくさんのお申込み、有り難うございました！ \n \n【Title】「令和5年度 暮らしと人権セミナー」ちひろコンサート＜第2回＞\n金子みすゞ生誕120年、詩作100年　金子みすゞを語り、歌う \n  \n●と　き：　9月30日（土） \n●ところ：　川棚温泉交流センター（コルトーホール）（山口県下関市豊浦町大字川棚5180） \n※会場の地図はこちら \n※第1回の会場とは日にち・会場が異なりますのでご注意くださいませ♪ \n●時　間：　午後2：00～3：30 \n  \n●入　場：　無料 \n●定　員：　100名　　申込〆切 9月22日（金） \n●事前申込制：　※先着順　 \n●対　象：　下関市内在住・在学・在勤の方 \n  \n●お問合せ・お申込先：　下関市 市民部 人権・男女共同参画課 \n電話、FAX（裏面）、ホームページのお申込みフォーム（QRコード）のいずれかでお申込みください \n電話／083-222-0827　　FAX／083-231-1437　　HP お申込みフォームはこちら \n●主　催：　下関市 市民部 人権・男女共同参画課 \n  \nPDFはこちら（表） \nPDFはこちら（裏）
URL:https://chihirosound.com/event/15755
LOCATION:川棚の杜・コルトーホール\, 山口県下関市豊浦町大字川棚５１８０\, 下関市\, 山口県\, 759-6301\, 日本
CATEGORIES:オススメ,コンサート
ATTACH;FMTTYPE=image/jpeg:https://chihirosound.com/wp-content/uploads/2023/04/f78320fbf909f0f1c5c9f3fd2244a163.jpg
END:VEVENT
END:VCALENDAR