BEGIN:VCALENDAR
VERSION:2.0
PRODID:-//ちひろ Official Website ～金子みすゞの心を歌う～  CHIHIRO Official Website - MISUZU KANEKO- - ECPv6.15.11//NONSGML v1.0//EN
CALSCALE:GREGORIAN
METHOD:PUBLISH
X-WR-CALNAME:ちひろ Official Website ～金子みすゞの心を歌う～  CHIHIRO Official Website - MISUZU KANEKO-
X-ORIGINAL-URL:https://chihirosound.com
X-WR-CALDESC:ちひろ Official Website ～金子みすゞの心を歌う～  CHIHIRO Official Website - MISUZU KANEKO- のイベント
REFRESH-INTERVAL;VALUE=DURATION:PT1H
X-Robots-Tag:noindex
X-PUBLISHED-TTL:PT1H
BEGIN:VTIMEZONE
TZID:Asia/Tokyo
BEGIN:STANDARD
TZOFFSETFROM:+0900
TZOFFSETTO:+0900
TZNAME:JST
DTSTART:20210101T000000
END:STANDARD
END:VTIMEZONE
BEGIN:VEVENT
DTSTART;TZID=Asia/Tokyo:20220501T140000
DTEND;TZID=Asia/Tokyo:20220501T143000
DTSTAMP:20260424T002221
CREATED:20220427T145321Z
LAST-MODIFIED:20220427T145321Z
UID:13023-1651413600-1651415400@chihirosound.com
SUMMARY:KRYラジオ「ちひろDEブレイク」
DESCRIPTION:♠♣♥♦毎週日曜日放送のちひろレギュラー番組♠♣♥♦\nコンサート会場での裏話、ＣＤアルバム制作秘話、名言コーナー、金子みすゞの詩をご紹介など、内容盛り沢山の30分です♪ \n  \n●毎週日曜日：　午後2：00～ \n●パーソナリティ：　ちひろ、瀬川 嘉 \n  \n●ちひろDEブレイク：　Official Website・ブログ・みすゞ心のメッセージ \n●周波数一覧 -KRY山口放送-：　こちら（AM・FMで聴く） \n●パソコン・スマホでKRYラジオが聴ける：　radiko.jp \n  \n●ご意見・ご感想はこちら \nメール：break@kry.co.jp\nＦＡＸ：0834-32-9000\nハガキ：〒745-8686　山口放送「ちひろDEブレイク」係 \nメッセージフォームはこちらから
URL:https://chihirosound.com/event/13023
LOCATION:三重県
CATEGORIES:オススメ,ラジオ
END:VEVENT
BEGIN:VEVENT
DTSTART;TZID=Asia/Tokyo:20220504T110000
DTEND;TZID=Asia/Tokyo:20220504T113000
DTSTAMP:20260424T002221
CREATED:20220427T145926Z
LAST-MODIFIED:20220427T145926Z
UID:13034-1651662000-1651663800@chihirosound.com
SUMMARY:７局Radio「みすゞさんと明るいほうへ」
DESCRIPTION:💐７局Radio放送・ちひろレギュラー番組💐\n金子みすゞの詩の朗読・ご紹介など、みすゞさんについてたっぷりお届け ❤ 30分番組です♪ \n  \n●番組詳細：　『みすゞさんと明るいほうへ』 \n●パーソナリティ：　ちひろ \n  \n●レギュラー放送時間：　 \n毎週水曜日 午前11：00～／FM-NANAKO、FM AQUA、COME ON！FM、しゅうなんFM \n毎週水曜日 午後1：00～／FMスマイルウエ～ブ \n毎週水曜日 夜10：00～／KOCOラジ＜郡山コミュニティ放送＞ \n毎週土曜日 午前9：00～／FMわっしょい \n  \n●再放送：　FM-NANAKO／毎週土曜日 午後3：00～　　FM AQUA／毎週日曜日午前11：00～ \n  \n●周波数：　 \nFM-NANAKO／77.5MHz　　FM AQUA／87.8MHz　　COME ON！FM／76.4MHz \nしゅうなんFM／78.4MHz　　FMスマイルウエ～ブ／89.7MHz　　FMわっしょい／77.3MHz \nKOCOラジ／79.1MHz \n  \n●インターネットで聴く：　※全国どこでもインターネットでラジオが聴けるページです。 \n  \n■JCBAインターネットサイマルラジオで聴く \n中国地区の「COME ON! FM」  or  「しゅうなんFM」　の　「LISTEN♪」　をクリックしてください♪ \n■COME ON! FMをインターネットで聴く \n■FMスマイルウエ～ブをインターネットで聴く \n■FMわっしょいをインターネットで聴く（土曜日 午前9:00～） \n  \n■サイマルラジオで聴く \n東北地区の「郡山コミュニティ放送」　の　「放送を聴く」　をクリックしてください♪ \n■KOCOラジ＜郡山コミュニティ放送＞をインターネットで聴く（水曜日 夜10：00～） \n  \n  \n●リクエスト＆メッセージ🎵：　misuzufm.0407@gmail.com \nもしくは　FM-NANAKO／775@haginet.ne.jp　　FM AQUA／878@fmaqua.jp　　COME ON！FM／こちらから　　 \nしゅうなんFM／studio@fms784.co.jp　　　FMスマイルウエ～ブ／こちらから　　　FMわっしょい／こちらから \nKOCOラジ＜郡山コミュニティ放送＞／こちらから \n  \n●各局website： \n□FM-NANAKO（萩市） \n□FM AQUA（長門市） \n□COME ON ! FM（下関市内及び山陽小野田市、北九州市門司区・小倉北区の各一部） \n□しゅうなんFM（周南市・下松市、光市の一部） \n□FMスマイルウエ～ブ（山陽小野田市、宇部市・美祢市・下関市の一部地域） ※水曜日 午後1：00～ \n□KOCOラジ（福島県郡山市） ※水曜日 夜10：00～ \n□FMわっしょい（防府市） ※土曜日 午前9：00～ \n 
URL:https://chihirosound.com/event/13034
LOCATION:三重県
CATEGORIES:オススメ,ラジオ
END:VEVENT
BEGIN:VEVENT
DTSTART;TZID=Asia/Tokyo:20220508T140000
DTEND;TZID=Asia/Tokyo:20220508T143000
DTSTAMP:20260424T002221
CREATED:20220427T145418Z
LAST-MODIFIED:20220427T145418Z
UID:13025-1652018400-1652020200@chihirosound.com
SUMMARY:KRYラジオ「ちひろDEブレイク」
DESCRIPTION:♠♣♥♦毎週日曜日放送のちひろレギュラー番組♠♣♥♦\nコンサート会場での裏話、ＣＤアルバム制作秘話、名言コーナー、金子みすゞの詩をご紹介など、内容盛り沢山の30分です♪ \n  \n●毎週日曜日：　午後2：00～ \n●パーソナリティ：　ちひろ、瀬川 嘉 \n  \n●ちひろDEブレイク：　Official Website・ブログ・みすゞ心のメッセージ \n●周波数一覧 -KRY山口放送-：　こちら（AM・FMで聴く） \n●パソコン・スマホでKRYラジオが聴ける：　radiko.jp \n  \n●ご意見・ご感想はこちら \nメール：break@kry.co.jp\nＦＡＸ：0834-32-9000\nハガキ：〒745-8686　山口放送「ちひろDEブレイク」係 \nメッセージフォームはこちらから
URL:https://chihirosound.com/event/13025
LOCATION:三重県
CATEGORIES:オススメ,ラジオ
END:VEVENT
BEGIN:VEVENT
DTSTART;TZID=Asia/Tokyo:20220511T110000
DTEND;TZID=Asia/Tokyo:20220511T113000
DTSTAMP:20260424T002221
CREATED:20220427T150011Z
LAST-MODIFIED:20220427T150011Z
UID:13036-1652266800-1652268600@chihirosound.com
SUMMARY:７局Radio「みすゞさんと明るいほうへ」
DESCRIPTION:💐７局Radio放送・ちひろレギュラー番組💐\n金子みすゞの詩の朗読・ご紹介など、みすゞさんについてたっぷりお届け ❤ 30分番組です♪ \n  \n●番組詳細：　『みすゞさんと明るいほうへ』 \n●パーソナリティ：　ちひろ \n  \n●レギュラー放送時間：　 \n毎週水曜日 午前11：00～／FM-NANAKO、FM AQUA、COME ON！FM、しゅうなんFM \n毎週水曜日 午後1：00～／FMスマイルウエ～ブ \n毎週水曜日 夜10：00～／KOCOラジ＜郡山コミュニティ放送＞ \n毎週土曜日 午前9：00～／FMわっしょい \n  \n●再放送：　FM-NANAKO／毎週土曜日 午後3：00～　　FM AQUA／毎週日曜日午前11：00～ \n  \n●周波数：　 \nFM-NANAKO／77.5MHz　　FM AQUA／87.8MHz　　COME ON！FM／76.4MHz \nしゅうなんFM／78.4MHz　　FMスマイルウエ～ブ／89.7MHz　　FMわっしょい／77.3MHz \nKOCOラジ／79.1MHz \n  \n●インターネットで聴く：　※全国どこでもインターネットでラジオが聴けるページです。 \n  \n■JCBAインターネットサイマルラジオで聴く \n中国地区の「COME ON! FM」  or  「しゅうなんFM」　の　「LISTEN♪」　をクリックしてください♪ \n■COME ON! FMをインターネットで聴く \n■FMスマイルウエ～ブをインターネットで聴く \n■FMわっしょいをインターネットで聴く（土曜日 午前9:00～） \n  \n■サイマルラジオで聴く \n東北地区の「郡山コミュニティ放送」　の　「放送を聴く」　をクリックしてください♪ \n■KOCOラジ＜郡山コミュニティ放送＞をインターネットで聴く（水曜日 夜10：00～） \n  \n  \n●リクエスト＆メッセージ🎵：　misuzufm.0407@gmail.com \nもしくは　FM-NANAKO／775@haginet.ne.jp　　FM AQUA／878@fmaqua.jp　　COME ON！FM／こちらから　　 \nしゅうなんFM／studio@fms784.co.jp　　　FMスマイルウエ～ブ／こちらから　　　FMわっしょい／こちらから \nKOCOラジ＜郡山コミュニティ放送＞／こちらから \n  \n●各局website： \n□FM-NANAKO（萩市） \n□FM AQUA（長門市） \n□COME ON ! FM（下関市内及び山陽小野田市、北九州市門司区・小倉北区の各一部） \n□しゅうなんFM（周南市・下松市、光市の一部） \n□FMスマイルウエ～ブ（山陽小野田市、宇部市・美祢市・下関市の一部地域） ※水曜日 午後1：00～ \n□KOCOラジ（福島県郡山市） ※水曜日 夜10：00～ \n□FMわっしょい（防府市） ※土曜日 午前9：00～ \n 
URL:https://chihirosound.com/event/13036
LOCATION:三重県
CATEGORIES:オススメ,ラジオ
END:VEVENT
BEGIN:VEVENT
DTSTART;VALUE=DATE:20220514
DTEND;VALUE=DATE:20220515
DTSTAMP:20260424T002221
CREATED:20220218T071920Z
LAST-MODIFIED:20220218T071920Z
UID:12424-1652486400-1652572799@chihirosound.com
SUMMARY:Concert〔山口県〕
DESCRIPTION:【Title】ちひろコンサート \n●と　き：　5月14日（土） \n●ところ：　山口県 \n●時　間：　午後 \n●入場料：　 \n●対　象：　 \n●主　催：　 \n※詳細は分かり次第お知らせいたします。
URL:https://chihirosound.com/event/12424
LOCATION:三重県
CATEGORIES:オススメ,コンサート
END:VEVENT
BEGIN:VEVENT
DTSTART;TZID=Asia/Tokyo:20220515T140000
DTEND;TZID=Asia/Tokyo:20220515T143000
DTSTAMP:20260424T002221
CREATED:20220427T145503Z
LAST-MODIFIED:20220427T145503Z
UID:13027-1652623200-1652625000@chihirosound.com
SUMMARY:KRYラジオ「ちひろDEブレイク」
DESCRIPTION:♠♣♥♦毎週日曜日放送のちひろレギュラー番組♠♣♥♦\nコンサート会場での裏話、ＣＤアルバム制作秘話、名言コーナー、金子みすゞの詩をご紹介など、内容盛り沢山の30分です♪ \n  \n●毎週日曜日：　午後2：00～ \n●パーソナリティ：　ちひろ、瀬川 嘉 \n  \n●ちひろDEブレイク：　Official Website・ブログ・みすゞ心のメッセージ \n●周波数一覧 -KRY山口放送-：　こちら（AM・FMで聴く） \n●パソコン・スマホでKRYラジオが聴ける：　radiko.jp \n  \n●ご意見・ご感想はこちら \nメール：break@kry.co.jp\nＦＡＸ：0834-32-9000\nハガキ：〒745-8686　山口放送「ちひろDEブレイク」係 \nメッセージフォームはこちらから
URL:https://chihirosound.com/event/13027
LOCATION:三重県
CATEGORIES:オススメ,ラジオ
END:VEVENT
BEGIN:VEVENT
DTSTART;TZID=Asia/Tokyo:20220518T110000
DTEND;TZID=Asia/Tokyo:20220518T113000
DTSTAMP:20260424T002221
CREATED:20220427T150109Z
LAST-MODIFIED:20220427T150109Z
UID:13038-1652871600-1652873400@chihirosound.com
SUMMARY:７局Radio「みすゞさんと明るいほうへ」
DESCRIPTION:💐７局Radio放送・ちひろレギュラー番組💐\n金子みすゞの詩の朗読・ご紹介など、みすゞさんについてたっぷりお届け ❤ 30分番組です♪ \n  \n●番組詳細：　『みすゞさんと明るいほうへ』 \n●パーソナリティ：　ちひろ \n  \n●レギュラー放送時間：　 \n毎週水曜日 午前11：00～／FM-NANAKO、FM AQUA、COME ON！FM、しゅうなんFM \n毎週水曜日 午後1：00～／FMスマイルウエ～ブ \n毎週水曜日 夜10：00～／KOCOラジ＜郡山コミュニティ放送＞ \n毎週土曜日 午前9：00～／FMわっしょい \n  \n●再放送：　FM-NANAKO／毎週土曜日 午後3：00～　　FM AQUA／毎週日曜日午前11：00～ \n  \n●周波数：　 \nFM-NANAKO／77.5MHz　　FM AQUA／87.8MHz　　COME ON！FM／76.4MHz \nしゅうなんFM／78.4MHz　　FMスマイルウエ～ブ／89.7MHz　　FMわっしょい／77.3MHz \nKOCOラジ／79.1MHz \n  \n●インターネットで聴く：　※全国どこでもインターネットでラジオが聴けるページです。 \n  \n■JCBAインターネットサイマルラジオで聴く \n中国地区の「COME ON! FM」  or  「しゅうなんFM」　の　「LISTEN♪」　をクリックしてください♪ \n■COME ON! FMをインターネットで聴く \n■FMスマイルウエ～ブをインターネットで聴く \n■FMわっしょいをインターネットで聴く（土曜日 午前9:00～） \n  \n■サイマルラジオで聴く \n東北地区の「郡山コミュニティ放送」　の　「放送を聴く」　をクリックしてください♪ \n■KOCOラジ＜郡山コミュニティ放送＞をインターネットで聴く（水曜日 夜10：00～） \n  \n  \n●リクエスト＆メッセージ🎵：　misuzufm.0407@gmail.com \nもしくは　FM-NANAKO／775@haginet.ne.jp　　FM AQUA／878@fmaqua.jp　　COME ON！FM／こちらから　　 \nしゅうなんFM／studio@fms784.co.jp　　　FMスマイルウエ～ブ／こちらから　　　FMわっしょい／こちらから \nKOCOラジ＜郡山コミュニティ放送＞／こちらから \n  \n●各局website： \n□FM-NANAKO（萩市） \n□FM AQUA（長門市） \n□COME ON ! FM（下関市内及び山陽小野田市、北九州市門司区・小倉北区の各一部） \n□しゅうなんFM（周南市・下松市、光市の一部） \n□FMスマイルウエ～ブ（山陽小野田市、宇部市・美祢市・下関市の一部地域） ※水曜日 午後1：00～ \n□KOCOラジ（福島県郡山市） ※水曜日 夜10：00～ \n□FMわっしょい（防府市） ※土曜日 午前9：00～ \n 
URL:https://chihirosound.com/event/13038
LOCATION:三重県
CATEGORIES:オススメ,ラジオ
END:VEVENT
BEGIN:VEVENT
DTSTART;TZID=Asia/Tokyo:20220522T140000
DTEND;TZID=Asia/Tokyo:20220522T143000
DTSTAMP:20260424T002221
CREATED:20220427T145612Z
LAST-MODIFIED:20220427T145612Z
UID:13029-1653228000-1653229800@chihirosound.com
SUMMARY:KRYラジオ「ちひろDEブレイク」
DESCRIPTION:♠♣♥♦毎週日曜日放送のちひろレギュラー番組♠♣♥♦\nコンサート会場での裏話、ＣＤアルバム制作秘話、名言コーナー、金子みすゞの詩をご紹介など、内容盛り沢山の30分です♪ \n  \n●毎週日曜日：　午後2：00～ \n●パーソナリティ：　ちひろ、瀬川 嘉 \n  \n●ちひろDEブレイク：　Official Website・ブログ・みすゞ心のメッセージ \n●周波数一覧 -KRY山口放送-：　こちら（AM・FMで聴く） \n●パソコン・スマホでKRYラジオが聴ける：　radiko.jp \n  \n●ご意見・ご感想はこちら \nメール：break@kry.co.jp\nＦＡＸ：0834-32-9000\nハガキ：〒745-8686　山口放送「ちひろDEブレイク」係 \nメッセージフォームはこちらから
URL:https://chihirosound.com/event/13029
LOCATION:三重県
CATEGORIES:オススメ,ラジオ
END:VEVENT
BEGIN:VEVENT
DTSTART;TZID=Asia/Tokyo:20220525T110000
DTEND;TZID=Asia/Tokyo:20220525T113000
DTSTAMP:20260424T002221
CREATED:20220427T150210Z
LAST-MODIFIED:20220427T150210Z
UID:13040-1653476400-1653478200@chihirosound.com
SUMMARY:７局Radio「みすゞさんと明るいほうへ」
DESCRIPTION:💐７局Radio放送・ちひろレギュラー番組💐\n金子みすゞの詩の朗読・ご紹介など、みすゞさんについてたっぷりお届け ❤ 30分番組です♪ \n  \n●番組詳細：　『みすゞさんと明るいほうへ』 \n●パーソナリティ：　ちひろ \n  \n●レギュラー放送時間：　 \n毎週水曜日 午前11：00～／FM-NANAKO、FM AQUA、COME ON！FM、しゅうなんFM \n毎週水曜日 午後1：00～／FMスマイルウエ～ブ \n毎週水曜日 夜10：00～／KOCOラジ＜郡山コミュニティ放送＞ \n毎週土曜日 午前9：00～／FMわっしょい \n  \n●再放送：　FM-NANAKO／毎週土曜日 午後3：00～　　FM AQUA／毎週日曜日午前11：00～ \n  \n●周波数：　 \nFM-NANAKO／77.5MHz　　FM AQUA／87.8MHz　　COME ON！FM／76.4MHz \nしゅうなんFM／78.4MHz　　FMスマイルウエ～ブ／89.7MHz　　FMわっしょい／77.3MHz \nKOCOラジ／79.1MHz \n  \n●インターネットで聴く：　※全国どこでもインターネットでラジオが聴けるページです。 \n  \n■JCBAインターネットサイマルラジオで聴く \n中国地区の「COME ON! FM」  or  「しゅうなんFM」　の　「LISTEN♪」　をクリックしてください♪ \n■COME ON! FMをインターネットで聴く \n■FMスマイルウエ～ブをインターネットで聴く \n■FMわっしょいをインターネットで聴く（土曜日 午前9:00～） \n  \n■サイマルラジオで聴く \n東北地区の「郡山コミュニティ放送」　の　「放送を聴く」　をクリックしてください♪ \n■KOCOラジ＜郡山コミュニティ放送＞をインターネットで聴く（水曜日 夜10：00～） \n  \n  \n●リクエスト＆メッセージ🎵：　misuzufm.0407@gmail.com \nもしくは　FM-NANAKO／775@haginet.ne.jp　　FM AQUA／878@fmaqua.jp　　COME ON！FM／こちらから　　 \nしゅうなんFM／studio@fms784.co.jp　　　FMスマイルウエ～ブ／こちらから　　　FMわっしょい／こちらから \nKOCOラジ＜郡山コミュニティ放送＞／こちらから \n  \n●各局website： \n□FM-NANAKO（萩市） \n□FM AQUA（長門市） \n□COME ON ! FM（下関市内及び山陽小野田市、北九州市門司区・小倉北区の各一部） \n□しゅうなんFM（周南市・下松市、光市の一部） \n□FMスマイルウエ～ブ（山陽小野田市、宇部市・美祢市・下関市の一部地域） ※水曜日 午後1：00～ \n□KOCOラジ（福島県郡山市） ※水曜日 夜10：00～ \n□FMわっしょい（防府市） ※土曜日 午前9：00～ \n 
URL:https://chihirosound.com/event/13040
LOCATION:三重県
CATEGORIES:オススメ,ラジオ
END:VEVENT
BEGIN:VEVENT
DTSTART;TZID=Asia/Tokyo:20220529T140000
DTEND;TZID=Asia/Tokyo:20220529T150000
DTSTAMP:20260424T002221
CREATED:20220427T145720Z
LAST-MODIFIED:20220528T005854Z
UID:13032-1653832800-1653836400@chihirosound.com
SUMMARY:特別番組・KRYラジオ「ちひろDEブレイク」
DESCRIPTION:♠♣♥♦毎週日曜日放送のちひろレギュラー番組♠♣♥♦\nみすゞさんの遺稿集が見つかって40年 \n「ちひろDEブレイク スペシャル」〜金子みすゞがつなぐ人と人〜 \n  \n●毎週日曜日：　午後2：00～3：00　の　1時間放送拡大版 \n●パーソナリティ：　ちひろ、瀬川 嘉 \n  \n●ちひろDEブレイク：　Official Website・ブログ・みすゞ心のメッセージ \n●周波数一覧 -KRY山口放送-：　こちら（AM・FMで聴く） \n●パソコン・スマホでKRYラジオが聴ける：　radiko.jp \n  \n●ご意見・ご感想はこちら \nメール：break@kry.co.jp\nＦＡＸ：0834-32-9000\nハガキ：〒745-8686　山口放送「ちひろDEブレイク」係 \nメッセージフォームはこちらから \n 
URL:https://chihirosound.com/event/13032
LOCATION:三重県
CATEGORIES:オススメ,ラジオ
ATTACH;FMTTYPE=image/jpeg:https://chihirosound.com/wp-content/uploads/2022/04/IMG_3591-scaled.jpg
END:VEVENT
BEGIN:VEVENT
DTSTART;TZID=Asia/Tokyo:20220531T170000
DTEND;TZID=Asia/Tokyo:20220603T170000
DTSTAMP:20260424T002221
CREATED:20220526T143954Z
LAST-MODIFIED:20220526T143954Z
UID:13250-1654016400-1654275600@chihirosound.com
SUMMARY:Cable TV〔山口県〕
DESCRIPTION:【Title】J:COM WEEKLY トピックス「街人巡り」にちひろが出演！\n  \n●と　き：　■5月31日（火）17：00／初回放送　～ 6月3日（金）17：00まで \n●時　間：　①17：00～　②20：30～　③翌11：00～　④翌14：00～　⑤翌16：00～　 \n  \n●放送局：　J:COM \n●番　組：　WEEKLYトピックス～下関～ \n●概　要：　ちひろの特集が5分間ON AIRされます！ \n●ご視聴方法：　対象エリアの加入者（下関市  ※菊川町／豊浦町は一部） \n地域情報アプリ「ど・ろーかる」でどなたでもご覧いただけます \n  \nPDFはこちら
URL:https://chihirosound.com/event/13250
LOCATION:三重県
CATEGORIES:オススメ,テレビ
ATTACH;FMTTYPE=image/jpeg:https://chihirosound.com/wp-content/uploads/2022/05/d1c943afd05159e68843932aa09b4204.jpg
END:VEVENT
END:VCALENDAR