BEGIN:VCALENDAR
VERSION:2.0
PRODID:-//ちひろ Official Website ～金子みすゞの心を歌う～  CHIHIRO Official Website - MISUZU KANEKO- - ECPv6.15.11//NONSGML v1.0//EN
CALSCALE:GREGORIAN
METHOD:PUBLISH
X-ORIGINAL-URL:https://chihirosound.com
X-WR-CALDESC:ちひろ Official Website ～金子みすゞの心を歌う～  CHIHIRO Official Website - MISUZU KANEKO- のイベント
REFRESH-INTERVAL;VALUE=DURATION:PT1H
X-Robots-Tag:noindex
X-PUBLISHED-TTL:PT1H
BEGIN:VTIMEZONE
TZID:Asia/Tokyo
BEGIN:STANDARD
TZOFFSETFROM:+0900
TZOFFSETTO:+0900
TZNAME:JST
DTSTART:20230101T000000
END:STANDARD
END:VTIMEZONE
BEGIN:VEVENT
DTSTART;TZID=Asia/Tokyo:20241010T133000
DTEND;TZID=Asia/Tokyo:20241010T140000
DTSTAMP:20260420T063638
CREATED:20240124T062811Z
LAST-MODIFIED:20240919T144143Z
UID:18480-1728567000-1728568800@chihirosound.com
SUMMARY:Concert〔栃木県〕
DESCRIPTION:【Title】ちひろコンサート\nみんなちがって、みんないい生き方を ～金子みすゞの心とともに～\n●と　き：　10月10日（木） \n●ところ：　那須町立黒田原小学校 体育館（栃木県那須郡那須町寺子乙3968-1） \n●時　間：　13：30～ \n●対　象：　児童・保護者・地域・一般どなたでもOK \n●主　催：　那須町立黒田原小学校 \n 
URL:https://chihirosound.com/event/18480
LOCATION:那須町立黒田原小学校\, 栃木県那須郡那須町寺子乙3968-1\, 那須町\, 栃木県\, 325-0003\, Japan
CATEGORIES:オススメ,コンサート
ATTACH;FMTTYPE=image/png:https://chihirosound.com/wp-content/uploads/2024/01/fd6f7114c0ae5a9950455d00ecd5ed53.png
END:VEVENT
END:VCALENDAR